Workbook
Name _29.1.2022: Seniori!$K$6

Sheet Seniori
A1: DREZÚRNY REBRÍČEK
A2: Jazdec roka 2026
A4: Seniori
A6: Poradie | B6: Jazdec | C6: Licencia SJF | D6: Kôň | E6: Licencia SJF | F6: Rok nar. | G6: Subjekt | I6: Body celkom | J6: Spolu 15 NAJ | K6: 06.-08.02. | S6: 27.2.-1.3. | AH6: 05.-07.03. | AJ6: 05.-07.03. | AM6: 21.-22.3. | AO6: 5.4. | AP6: 2.-4.4. | BD6: 11.4. | BI6: 18.-19.4. | CF6: 25.-26.4. | CR6: 1.5. | CY6: 3.5. | DA6: 8.-10.5. | DC6: 9.-10.5. | DK6: 9.-10.5. | EC6: 21.-24.5. | EE6: 23.-24.5. | EY6: 30.-31.5. | FK6: 5.-7.6. | FP6: 13.6. | FY6: 14.6. | GA6: 27.-28.6. | GD6: 26.-28.6. | GI6: 26.-27.6. | HI6: 4.7. | HS6: 11.-12.7. | IQ6: 15.-19.7. | IS6: 18.7. | IU6: 25.-26.7. | JC6: 31.7. | JL6: 5.-9.8. | JN6: 15.-16.8. | KE6: 22.-23.8. | KG6: 22.-23.8. | KY6: 28.8. | LI6: 28.-29.8. | LU6: 29.-30.8. | MH6: 5.- 6.9. | MX6: 11.-13.9. | NW6: 12.9.
K7: Motešice | S7: Motešice | AH7: Motešice | AJ7: Motešice CDI | AM7: Budapešť | AO7: Brno | AP7: Motešice | BD7: Kisbabolna | BI7: Dunajský Klátov | CF7: Těšánky | CR7: Rs Team | CY7: Brno | DA7: Las Cadenas | DC7: Olomouc | DK7: Szilvásvárad | EC7: CDI Olomouc | EE7: Vígľaš | EY7: Těšánky | FK7: CDI Brno | FP7: RS Team | FY7: Chotěbuz | GA7: Šamorín | GD7: Šamorín CDI | GI7: Motešice | HI7: RS Team | HS7: Dunaj. Klátov (MSR deti, juniori, ml. jazdci) | IQ7: ME Detí Olomouc | IS7: Frenštát p/R | IU7: Szilvasvárad | JC7: RS Team | JL7: MS mladých koní (Verden) | JN7: Motešice | KE7: Panská Lícha | KG7: Pony MSR (Topoľčianky) | KY7: Rs Team | LI7: Motešice | LU7: Vyškov | MH7: Masarykov Dvor | MX7: Topoľčianky MSR YH+Seniori | NW7: Frenštát p/R
K8: Z2 | L8: 4r | M8: DUA | N8: DD | O8: 4r | P8: 5rU | Q8: DUA | R8: DD | S8: Z2 | T8: P3 | U8: 4r | V8: 5rU | W8: DUA | X8: DUB | Y8: DD | Z8: DJ | AA8: P3 | AB8: 4r | AC8: 5rU | AD8: DUA | AE8: DUB | AF8: DD | AG8: DJ | AH8: 4r | AI8: DD | AJ8: DUB | AK8: DD | AL8: DJ | AM8: IMII | AN8: U25GP | AO8: 5rU | AP8: P1 | AQ8: P3 | AR8: 4r | AS8: 5rU | AT8: 6rU | AU8: DUA | AV8: DUB | AW8: DD | AX8: 4r | AY8: 5rU | AZ8: 6rU | BA8: DUA | BB8: DUB | BC8: DD | BD8: A4 | BE8: DUA | BF8: LM2 | BG8: DD | BH8: MB4 | BI8: P1 | BJ8: DUA | BK8: 4r | BL8: 5rU | BM8: 6rU | BN8: DD | BO8: LP4 | BP8: LS5 | BQ8: JD | BR8: SG | BS8: IMI | BT8: IMII | BU8: P1 | BV8: DUA | BW8: DD | BX8: JJ | BY8: LP5 | BZ8: LS | CA8: 4r | CB8: 5rF | CC8: YJ | CD8: IMI | CE8: U25 | CF8: 5rU | CG8: JU | CH8: JD | CI8: YU | CJ8: SG | CK8: IMA | CL8: 5rF | CM8: L0 | CN8: DD | CO8: SG | CP8: IM1 | CQ8: IMA | CR8: P3 | CS8: P1 | CT8: Z1 | CU8: Z3 | CV8: DUA | CW8: DD | CX8: LS5 | CY8: Z4 | CZ8: DUA | DA8: 7rU | DB8: 7rF | DC8: 5U | DD8: JU | DE8: JD | DF8: SG | DG8: IMA | DH8: 5F | DI8: JD | DJ8: IMI | DK8: 4U | DL8: MKZ3 | DM8: 5rU | DN8: DUA | DO8: Z3 | DP8: DD | DQ8: LS5 | DR8: SG | DS8: IMI | DT8: 4U | DU8: MKZ4 | DV8: 5rF | DW8: Z4 | DX8: DUA | DY8: DJ | DZ8: L10 | EA8: YJ | EB8: IMI | EC8: 5rU | ED8: 5rF | EE8: P2 | EF8: 4rU | EG8: 5rU | EH8: DUA | EI8: DD | EJ8: JU | EK8: JD | EL8: SG | EM8: LP4 | EN8: IMI | EO8: P3 | EP8: 4rU | EQ8: 5rU | ER8: DUA | ES8: DD | ET8: DJ | EU8: JU | EV8: YJ | EW8: LP4 | EX8: IMI | EY8: DUA | EZ8: L0 | FA8: JU | FB8: JD | FC8: SG | FD8: IMI | FE8: Z4 | FF8: Z5 | FG8: JU | FH8: JD | FI8: SG | FJ8: IMI | FK8: 5rU | FL8: SG | FM8: 5rF | FN8: IMI | FO8: IMIF | FP8: P3 | FQ8: P1 | FR8: MKZ1 | FS8: Z1 | FT8: Z3 | FU8: DUA | FV8: DD | FW8: LS5 | FX8: S5 | FY8: Z4 | FZ8: DUA | GA8: 4r | GB8: 4r | GC8: IMB | GD8: 5rU | GE8: 7rU | GF8: SG | GG8: 5rF | GH8: IMI | GI8: 4r | GJ8: 5rU | GK8: 6rU | GL8: P1 | GM8: P3 | GN8: Z2 | GO8: Z3 | GP8: Z4 | GQ8: DUA | GR8: DUB | GS8: DD | GT8: DJ | GU8: JU | GV8: JD | GW8: 4r | GX8: 5rF | GY8: 6rU | GZ8: P3 | HA8: Z2 | HB8: Z3 | HC8: DUA | HD8: DUB | HE8: DD | HF8: DJ | HG8: JU | HH8: JD | HI8: P4 | HJ8: P1 | HK8: MKZ1 | HL8: Z1 | HM8: Z3 | HN8: DUA | HO8: DD | HP8: L3 | HQ8: LS5 | HR8: S5 | HS8: P3 | HT8: 4r | HU8: 5rU | HV8: 6rU | HW8: DUA | HX8: DUB | HY8: DD | HZ8: JU | IA8: JD | IB8: SG | IC8: IMI | ID8: IMA | IE8: P1 | IF8: P3 | IG8: 4r | IH8: 5rF | II8: 6rF | IJ8: DUA | IK8: DUB | IL8: DJ | IM8: JD | IN8: YJ | IO8: IMI | IP8: IMB | IQ8: DUB | IR8: DD | IS8: DUA | IT8: Z4 | IU8: 5U | IV8: Z3 | IW8: DD | IX8: LS5 | IY8: 5F | IZ8: Z4 | JA8: L10 | JB8: LS6 | JC8: P1 | JD8: P4 | JE8: Z1 | JF8: Z3 | JG8: MKZ1 | JH8: DUA | JI8: L3 | JJ8: DD | JK8: LS6 | JL8: 5U | JM8: 5U | JN8: Z2 | JO8: Z3 | JP8: 4r | JQ8: 5rU | JR8: 6rU | JS8: DUA | JT8: DD | JU8: JU | JV8: Z2 | JW8: P3 | JX8: 4r | JY8: 5rF | JZ8: 6rU | KA8: DUA | KB8: DD | KC8: JD | KD8: Z5 | KE8: Z4 | KF8: Z5 | KG8: 4r | KH8: 5rU | KI8: 6rU | KJ8: P3 | KK8: DUA | KL8: DD | KM8: JU | KN8: YU | KO8: IMI | KP8: 4r | KQ8: 5rF | KR8: 6rF | KS8: P4 | KT8: DUA | KU8: DJ | KV8: JD | KW8: SG | KX8: IMI | KY8: P4 | KZ8: P1 | LA8: MKZ1 | LB8: Z1 | LC8: Z3 | LD8: DUA | LE8: L3 | LF8: DD | LG8: LS6 | LH8: S6 | LI8: Z2 | LJ8: Z3 | LK8: 5rU | LL8: 6rU | LM8: DUA | LN8: DD | LO8: JU | LP8: SG | LQ8: Z2 | LR8: 5rF | LS8: 6rF | LT8: DUA | LU8: Z4 | LV8: DUA | LW8: L0 | LX8: DD | LY8: DJ | LZ8: JU | MA8: S0 | MB8: 4r | MC8: DUA | MD8: Z1 | ME8: L0 | MF8: DD | MG8: JU | MH8: P2 | MI8: DUA | MJ8: 4r | MK8: 5rU | ML8: 6rU | MM8: DD | MN8: LP4 | MO8: JU | MP8: Z4 | MQ8: P4 | MR8: 4r | MS8: 5rU | MT8: 6rU | MU8: L11 | MV8: LP4 | MW8: JJ | MX8: 4r | MY8: 5rU | MZ8: 6rU | NA8: DUA | NB8: DD | NC8: JD | ND8: YU | NE8: IMI | NF8: 4r | NG8: 5rU | NH8: 5rF | NI8: 6rU | NJ8: DUA | NK8: DJ | NL8: JJ | NM8: SG | NN8: 4r | NO8: 5rU | NP8: 5rF | NQ8: 6rF | NR8: DUA | NS8: DD | NT8: JU | NU8: YU | NV8: IMIF | NW8: DUA/K | NX8: Z4/K
A9: 1 | B9: Gombarčíková Tatiana | C9: 5599 | D9: Grevens Everdream | E9: 11237 | F9: 2015 | G9: JK Kubiš Trnava | I9: =SUM(K9:ZR9) -> 333 | J9: {=SUM(LARGE(K9:NY10,_xlfn.SEQUENCE(D131)))} -> 351 | CK9: 21 | CQ9: 17 | DG9: 11 | DJ9: 17 | FC9: 18 | FJ9: 23 | FL9: 22.5 | FN9: 27 | FO9: 34.5 | GC9: 19 | GF9: 19.5 | GH9: 30 | ID9: 10 | IP9: 5 | NM9: 24 | NV9: 34.5
D10: Raheeli Marbella | E10: 13491 | F10: 2021 | I10: =SUM(K10:ZR10) -> 214.5 | AO10: 11 | CF10: 13 | CL10: 10 | DC10: 13 | DH10: 13 | EC10: 9 | ED10: 9 | FK10: 16.5 | FM10: 19.5 | GD10: 19.5 | GG10: 18 | JL10: 12 | JM10: 12 | NG10: 19.5 | NO10: 19.5
A11: 2 | B11: Flaková Kristína | C11: 2366 | D11: Bonnami | E11: 10267 | F11: 2014 | G11: JK pri NŽ Topoľčianky | I11: =SUM(K11:ZR11) -> 253 | J11: {=SUM(LARGE(K11:OD16,_xlfn.SEQUENCE(D131)))} -> 268 | BR11: 17 | BS11: 20 | CD11: 19 | DR11: 13 | DS11: 17 | EB11: 18 | EL11: 17 | EN11: 19 | EX11: 18 | IB11: 17 | IC11: 20 | IO11: 20 | KO11: 21 | KX11: 17
D12: Bonett | E12: 12714 | F12: 2020 | I12: =SUM(K12:ZR12) -> 0
D13: Favory XVIII-19 | E13: 11292 | F13: 2014 | I13: =SUM(K13:ZR13) -> 61 | KM13: 3 | KN13: 6 | KV13: 7 | KW13: 15 | NC13: 5 | ND13: 10 | NL13: 4 | NM13: 8 | NU13: 3
D14: Brisa | E14: 13633 | F14: 2022 | I14: =SUM(K14:ZR14) -> 66 | BJ14: 6 | BK14: 3 | BV14: 9 | CA14: 6 | DK14: 3 | DN14: 6 | DT14: 6 | DX14: 5 | EF14: 6 | EH14: 5 | EP14: 3 | ER14: 6 | HT14: 2
D15: Siglavy XVIII-2 | E15: 13636 | F15: 2022 | I15: =SUM(K15:ZR15) -> 26 | KK15: o | KP15: 3 | KT15: o | MX15: 4 | NA15: 2 | NF15: 10.5 | NJ15: 3 | NN15: 3.5
D16: Neapolitano XIV-16 | E16: 10657 | F16: 2011 | I16: =SUM(K16:ZR16) -> 0 | KG16: o
A17: 3 | B17: Záhorská Silvia | C17: 1742 | D17: Dancing Scarlett | E17: 11490 | F17: 2017 | G17: JK Scarlett Šamorín | I17: =SUM(K17:ZR17) -> 352.5 | J17: {=SUM(LARGE(K17:NB20,_xlfn.SEQUENCE(D131)))} -> 225 | BR17: 3 | BS17: 14 | CD17: 15 | CI17: 13 | CJ17: 12 | CO17: 16 | CP17: 14 | EN17: 12 | EV17: 14 | EX17: 16 | FC17: 12 | FD17: 13 | FI17: 7 | FJ17: 16 | IB17: 11 | IC17: 17 | IN17: 16 | IO17: 16 | KN17: 13 | KO17: 17 | KW17: 13 | KX17: 15 | NE17: 17 | NM17: 15 | NV17: 25.5
D18: Pastorale | E18: 12611 | F18: 2020 | I18: =SUM(K18:ZR18) -> 102 | BK18: 3 | BL18: 4 | CA18: 3 | CB18: 4 | EG18: 5 | EI18: 6 | EQ18: 6 | ES18: 4 | FW18: 2 | KH18: 1 | KL18: o | KQ18: 3 | KU18: 6 | LX18: 7 | LY18: 3 | ME18: 8 | MF18: 7 | MY18: 5 | NG18: 7 | NH18: 7.5 | NP18: 10.5
D19: Graduell | E19: 10972 | F19: 2014 | I19: =SUM(K19:ZR19) -> 0
D20: Madoc | E20: 10993 | I20: =SUM(K20:ZR20) -> 0
A21: 4 | B21: Horná Michaela | C21: 2965 | D21: Forever | E21: 9070 | F21: 2011 | G21: JK pri NŽ Topoľčianky | I21: =SUM(K21:ZR21) -> 223 | J21: {=SUM(LARGE(K21:NH22,_xlfn.SEQUENCE(D131)))} -> 218.5 | BR21: 16 | BS21: 17 | CC21: 16 | CD21: 16 | DR21: 9 | DS21: 14 | EA21: 9 | EB21: 13 | EL21: 15 | EN21: 17 | EV21: 16 | EX21: 13 | IB21: 13 | IC21: 14 | IN21: 13 | IO21: 12
D22: Bella Grande | E22: 13488 | F22: 2021 | I22: =SUM(K22:ZR22) -> 121.5 | BK22: 5 | CA22: 6 | DK22: 5 | DL22: 2 | DT22: 2 | DU22: 1 | EF22: 4 | EG22: 8 | EP22: 6 | EQ22: 8 | HT22: 2 | HU22: 5 | IG22: 4 | IH22: 6 | KG22: 2 | KH22: 2 | KP22: 2 | KQ22: 7 | MX22: 9 | MY22: 8 | NG22: 13.5 | NH22: 5 | NO22: 6 | NP22: 3
A23: 5 | B23: Kuhajda Milan | C23: 4920 | D23: Ariston ER | E23: 9051 | F23: 2010 | G23: JK Jurský Dvor Nitra | I23: =SUM(K23:ZR23) -> 110.5 | J23: {=SUM(LARGE(K23:NN27,_xlfn.SEQUENCE(D131)))} -> 178 | DF23: 12 | DJ23: 13 | EX23: 19 | KN23: 14 | NM23: 22.5 | NV23: 30
D24: Galleria´s Destano´s Dream Come True | E24: 12840 | F24: 2019 | I24: =SUM(K24:ZR24) -> 76 | HV24: 5 | II24: 7 | KI24: 13 | KR24: 12 | NI24: 21 | NQ24: 18
D25: Cala S Wellington | E25: 14027 | F25: 2022 | I25: =SUM(K25:ZR25) -> 20.5 | KG25: 2 | KP25: 5 | NF25: 6 | NN25: 7.5
D26: Dragonfly | E26: 10635 | F26: 2015 | I26: =SUM(K26:ZR26) -> 5 | MM26: 5 | MV26: o
D27: Destina | E27: 13278 | F27: 2020 | I27: =SUM(K27:ZR27) -> 39.5 | BL27: 6 | BV27: 8 | NH27: 12 | NP27: 13.5
A28: 6 | B28: Kintšer David | C28: 2372 | D28: Siglavy XV-2 | E28: 9449 | F28: 2011 | G28: JK pri NŽ Topoľčianky | I28: =SUM(K28:ZR28) -> 229.5 | J28: {=SUM(LARGE(K28:NH30,_xlfn.SEQUENCE(D131)))} -> 174 | BR28: 8 | BS28: 10 | CC28: 8 | CD28: 10 | EL28: 12 | EN28: 14 | EV28: 11 | EX28: 12 | IB28: 9 | IC28: 7 | IN28: 12 | IO28: 14 | KN28: 11 | KW28: 12 | KX28: 12 | ND28: 12 | NE28: 14 | NM28: 16.5 | NU28: 4 | NV28: 21
D29: Cezaria | E29: 13634 | F29: 2022 | I29: =SUM(K29:ZR29) -> 100 | BK29: 5 | BV29: 3 | CA29: 4 | EF29: 3 | EP29: 5 | ER29: 2 | HT29: 5 | HW29: 4 | IG29: 3 | IJ29: 7 | KG29: 7 | KK29: 2 | KP29: 1 | KT29: 7 | MX29: 7 | NA29: 6 | NF29: 9 | NJ29: 6 | NN29: 9 | NR29: 5
D30: Neapolitano XIX-10 | E30: 13160 | F30: 2020 | I30: =SUM(K30:ZR30) -> 35 | KL30: 5 | KU30: 4 | NB30: 6 | NH30: 7.5 | NK30: 8 | NP30: 4.5
A31: 7 | B31: Nittnaus Martina | C31: 135 | D31: Charissa | E31: 11826 | F31: 2018 | G31: JK pri NŽ Topoľčianky | I31: =SUM(K31:ZR31) -> 90 | J31: {=SUM(LARGE(K31:NN33,_xlfn.SEQUENCE(D131)))} -> 143 | BP31: 1 | BZ31: 8 | DQ31: 13 | DY31: 8 | EM31: 9 | EW31: 6 | HY31: 8 | HZ31: 2 | IL31: 6 | IM31: o | KM31: 9 | KV31: 4 | NC31: 3 | NL31: 5 | NT31: 8
D32: Chassia | I32: =SUM(K32:ZR32) -> 146.5 | BK32: 2 | BL32: 4 | CA32: 4 | DK32: 1 | DM32: 6 | DT32: 9 | DV32: 6 | EF32: 6 | EG32: 9 | EP32: 7 | EQ32: 12 | HT32: 2 | HU32: 4 | IG32: 7 | IH32: 10 | KH32: 8 | KQ32: 8 | MY32: 10 | NH32: 15 | NP32: 16.5
D33: Favory XII-13 | E33: 9454 | F33: 2009 | I33: =SUM(K33:ZR33) -> 14 | KM33: 1 | KV33: 3 | NC33: 7 | NL33: 3
A34: 8 | B34: Bučkuliaková Linda | C34: 2093 | D34: Hariffa MD | E34: 11791 | F34: 2018 | G34: JO Martin Záturčie | I34: =SUM(K34:ZR34) -> 54 | J34: =Seniori!$I34+I35 -> 140 | BO34: 12 | BQ34: 10 | FA34: 10 | FB34: 10 | FH34: 12
D35: Golden Flower | E35: 12156 | F35: 2019 | I35: =SUM(K35:ZR35) -> 86 | BO35: 2 | FA35: 12 | FG35: 13 | KI35: 12 | KM35: 6 | KR35: 14 | NI35: 18 | NQ35: 9
A36: 9 | B36: Šteflovičová Sylvia | C36: 2362 | D36: Santos | E36: 13626 | G36: JK Josy Team Trnava | I36: =SUM(K36:ZR36) -> 92 | J36: =Seniori!$I36 -> 92 | GI36: 10 | GW36: 5 | HT36: 4 | IG36: 5 | JP36: 8 | KG36: 6 | KP36: 8 | MJ36: 5 | MR36: 6 | MX36: 11 | NF36: 12 | NN36: 12
A37: 10 | B37: Výbohová Martina | C37: 7749 | D37: Touch of Class | E37: 11486 | G37: JK Enimo Slatinské Lazy | I37: =SUM(K37:ZR37) -> 0 | J37: {=SUM(LARGE(K37:ON40,_xlfn.SEQUENCE(D131)))} -> 88.5
D38: Ibalius | E38: 13316 | I38: =SUM(K38:ZR38) -> 27 | AW38: 1 | EI38: 4 | ES38: 6 | ET38: 2 | GR38: 1 | GS38: 5 | IW38: 1 | IX38: 3 | JA38: o | MN38: 4
D39: DMJ Zealand | E39: 13079 | I39: =SUM(K39:ZR39) -> 0
D40: Quinnus II-23 | E40: 12871 | F40: 2020 | I40: =SUM(K40:ZR40) -> 78.5 | AS40: 4 | AT40: 5 | AY40: 11 | AZ40: 4 | EG40: 6 | EQ40: 3 | GI40: 7 | GJ40: 9 | IU40: 1 | IW40: 3 | IY40: 2 | MS40: 5 | NG40: 5 | NH40: 9 | NP40: 4.5
A41: 11 | B41: Danielová Michaela | C41: 4838 | D41: Odyssea A.D. | E41: 12985 | F41: 2019 | G41: Equitana Sport Horses Bratislava | I41: =SUM(K41:ZR41) -> 81 | J41: =Seniori!$I41 -> 81 | CW41: 6 | CX41: 10 | FV41: 8 | FW41: 9 | HO41: 8 | HQ41: 9 | JJ41: 8 | JK41: 9 | LF41: 6 | LG41: 8
A42: 12 | B42: Sklenárová Simona | C42: 3021 | D42: Destiny It´s Me | E42: 12223 | F42: 2019 | G42: JK Horse Club Nitra | I42: =SUM(K42:ZR42) -> 72 | J42: =Seniori!$I42+I44+I43 -> 78 | GK42: 7 | GY42: 7 | HV42: 4 | KI42: 8 | KR42: 10 | LL42: 5 | LS42: 5 | MZ42: 5 | NI42: 15 | NQ42: 6
D43: Nalin de Goya | E43: 11788 | F43: 2017 | I43: =SUM(K43:ZR43) -> 6 | HC43: 6
D44: Napóleon | E44: 13225 | F44: 2021 | I44: =SUM(K44:ZR44) -> 0
A45: 13 | B45: Ledecká Zoya | C45: 7365 | D45: Django 358 | E45: 11585 | F45: 2010 | G45: Baluny Družstvo Bratislava | I45: =SUM(K45:ZR45) -> 71 | J45: =Seniori!$I45 -> 71 | AM45: 18 | AN45: 20 | BT45: 24 | CE45: 9
A46: 14 | B46: Bednárová Alexandra | C46: 4582 | D46: LH Magic Wall | E46: 11793 | F46: 2015 | G46: JO Martin Záturčie | I46: =SUM(K46:ZR46) -> 63 | J46: =Seniori!$I46 -> 63 | BN46: 8 | BP46: 8 | BW46: 8 | GS46: 7 | GT46: 6 | HE46: 7 | HF46: 6 | KM46: o | KV46: 2 | NB46: 1 | NK46: 6 | NT46: 4
A47: 15 | B47: Žarnovická Jana | C47: 3057 | D47: Nylana | E47: 11709 | F47: 2018 | G47: JK Slovan Háje Bratislava | I47: =SUM(K47:ZR47) -> 34 | J47: =Seniori!$I47 -> 34 | CX47: 7 | FW47: 5 | HQ47: 7 | HR47: 5 | LG47: 7 | LH47: 3
A48: 16 | B48: Ďuríková Ema | C48: 6693 | D48: Zuzka | E48: 13181 | F48: 2021 | G48: Red Horse Stará Lehota | I48: =SUM(K48:ZR48) -> 0 | J48: =Seniori!$I48+I49+I50+I52+I157 -> 31.5
D49: Gidran XX-22 Žabka | E49: 13611 | F49: 2022 | I49: =SUM(K49:ZR49) -> 8 | L49: 1 | O49: 1 | U49: 5 | AB49: 1
D50: Przedswit XXXIII-18/Žoker | E50: 13609 | F50: 2022 | I50: =SUM(K50:ZR50) -> 23.5 | U50: 3 | AB50: 4 | GI50: 6 | GW50: 3 | JP50: o | NF50: 4.5 | NN50: 3
D51: PRZEDSWIT XXXVII-4 ŽOFKA | E51: 13606 | F51: 2022 | I51: =SUM(K125:ZR125) -> 0 | GW51: o
D52: Przedswit XXXIII-16 Zdenka | E52: 13439 | F52: 2021 | I52: =SUM(K52:ZR52) -> 0
A53: 17 | B53: Veverková Lucia | C53: 7553 | D53: Hajdy | E53: 9288 | G53: JK RS Team Bratislava | I53: =SUM(K53:ZR53) -> 0 | J53: =Seniori!$I53+I54 -> 27
D54: Sirius | E54: 8371 | I54: =SUM(K54:ZR54) -> 27 | BX54: 4 | BZ54: 6 | CX54: 1 | HO54: 1 | HQ54: 2 | HX54: o | HY54: o | IK54: 4 | IL54: 1 | JK54: 3 | LG54: 2 | NJ54: o | NK54: o | NR54: o | NS54: 3
A55: 18 | B55: Húsková Karin | C55: 9811 | D55: Jungle Lady RJ | E55: 13888 | F55: 2019 | G55: TJ Žrebčín Motešice | I55: =SUM(K55:ZR55) -> 24 | J55: =Seniori!$I55 -> 24 | DA55: 12 | DB55: 12
A56: 19 | B56: Juranová Tatiana | C56: 110 | D56: Moschino | E56: 11741 | G56: JK RS Team Bratislava | I56: =SUM(K56:ZR56) -> 0 | J56: =Seniori!$I56+I57 -> 19
D57: Larambo RS | E57: 13910 | F57: 2021 | I57: =SUM(K57:ZR57) -> 19 | CT57: 3 | FR57: 4 | HK57: 2 | HN57: 3 | JG57: 2 | LA57: 5
A58: 20 | B58: Czajlik Zsuzsanna | C58: 3561 | D58: Lehel Dominick | E58: 13480 | F58: 2013 | G58: JK Czajlik Ranch Dunajský Klátov | I58: =SUM(K58:ZR58) -> 14 | J58: =Seniori!$I58 -> 14 | IB58: 14
A59: 21 | B59: Škvarková Kristína | C59: 7779 | D59: Daphne | E59: 11639 | F59: 2016 | G59: JK Josy Team Trnava | I59: =SUM(K59:ZR59) -> 13 | J59: =Seniori!$I59 -> 13 | HY59: 4 | IL59: 4 | MN59: 5 | NK59: o
A60: 22 | B60: Balogh Štefan | C60: 7028 | D60: Veszto Nonius-149 Sebes | E60: 11749 | F60: 2009 | G60: JK Ivanka pri Dunaji | I60: =SUM(K60:ZR60) -> 10 | J60: =Seniori!$I60 -> 10 | Y60: 1 | AF60: 2 | IL60: 2 | JK60: 2 | LG60: 3
A61: 23 | B61: Slobodníková Anežka | C61: 7279 | D61: Bon Bon | E61: 7279 | F61: 2021 | G61: Harmónia v sedle Ivanka pri Dunaji | I61: =SUM(K61:ZR61) -> 9 | J61: =Seniori!$I61+I62 -> 9 | JG61: 1 | LA61: 8
D62: Samba Samba SA | E62: 13235 | I62: =SUM(K62:ZR62) -> 0
A63: 24 | B63: Filo Nina | C63: 2165 | D63: Dimension | E63: 12971 | F63: 2018 | G63: Harmónia v sedle Ivanka pri Dunaji | I63: =SUM(K63:ZR63) -> 8 | J63: =Seniori!$I63 -> 8 | BJ63: 2 | BN63: 2 | BV63: 4
A64: 25 | B64: Gbelská Petra | C64: 9378 | D64: Gidran XIX-7 SK (Isthar) | E64: 10515 | F64: 2013 | G64: Equistyle Club | I64: =SUM(K64:ZR64) -> 6 | J64: =Seniori!$I64 -> 6 | HO64: 2 | HP64: o | HX64: o | HY64: o | IK64: o | IL64: o | JI64: 3 | JK64: 1 | KL64: o | KU64: o
B65: Maťavková Jana | C65: 47117 | D65: Neapolitano XIX-8 | E65: 13637 | F65: 2020 | G65: JK pri NŽ Topoľčianky | I65: =SUM(K65:ZR65) -> 6 | J65: =Seniori!$I65 -> 6 | KK65: o | KT65: o | MX65: 5 | NA65: 1 | NJ65: o | NR65: o
B66: Minárechová Marianna | C66: 8624 | D66: Przedswit XXIX-2 Šafran | E66: 9794 | F66: 2013 | G66: TJ Žrebčín Motešice | I66: =SUM(K66:ZR66) -> 6 | J66: =Seniori!$I66 -> 6 | JO66: 6 | JS66: o
A67: 26 | B67: Badányová Lenka | C67: 2856 | D67: Oxbow | E67: 12493 | G67: Beri Klub Nová Baňa | I67: =SUM(K67:ZR67) -> 4 | J67: =Seniori!$I67 -> 4 | JS67: o | JT67: 2 | KA67: o | KB67: 2
B68: Lacková Petra | C68: 1457 | D68: Santino J. Paldauf | E68: 12575 | G68: JK Rozálka Pezinok | I68: =SUM(K68:ZR68) -> 4 | J68: =Seniori!$I68 -> 4 | LD68: 2 | LF68: 2
A69: 27 | B69: Štaffa Silvia | C69: 9702 | D69: Wate van de Lits | E69: 12063 | F69: 2015 | G69: JK Rozálka Pezinok | I69: =SUM(K69:XF69) -> 4 | J69: =Seniori!$I69 -> 4 | EJ69: 4
A70: 28 | B70: Sitár Zuzana | C70: 6220 | D70: Moschino | E70: 11741 | G70: JK RS Team Bratislava | I70: =SUM(K70:ZR70) -> 3 | J70: =Seniori!$I70 -> 3 | JI70: 3
A71: 29 | B71: Múčková Denisa | C71: 9131 | D71: Jalke vom Coenenhof | E71: 11863 | F71: 2011 | G71: JK Rozálka Pezinok | I71: =SUM(K71:ZR71) -> 3 | J71: =Seniori!$I71 -> 3 | EJ71: 3
A72: 30 | B72: Kurtíková Eliška | C72: 6865 | D72: FURIOSO XXXVIII-2 SK/DUNA | E72: 12189 | F72: 2013 | G72: JK SLOVENSKÉHO PODKÚVAČSKÉHO CECHU Dolný Kubín | I72: =SUM(K72:ZR72) -> 3 | J72: =Seniori!$I72 -> 3 | KK72: o | KL72: o | MM72: o | MN72: 3
A73: 31 | B73: Hodáňová Dominika | C73: 9484 | D73: Patrik | E73: 9217 | G73: JK Limit Bratislava | I73: =SUM(K73:ZR73) -> 3 | J73: =Seniori!$I73 -> 3 | HM73: o | HP73: o | JF73: o | JI73: 2 | LC73: 1 | LE73: o
A74: 32 | B74: Benčíková Veronika | C74: 6801 | D74: Przedswit XXXIX-21 Greyson | E74: 11102 | G74: Tri Ruže Equiteam | I74: =SUM(K74:ZR74) -> 0 | J74: =Seniori!$I74+I75 -> 2
D75: Nour Faustino | E75: 10756 | F75: 2012 | I75: =SUM(K75:ZR75) -> 2 | CX75: 2
A76: 33 | B76: Abrahámfyová Klára | C76: 4589 | D76: Red Wilson | E76: 13180 | F76: 2021 | G76: TJ Žrebčín Motešice | I76: =SUM(K76:ZR76) -> 0 | J76: =Seniori!$I76+I77 -> 2
D77: Przedswit XXXIII-19 Žonor | E77: 13607 | F77: 2020 | I77: =SUM(K77:XF77) -> 2 | EP77: 2
A78: 34 | B78: Vaľková Barbora | C78: 7105 | D78: Ducatti | E78: 13220 | F78: 2021 | G78: Stajňa Mustaqqil Kuchyňa | I78: =SUM(K78:ZR78) -> 1 | J78: =Seniori!$I78+I79 -> 2 | FR78: 1
D79: Chip | E79: 10538 | F79: 2007 | I79: =SUM(K79:ZR79) -> 1 | CV79: 1
A80: 35 | B80: Černáčeková Monika | C80: 5106 | D80: Total Present | E80: 13274 | F80: 2021 | G80: Equiteam Most pri Bratislave | I80: =SUM(K80:ZR80) -> 2 | J80: =Seniori!$I80 -> 2 | HT80: 2 | HU80: o
A81: 36 | B81: Ďordevič Renáta | C81: 3559 | D81: Diamant De Vita | E81: 12216 | F81: 2019 | G81: JK Limfora Badín | I81: =SUM(K81:ZR81) -> 1 | J81: =Seniori!$I81 -> 1 | ES81: 1
A82: 37 | B82: Šaulicová Barbora | C82: 10909 | D82: Larry | G82: Harmónia v sedle Ivanka pri Dunaji | I82: =SUM(K82:ZR82) -> 1 | J82: =Seniori!$I82 -> 1 | JF82: 1 | JH82: o
A83: 38 | B83: Balážová Michaela | C83: 5701 | D83: Marengo | E83: 10640 | F83: 2007 | G83: JS Polet Trebostovo | I83: =SUM(K83:ZR83) -> 0 | J83: =Seniori!$I83+I84 -> 0
D84: Pretoria Elisson | E84: 12161 | F84: 2021 | I84: =SUM(K84:ZR84) -> 0
A85: 39 | B85: Hasičková Kristína | C85: 9132 | D85: Hennessy | E85: 11642 | F85: 2015 | G85: Beri Klub Nová Baňa | I85: =SUM(K85:ZR85) -> 0 | J85: =Seniori!$I85 -> 0 | KK85: o | KL85: o | KT85: o
A86: 40 | B86: Marthaler Veronika | C86: Z0048 | D86: Dr. House | E86: 12478 | F86: 2017 | G86: Sportstall Marthaler | I86: =SUM(K86:ZR86) -> 0 | J86: =Seniori!$I86+I87+I88+I89+I90 -> 0
D87: Rubin Royal Hubert | E87: 11480 | F87: 2017 | I87: =SUM(K87:ZR87) -> 0
D88: Red Lord | E88: 12825 | F88: 2020 | I88: =SUM(K88:ZR88) -> 0
D89: Never Forget | E89: 13120 | I89: =SUM(K89:ZR89) -> 0
D90: Zu Viel AMB | E90: 13336 | I90: =SUM(K90:ZR90) -> 0
B91: Bugan Michael | C91: 6972 | D91: Dancing Sunlight | F91: 2018 | I91: =SUM(K91:ZR91) -> 0 | J91: =Seniori!$I91 -> 0
B92: Chorváthová Katarína | C92: 4112 | D92: Donneshallowa II | E92: 9461 | F92: 2012 | G92: JO Martin Záturčie | I92: =SUM(K92:ZR92) -> 0 | J92: =Seniori!$I92 -> 0 | LO92: o | LP92: o
B93: Ďurechová Laura | C93: 7998 | D93: Red Lancaster | E93: 12296 | F93: 2019 | I93: =SUM(K93:ZR93) -> 0 | J93: =I93 -> 0
B94: Eibner Patrik | C94: 2208 | D94: Jasper Diamond Jumper | E94: 12252 | G94: JK Diamond Academy Rapovce | I94: =SUM(K94:ZR94) -> 0 | J94: =Seniori!$I94 -> 0
A95: 45 | B95: Kohút Patrik | C95: 2964 | D95: Finale | E95: 11786 | F95: 2014 | G95: JK Agrocontact Jasová | I95: =SUM(K95:ZR95) -> 0 | J95: =Seniori!$I95 -> 0
B96: Jašušáková Sandra | C96: 10274 | D96: Piaf | E96: 8781 | G96: JK Limfora Badín | I96: =SUM(K96:ZR96) -> 0 | J96: =Seniori!$I96+I97 -> 0 | JS96: o | KA96: o | LM96: o | LQ96: o | LT96: o
D97: Nonius XVI-11 SK/Šunka | E97: 10195 | I97: =SUM(K97:ZR97) -> 0
B98: Kochaníková Lucia | C98: 4969 | D98: Raven AD | F98: 2021 | I98: =SUM(K98:ZR98) -> 0 | J98: =Seniori!$I98 -> 0
B99: Kramárová Lucia | C99: 7127 | D99: Quistico | E99: 13318 | G99: JK Limit Bratislava | I99: =SUM(K99:ZR99) -> 0 | J99: =Seniori!$I99 -> 0
B100: Chovancová Urminská Lucia | C100: 9226 | D100: Aviatik | E100: 9994 | G100: JK Agrocontact Jasová | I100: =SUM(K100:ZR100) -> 0 | J100: =Seniori!$I100 -> 0
A101: 50 | B101: Levársky Viktória | C101: 1329 | D101: Sissi | E101: 10998 | F101: 2013 | G101: EQUINIBRIUM AMH Vlkanová | I101: =SUM(K101:ZR101) -> 0 | J101: =Seniori!$I101 -> 0
B102: Bosáková Melánia | C102: 8305 | D102: Santiago | E102: 13314 | G102: JK Poľný Kesov | I102: =SUM(K102:ZR102) -> 0 | J102: =Seniori!$I102 -> 0 | NS102: o
...

Sheet Mladí jazdci
A1: DREZÚRNY REBRÍČEK
A2: Jazdec roka 2026
A4: Mladí jazdci
A6: Poradie | B6: Jazdec | C6: Licencia SJF | D6: Kôň | E6: Licencia SJF | F6: Rok nar. | G6: Subjekt | I6: Body celkom | J6: Spolu 15 NAJ | K6: =Seniori!K6 -> 06.-08.02. | S6: =Seniori!S6 -> 27.2.-1.3. | AH6: =Seniori!AH6 -> 05.-07.03. | AJ6: =Seniori!AJ6 -> 05.-07.03. | AM6: =Seniori!AM6 -> 21.-22.3. | AO6: =Seniori!AO6 -> 5.4. | AQ6: =Seniori!AP6 -> 2.-4.4. | BD6: 11.4. | BI6: =Seniori!BI6 -> 18.-19.4. | CF6: =Seniori!CF6 -> 25.-26.4. | CR6: =Seniori!CR6 -> 1.5. | CY6: =Seniori!CY6 -> 3.5. | DA6: =Seniori!DA6 -> 8.-10.5. | DC6: =Seniori!DC6 -> 9.-10.5. | DK6: 9.-10.5. | EC6: 21.-24.5. | EE6: 23.-24.5. | EY6: 30.-31.5. | FK6: 5.-7.6. | FP6: =Seniori!FP6 -> 13.6. | FY6: =Seniori!FY6 -> 14.6. | GA6: =Seniori!GA6 -> 27.-28.6. | GD6: =Seniori!GD6 -> 26.-28.6. | GI6: =Seniori!GI6 -> 26.-27.6. | HI6: =Seniori!HI6 -> 4.7. | HS6: 11.-12.7. | IQ6: =Seniori!IQ6 -> 15.-19.7. | IS6: =Seniori!IS6 -> 18.7. | IU6: =Seniori!IU6 -> 25.-26.7. | JC6: =Seniori!JC6 -> 31.7. | JL6: 5.-9.8. | JN6: 15.-16.8. | KD6: 22.-23.8. | KG6: 22.-23.8. | KY6: 28.8. | LI6: 28.-29.8. | LU6: 29.-30.8. | MH6: 5.- 6.9. | MX6: 11.-13.9. | NW6: 12.9.
K7: =Seniori!K7 -> Motešice | S7: =Seniori!S7 -> Motešice | AH7: =Seniori!AH7 -> Motešice | AJ7: =Seniori!AJ7 -> Motešice CDI | AM7: =Seniori!AM7 -> Budapešť | AO7: =Seniori!AO7 -> Brno | AQ7: Motešice | BD7: Kisbabolna | BI7: =Seniori!BI7 -> Dunajský Klátov | CF7: =Seniori!CF7 -> Těšánky | CR7: =Seniori!CR7 -> Rs Team | CY7: =Seniori!CY7 -> Brno | DA7: =Seniori!DA7 -> Las Cadenas | DC7: =Seniori!DC7 -> Olomouc | DK7: Szilvásvárad | EC7: CDI Olomouc | EE7: Vígľaš | EY7: Těšánky | FK7: CDI Brno | FP7: =Seniori!FP7 -> RS Team | FY7: =Seniori!FY7 -> Chotěbuz | GA7: =Seniori!GA7 -> Šamorín | GD7: =Seniori!GD7 -> Šamorín CDI | GI7: =Seniori!GI7 -> Motešice | HI7: =Seniori!HI7 -> RS Team | HS7: =Seniori!HS7 -> Dunaj. Klátov (MSR deti, juniori, ml. jazdci) | IQ7: =Seniori!IQ7 -> ME Detí Olomouc | IS7: =Seniori!IS7 -> Frenštát p/R | IU7: =Seniori!IU7 -> Szilvasvárad | JC7: =Seniori!JC7 -> RS Team | JL7: MS mladých koní (Verden) | JN7: Motešice | KD7: Panská Lícha | KG7: Pony MSR (Topoľčianky) | KY7: Rs Team | LI7: Motešice | LU7: Vyškov | MH7: Masarykov Dvor | MX7: Tpoľčianky MSR YH+Seniori | NW7: Frenštát p/R
K8: =Seniori!K8 -> Z2 | L8: =Seniori!L8 -> 4r | M8: =Seniori!M8 -> DUA | N8: =Seniori!N8 -> DD | O8: =Seniori!O8 -> 4r | P8: =Seniori!P8 -> 5rU | Q8: =Seniori!Q8 -> DUA | R8: =Seniori!R8 -> DD | ... AY8: =Seniori!AY8 -> 5rU | AZ8: 6rU | BA8: =Seniori!BA8 -> DUA | BB8: =Seniori!BB8 -> DUB | BC8: =Seniori!BC8 -> DD | BD8: A4 | BE8: DUA | BF8: LM2 | BG8: DD | BH8: MB4 | BI8: =Seniori!BI8 -> P1 | BJ8: =Seniori!BJ8 -> DUA | BK8: =Seniori!BK8 -> 4r | BL8: =Seniori!BL8 -> 5rU | BM8: =Seniori!BM8 -> 6rU | BN8: =Seniori!BN8 -> DD | BO8: =Seniori!BO8 -> LP4 | BP8: =Seniori!BP8 -> LS5 | ... BT8: =Seniori!BT8 -> IMII | BU8: P1 | BV8: DUA | BW8: DD | BX8: JJ | BY8: LP5 | BZ8: LS | CA8: 4r | CB8: 5rF | CC8: YJ | CD8: IMI | CE8: U25 | CF8: =Seniori!CF8 -> 5rU | CG8: =Seniori!CG8 -> JU | CH8: =Seniori!CH8 -> JD | CI8: =Seniori!CI8 -> YU | CJ8: =Seniori!CJ8 -> SG | CK8: =Seniori!CK8 -> IMA | CL8: =Seniori!CL8 -> 5rF | CM8: =Seniori!CM8 -> L0 | ... DJ8: =Seniori!DJ8 -> IMI | DK8: 4U | DL8: MKZ3 | DM8: 5rU | DN8: DUA | DO8: Z3 | DP8: DD | DQ8: LS5 | DR8: SG | DS8: IMI | DT8: 4U | DU8: MKZ4 | DV8: 5rF | DW8: Z4 | DX8: DUA | DY8: DJ | DZ8: L10 | EA8: YJ | EB8: IMI | EC8: 5rU | ED8: 5rF | EE8: P2 | EF8: 4rU | EG8: 5rU | EH8: DUA | EI8: DD | EJ8: JU | EK8: JD | EL8: SG | EM8: LP4 | EN8: IMI | EO8: P3 | EP8: 4rU | EQ8: 5rU | ER8: DUA | ES8: DD | ET8: DJ | EU8: JU | EV8: YJ | EW8: LP4 | EX8: IMI | EY8: DUA | EZ8: L0 | FA8: JU | FB8: JD | FC8: SG | FD8: IMI | FE8: Z4 | FF8: Z5 | FG8: JU | FH8: JD | FI8: SG | FJ8: IMI | FK8: 5rU | FL8: SG | FM8: 5rF | FN8: IMI | FO8: IMIF | FP8: =Seniori!FP8 -> P3 | FQ8: =Seniori!FQ8 -> P1 | FR8: =Seniori!FR8 -> MKZ1 | FS8: =Seniori!FS8 -> Z1 | FT8: =Seniori!FT8 -> Z3 | FU8: =Seniori!FU8 -> DUA | FV8: =Seniori!FV8 -> DD | FW8: =Seniori!FW8 -> LS5 | ... LG8: =Seniori!LG8 -> LS6 | LH8: S6 | LI8: =Seniori!LI8 -> Z2 | LJ8: =Seniori!LJ8 -> Z3 | LK8: =Seniori!LK8 -> 5rU | LL8: =Seniori!LL8 -> 6rU | LM8: =Seniori!LM8 -> DUA | LN8: =Seniori!LN8 -> DD | LO8: =Seniori!LO8 -> JU | LP8: =Seniori!LP8 -> SG | ... NZ8: =Seniori!NZ8 -> 0
A9: 1 | B9: Porkertová Linda | C9: 9241 | D9: Dancing Boy | E9: 12984 | F9: 2019 | G9: JK Josy Team Píla | I9: =SUM(K9:XX9) -> 185.5 | J9: {=SUM(LARGE(K9:MX9,_xlfn.SEQUENCE(D61)))} -> 119 | EJ9: 11 | EK9: 5 | EU9: 11 | GU9: 5 | GV9: 5 | HG9: 5 | HH9: 5 | HZ9: 3 | IA9: 11 | IM9: 4 | JR9: 6 | JU9: 6 | JZ9: 7 | KC9: 6 | KI9: 8 | KM9: 8 | KV9: 12 | ML9: 8 | MO9: 6 | MT9: 9 | MZ9: 7 | NI9: 22.5 | NQ9: 15
A10: 2 | B10: Petranová Sofia Laura | C10: 6761 | D10: Furioso XXXIV-28 Yveta | E10: 12143 | F10: 2019 | G10: TJ Žrebčín Motešice | I10: =SUM(K10:XX10) -> 8 | J10: {=SUM(LARGE(K10:MX15,_xlfn.SEQUENCE(D61)))} -> 95 | W10: 3 | AD10: 5
D11: Nonius XXXVI-12 SK Xeila | E11: 12751 | F11: 2020 | I11: =SUM(K11:XX11) -> 31 | L11: 3 | N11: o | P11: 1 | R11: 1 | U11: 3 | AB11: 3 | HT11: 4 | HU11: 7 | IG11: 4 | IH11: 4 | JP11: 1
D12: Flor D´Accord | E12: 11998 | I12: =SUM(K12:XX12) -> 0
D13: Przedswit XXXIII-19 Žonor | E13: 13607 | F13: 2022 | I13: =SUM(K13:XX13) -> 55.5 | L13: 6 | O13: 7 | GI13: 4 | GW13: 4 | HT13: 7 | IG13: 8 | JG13: 3 | JP13: 4 | JX13: 5 | NF13: 3 | NN13: 4.5
D14: Przedswit XXXIII-12/Xyntia | E14: 12750 | F14: 2020 | I14: =SUM(K14:XX14) -> 0 | W14: o | AD14: o
D15: Catalin XVI-1 Zonor | E15: 13100 | F15: 2021 | I15: =SUM(K15:XX15) -> 65 | GI15: 6 | GJ15: 8 | GW15: 4 | GX15: 4 | HT15: 5 | HU15: 8 | IG15: 5 | IH15: 7 | JG15: 4 | JP15: 5 | JQ15: 6 | JX15: 3
A16: 3 | B16: Eržinová Stella | C16: 8401 | D16: Catalin XVI-1 Zonor | E16: 13100 | F16: 2021 | G16: TJ Žrebčín Motešice | I16: =SUM(K16:XX16) -> 71 | J16: {=SUM(LARGE(K16:MX21,_xlfn.SEQUENCE(D61)))} -> 79 | L16: 5 | P16: 4 | V16: 5 | AC16: 4 | AS16: 2 | AY16: 13 | LK16: 5 | LR16: 3 | MK16: 8 | MS16: 10 | NG16: 6 | NO16: 6
D17: Furioso XXX-39 Žofre | E17: 13608 | F17: 2022 | I17: =SUM(K17:XX17) -> 19 | L17: 2 | O17: 5 | U17: 4 | AB17: 5 | AR17: o | AX17: 3
D18: Przedswit XXXIII-16/Zdenka | E18: 13439 | F18: 2021 | I18: =SUM(K18:XX18) -> 5 | W18: 2 | AD18: 3
D19: Przedswit XXXIII-3 Wisdom | E19: 13610 | F19: 2018 | I19: =SUM(K19:XX19) -> 0 | M19: o | Q19: o
D20: Düval Raeval | E20: 14028 | F20: 2015 | I20: =SUM(K20:XX20) -> 0 | LN20: o
D21: Furioso XLII-21 Sauvignon | E21: 11682 | F21: 2018 | I21: =SUM(K21:XX21) -> 0
A22: 4 | B22: Áčová Laura | C22: 8540 | D22: Tristan GM | E22: 12846 | F22: 2020 | G22: JK Limfora Badín | I22: =SUM(K22:XX22) -> 82.5 | J22: {=SUM(LARGE(K22:MX22,_xlfn.SEQUENCE(D61)))} -> 63 | BE22: 6 | BG22: 6 | BJ22: 1 | BV22: 3 | CB22: 4 | DO22: 6 | DP22: 1 | DV22: 2 | DW22: 7 | EH22: o | EI22: o | ER22: o | ES22: o | HW22: 3 | HY22: 2 | IJ22: 1 | IK22: 1 | IV22: 6 | IW22: 4 | IZ22: 5 | JA22: 4 | KK22: o | KL22: 2 | KT22: o | KU22: 1 | MI22: o | MM22: o | MS22: 3 | MU22: 1 | NH22: 7.5 | NK22: 1 | NP22: 3 | NS22: 2
A23: 5 | B23: Kubanová Hanka | C23: 9946 | D23: Cuba Libre Z | E23: 10339 | G23: Ranč Ouzkých Bratislava | I23: =SUM(K23:XX23) -> 10 | J23: ='Mladí jazdci'!$I23+I24 -> 10 | FV23: o | FW23: o | GO23: 1 | GS23: o | HB23: 3 | HE23: o | JF23: o | JI23: 4 | LC23: 2 | LE23: o
D24: Zara Dew | E24: 12984 | G24: JK Josy Team Píla | I24: =SUM(K24:XX24) -> 0 | CX24: o
A25: 6 | B25: Hubodová Amália | C25: 8891 | D25: Sissi | E25: 10998 | F25: 2013 | G25: Equinibrium AMH | I25: =SUM(K25:XX25) -> 0 | J25: ='Mladí jazdci'!$I25+I26+I28+I27 -> 7.5
D26: Romanova | E26: 13031 | F26: 2009 | I26: =SUM(K26:XX26) -> 0
D27: Zampano | E27: 13924 | F27: 2022 | I27: =SUM(K27:XX27) -> 7.5 | EF27: o | EH27: o | EP27: o | ER27: o | MI27: o | MJ27: 3 | MR27: 3 | NF27: 1.5 | NJ27: o
D28: Figa Noire AMH | E28: 12445 | F28: 2015 | I28: =SUM(K28:XX28) -> 0
A29: 7 | B29: Blštáková Katarína | C29: 8828 | D29: Przedswit XXXIV-21 Zombík | E29: 13104 | F29: 2021 | G29: TJ Žrebčín Motešice | I29: =SUM(K29:XX29) -> 0 | J29: ='Mladí jazdci'!$I29+I31+I30+I32 -> 7.5 | JY29: o
D30: Gidran XX-22 Žabka | E30: 13611 | F30: 2022 | I30: =SUM(K30:XX30) -> 3 | JP30: 2 | JX30: 1
D31: Przedswit XXXVII-2 Zumba | E31: 13103 | F31: 2021 | I31: =SUM(K31:XX31) -> 0
D32: Gidran XX-21 Želka | E32: 13605 | F32: 2022 | I32: =SUM(K32:XX32) -> 4.5 | NF32: 4.5
A33: 8 | B33: Škandíková Karolína | C33: 9286 | D33: Franzine | E33: 11613 | G33: JK RS Team Bratislava | I33: =SUM(K33:XX33) -> 3 | J33: ='Mladí jazdci'!$I33 -> 3 | FT33: 1 | FU33: o | JQ33: 2
A34: 9 | B34: Belisová Nikola | C34: 9593 | D34: Hirou | E34: 10669 | G34: JO pri SOUP Šaľa | I34: =SUM(K34:XX34) -> 0 | J34: ='Mladí jazdci'!$I34+I35 -> 2
D35: Comeon-m | E35: 13700 | F35: 2021 | I35: =SUM(K35:XX35) -> 2 | HU35: 2
A36: 10 | B36: Jenčáková Alexandra | C36: 8842 | D36: NEAPOLITANO XIV-38 SK (SLR GALAN NEAPOLITANO) | E36: 12709 | F36: 2019 | G36: TM Riders Trnava | I36: =SUM(K36:XX36) -> 1 | J36: ='Mladí jazdci'!$I36 -> 1 | GN36: o | HA36: o | HB36: 1
A37: 11 | B37: Hegerová Adriana | C37: 10184 | D37: Colin | E37: 13038 | G37: JK Femini Team Trnava | I37: =SUM(K37:XX37) -> 0 | J37: ='Mladí jazdci'!$I37+I39+I38 -> 1 | CV37: o
D38: Lady Lisa | E38: 12881 | I38: =SUM(K38:XX38) -> 0 | FT38: o | FU38: o
D39: Darsi | E39: 13258 | I39: =SUM(K39:XX39) -> 1 | CU39: o | JH39: o | LB39: 1
A40: 12 | B40: Magdalíková Nikoleta | C40: 9643 | D40: Kathmandu | E40: 12995 | F40: 2015 | G40: JO pri SOUP Šaľa | I40: =SUM(K40:XX40) -> 0 | J40: ='Mladí jazdci'!$I40 -> 0
A41: 13 | B41: Valíčková Anna | C41: 9077 | D41: Przedswit XXXVII Šafrán | E41: 9794 | G41: TJ Žrebčín Motešice | I41: =SUM(K41:XX41) -> 0 | J41: ='Mladí jazdci'!$I41 -> 0
A42: 14 | B42: Kucsora Barbora | C42: 8840 | D42: Mopassanas | E42: 9951 | F42: 2005 | G42: JK Czajlík Ranch | I42: =SUM(K42:XX42) -> 0 | J42: ='Mladí jazdci'!$I42 -> 0
A43: 15 | B43: Cimermanová Sandra | C43: 9512 | D43: Pretoria Mountain Express | E43: 12160 | F43: 2018 | G43: JK Limfora Badín | I43: =SUM(K43:XX43) -> 0 | J43: ='Mladí jazdci'!$I43 -> 0
A44: 16 | B44: Polláková Tamara | C44: 7987 | D44: Welt Regency | E44: 8021 | G44: JK Jurský Dvor Nitra | I44: =SUM(K44:XX44) -> 0 | J44: ='Mladí jazdci'!$I44 -> 0
A45: 17 | B45: Cingelová Diana | C45: 7124 | D45: Minella | E45: 11747 | F45: 2017 | G45: JK Ivanka pri Dunaji | I45: =SUM(K45:XX45) -> 0 | J45: ='Mladí jazdci'!$I45+I46 -> 0
D46: FG Alterego | E46: 12188 | F46: 2010 | I46: =SUM(K46:XX46) -> 0
A47: 18 | B47: Michalechová Veronika | D47: Pretoria Mountain Express | E47: 12160 | F47: 2018 | G47: JK Limfora Badín | I47: =SUM(K47:XX47) -> 0 | J47: ='Mladí jazdci'!$I47 -> 0
A48: 19 | B48: Petrovská Hana | C48: 9946 | D48: Furioso XLII-12SK/Red Magnum | E48: 6647 | G48: Ranč Ouzkých Bratislava | I48: =SUM(K48:XX48) -> 0 | J48: ='Mladí jazdci'!$I48 -> 0
A49: 20 | B49: Belisová Tereza | C49: 9595 | D49: Arnika | E49: 9419 | G49: JO pri SOUP Šaľa | I49: =SUM(K49:XX49) -> 0 | J49: ='Mladí jazdci'!$I49 -> 0
A50: 21 | B50: Gulásziová Liliana | C50: 8956 | D50: Gitan | E50: 7559 | F50: 2006 | G50: JK Czajlík Ranch Dunajský Klátov | I50: =SUM(K50:XX50) -> 0 | J50: ='Mladí jazdci'!$I50 -> 0 | BN50: o
A51: 22 | B51: Lakotová Rebeka | C51: 8837 | D51: Daisy | E51: 10277 | G51: JK Masarykov Dvor | I51: =SUM(K51:XX51) -> 0 | J51: ='Mladí jazdci'!$I51 -> 0
A52: 23 | B52: Stružová Lucia | C52: 8786 | D52: Berlina Van De Capitol | E52: 8874 | G52: Ranč Ouzkých Bratislava | I52: =SUM(K52:XX52) -> 0 | J52: ='Mladí jazdci'!$I52 -> 0 | FU52: o
A53: 24 | B53: Počarovská Dajana | C53: 9384 | D53: Aisha | E53: 10576 | G53: JK Poľný Kesov | I53: =SUM(K53:XX53) -> 0 | J53: ='Mladí jazdci'!$I53 -> 0
A54: 25 | B54: Vajsová Martina | C54: 9173 | D54: Portoriko | E54: 6054 | G54: Stajňa Plameň Miloslavov | I54: =SUM(K54:XX54) -> 0 | J54: ='Mladí jazdci'!$I54 -> 0
A55: 25 | B55: SPOLU | I55: =SUM(K55:XX55) -> 0
I56: =SUM(K56:XX56) -> 0
I57: =SUM(K57:XX57) -> 0
I58: =SUM(K58:XX58) -> 0
D61: 15

Sheet Juniori
A1: DREZÚRNY REBRÍČEK
A2: Jazdec roka 2026
A4: Juniori
A6: Poradie | B6: Jazdec | C6: Licencia SJF | D6: Kôň | E6: Licencia SJF | F6: Rok nar. | G6: Subjekt | I6: Body celkom | J6: Spolu 15 NAJ | K6: =Seniori!K6 -> 06.-08.02. | S6: =Seniori!S6 -> 27.2.-1.3. | AH6: =Seniori!AH6 -> 05.-07.03. | AJ6: =Seniori!AJ6 -> 05.-07.03. | AM6: =Seniori!AM6 -> 21.-22.3. | AO6: =Seniori!AO6 -> 5.4. | AP6: =Seniori!AP6 -> 2.-4.4. | BD6: 11.4. | BI6: =Seniori!BI6 -> 18.-19.4. | CF6: =Seniori!CF6 -> 25.-26.4. | CR6: =Seniori!CR6 -> 1.5. | CY6: =Seniori!CY6 -> 3.5. | DA6: =Seniori!DA6 -> 8.-10.5. | DC6: =Seniori!DC6 -> 9.-10.5. | DK6: 9.-10.5. | EC6: 21.-24.5. | EE6: 23.-24.5. | EY6: 30.-31.5. | FK6: 5.-7.6. | FP6: =Seniori!FP6 -> 13.6. | FY6: =Seniori!FY6 -> 14.6. | GA6: =Seniori!GA6 -> 27.-28.6. | GD6: =Seniori!GD6 -> 26.-28.6. | GI6: =Seniori!GI6 -> 26.-27.6. | HI6: =Seniori!HI6 -> 4.7. | HS6: 11.-12.7. | IQ6: =Seniori!IQ6 -> 15.-19.7. | IS6: =Seniori!IS6 -> 18.7. | IU6: =Seniori!IU6 -> 25.-26.7. | JC6: =Seniori!JC6 -> 31.7. | JL6: =Seniori!JL6 -> 5.-9.8. | JN6: 15.-16.8. | KD6: 22.-23.8. | KG6: 22.-23.8. | KY6: 28.8. | LI6: 28.-29.8. | LU6: 29.-30.8. | MH6: 5.- 6.9. | MX6: 11.-13.9. | NW6: 12.9.
K7: =Seniori!K7 -> Motešice | S7: Motešice | AH7: =Seniori!AH7 -> Motešice | AJ7: =Seniori!AJ7 -> Motešice CDI | AM7: =Seniori!AM7 -> Budapešť | AO7: =Seniori!AO7 -> Brno | AP7: =Seniori!AP7 -> Motešice | BD7: Kisbabolna | BI7: =Seniori!BI7 -> Dunajský Klátov | CF7: =Seniori!CF7 -> Těšánky | CR7: =Seniori!CR7 -> Rs Team | CY7: =Seniori!CY7 -> Brno | DA7: =Seniori!DA7 -> Las Cadenas | DC7: =Seniori!DC7 -> Olomouc | DK7: Szilvásvárad | EC7: CDI Olomouc | EE7: Vígľaš | EY7: Těšánky | FK7: CDI Brno | FP7: =Seniori!FP7 -> RS Team | FY7: =Seniori!FY7 -> Chotěbuz | GA7: =Seniori!GA7 -> Šamorín | GD7: =Seniori!GD7 -> Šamorín CDI | GI7: =Seniori!GI7 -> Motešice | HI7: =Seniori!HI7 -> RS Team | HS7: Dunaj. Klátov (MSR deti, juniori, ml. jazdci) | IQ7: =Seniori!IQ7 -> ME Detí Olomouc | IS7: =Seniori!IS7 -> Frenštát p/R | IU7: =Seniori!IU7 -> Szilvasvárad | JC7: =Seniori!JC7 -> RS Team | JL7: =Seniori!JL7 -> MS mladých koní (Verden) | JN7: Motešice | KD7: Panská Lícha | KG7: Pony MSR (Topoľčianky) | KY7: Rs Team | LI7: Motešice | LU7: Vyškov | MH7: Masarykov Dvor | MX7: Topoľčianky MSR YH+Seniori | NW7: Frenštát p/R
K8: Z2 | L8: =Seniori!L8 -> 4r | M8: =Seniori!M8 -> DUA | N8: =Seniori!N8 -> DD | O8: =Seniori!O8 -> 4r | P8: =Seniori!P8 -> 5rU | Q8: =Seniori!Q8 -> DUA | R8: =Seniori!R8 -> DD | S8: =Seniori!S8 -> Z2 | ... Z8: =Seniori!Z8 -> DJ | AA8: P3 | AB8: 4r | AC8: 5rU | AD8: DUA | AE8: DUB | AF8: DD | AG8: DJ | AH8: 4r | AI8: DD | AJ8: DUB | AK8: DD | AL8: DJ | AM8: =Seniori!AM8 -> IMII | AN8: =Seniori!AN8 -> U25GP | AO8: 5rU | AP8: P1 | AQ8: P3 | AR8: 4r | AS8: 5rU | AT8: 6rU | AU8: DUA | AV8: DUB | AW8: DD | AX8: 4r | AY8: 5rU | AZ8: 6rU | BA8: DUA | BB8: DUB | BC8: DD | BD8: A4 | BE8: DUA | BF8: LM2 | BG8: DD | BH8: MB4 | BI8: =Seniori!BI8 -> P1 | BJ8: =Seniori!BJ8 -> DUA | BK8: =Seniori!BK8 -> 4r | BL8: =Seniori!BL8 -> 5rU | BM8: =Seniori!BM8 -> 6rU | BN8: =Seniori!BN8 -> DD | BO8: =Seniori!BO8 -> LP4 | BP8: =Seniori!BP8 -> LS5 | ... BT8: =Seniori!BT8 -> IMII | BU8: P1 | BV8: DUA | BW8: DD | BX8: JJ | BY8: LP5 | BZ8: LS | CA8: 4r | CB8: 5rF | CC8: YJ | CD8: IMI | CE8: U25 | CF8: =Seniori!CF8 -> 5rU | CG8: =Seniori!CG8 -> JU | CH8: =Seniori!CH8 -> JD | CI8: =Seniori!CI8 -> YU | CJ8: =Seniori!CJ8 -> SG | CK8: =Seniori!CK8 -> IMA | CL8: =Seniori!CL8 -> 5rF | CM8: =Seniori!CM8 -> L0 | ... DJ8: =Seniori!DJ8 -> IMI | DK8: 4U | DL8: MKZ3 | DM8: 5rU | DN8: DUA | DO8: Z3 | DP8: DD | DQ8: LS5 | DR8: SG | DS8: IMI | DT8: 4U | DU8: MKZ4 | DV8: 5rF | DW8: Z4 | DX8: DUA | DY8: DJ | DZ8: L10 | EA8: YJ | EB8: IMI | EC8: 5rU | ED8: 5rF | EE8: P2 | EF8: 4rU | EG8: 5rU | EH8: DUA | EI8: DD | EJ8: JU | EK8: JD | EL8: SG | EM8: LP4 | EN8: IMI | EO8: P3 | EP8: 4rU | EQ8: 5rU | ER8: DUA | ES8: DD | ET8: DJ | EU8: JU | EV8: YJ | EW8: LP4 | EX8: IMI | EY8: DUA | EZ8: L0 | FA8: JU | FB8: JD | FC8: SG | FD8: IMI | FE8: Z4 | FF8: Z5 | FG8: JU | FH8: JD | FI8: SG | FJ8: IMI | FK8: 5rU | FL8: SG | FM8: 5rF | FN8: IMI | FO8: IMIF | FP8: =Seniori!FP8 -> P3 | FQ8: =Seniori!FQ8 -> P1 | FR8: =Seniori!FR8 -> MKZ1 | FS8: =Seniori!FS8 -> Z1 | FT8: =Seniori!FT8 -> Z3 | FU8: =Seniori!FU8 -> DUA | FV8: =Seniori!FV8 -> DD | FW8: =Seniori!FW8 -> LS5 | ... LG8: =Seniori!LG8 -> LS6 | LH8: S6 | LI8: =Seniori!LI8 -> Z2 | LJ8: =Seniori!LJ8 -> Z3 | LK8: =Seniori!LK8 -> 5rU | LL8: =Seniori!LL8 -> 6rU | LM8: =Seniori!LM8 -> DUA | LN8: =Seniori!LN8 -> DD | LO8: =Seniori!LO8 -> JU | LP8: =Seniori!LP8 -> SG | ... NY8: =Seniori!NY8 -> 0
A9: 1 | B9: Hunová Diana | C9: 7853 | D9: Rocky Rebel | E9: 11990 | F9: 2016 | G9: JK Scarlett Šamorín | I9: =SUM(K9:XX9) -> 131.5 | J9: {=SUM(LARGE(K9:NY12,_xlfn.SEQUENCE(D99)))} -> 166 | BO9: 6 | BQ9: 7 | BX9: 8 | BY9: 10 | CG9: o | CH9: 2 | CM9: 10 | CN9: 9 | EJ9: 8 | EK9: 2 | EU9: 6 | EW9: 7 | FV9: 4 | FX9: 2 | HZ9: 15 | IA9: 5 | IM9: 10.5 | LZ9: 6 | MA9: 5 | ME9: 2 | MG9: 7
D10: Prada Van Weizicht | E10: 12609 | F10: 2020 | I10: =SUM(K10:XX10) -> 122.5 | BK10: 2 | BL10: 3 | CA10: 4 | CB10: 6 | EY10: 6 | EZ10: 2 | FE10: 9 | FF10: 9 | KH10: 5 | KL10: 4 | KP10: 4 | KQ10: 12 | MY10: 11 | NG10: 5 | NH10: 16.5 | NO10: 12 | NP10: 12
D11: Topas Imperial | E11: 14005 | F11: 2021 | I11: =SUM(K11:XX11) -> 99.5 | JF11: 4 | JG11: 6 | KG11: 7 | KH11: 7 | KP11: 5 | KT11: 6 | LU11: 4 | LW11: 3 | MB11: 8 | ME11: 5 | MX11: 10 | MY11: 7 | NF11: 8 | NG11: 7.5 | NO11: 12
D12: Kiero DMA | E12: 13796 | F12: 2021 | I12: =SUM(K12:XX12) -> 36.5 | KG12: 5 | KH12: 2 | KP12: 3 | KT12: 4 | MX12: 7 | MY12: 5 | NG12: 3 | NO12: 7.5
A13: 2 | B13: Jašeková Diana | C13: 9423 | D13: Libel Van De Leenakker | E13: 11921 | F13: 2011 | G13: JK Limfora Badín | I13: =SUM(K13:XX13) -> 94 | J13: {=SUM(LARGE(K13:NY14,_xlfn.SEQUENCE(D99)))} -> 115 | BF13: 3 | BG13: o | BN13: 2 | BP13: 5 | BW13: o | BZ13: 7 | DP13: 6 | DQ13: 8 | DY13: 6 | DZ13: o | HY13: 6 | IL13: o | IW13: 8 | IX13: 10 | JA13: 6 | JB13: 9 | MM13: 1 | MU13: 4 | NK13: 6 | NS13: 7
D14: King Galaxie L | E14: 13587 | F14: 2015 | I14: =SUM(K14:XX14) -> 38 | BG14: 9 | BH14: 2 | BN14: o | BO14: 9 | BW14: 6 | BY14: 12
A15: 3 | B15: Pestunová Alica | C15: 10993 | D15: Némes Furioso L-34 | E15: 10993 | F15: 2016 | G15: Harmónia v sedle | I15: =SUM(K15:XX15) -> 91.5 | J15: =Juniori!$I15 -> 91.5 | BP15: 4 | BQ15: 6 | BX15: 9 | BZ15: 10 | FV15: 5 | FW15: 7 | HZ15: 18 | IA15: 9 | IM15: 13.5 | KM15: 5 | KV15: 5
A16: 4 | B16: Beláková Karolína | C16: 8575 | D16: Limit | E16: 11628 | F16: 2010 | G16: JK Jurský Dvor Nitra | I16: =SUM(K16:XX16) -> 0 | J16: =Juniori!$I16+I17 -> 78
D17: Revolution | E17: 12362 | F17: 2017 | I17: =SUM(K17:XX17) -> 78 | BQ17: 3 | BW17: 1 | DD17: 5 | DE17: 3 | DI17: 3 | EU17: 8 | HZ17: 9 | IM17: 15 | KM17: 10 | KV17: 10 | MN17: 8 | MO17: 3 | MW17: o
A18: 5 | B18: Popovcová Janka | C18: 5943 | D18: Zembee Aye AMH | E18: 13079 | F18: 2020 | G18: Equinibrium AMH Vlkanová | I18: =SUM(K18:XX18) -> 79 | J18: {=SUM(LARGE(K18:NY19,_xlfn.SEQUENCE(D99)))} -> 76.5 | BL18: 2 | BN18: o | BV18: o | CB18: 2 | EG18: o | EI18: 1 | EQ18: 1 | ES18: o | GS18: 7 | GT18: 4 | HE18: o | HF18: 3 | HW18: 7 | HY18: 10.5 | IL18: o | MK18: 6 | MM18: 2 | MS18: 7 | MU18: 3 | NB18: 4 | NG18: 3 | NH18: 6 | NO18: 9 | NP18: 1.5
D19: Figa Noire AMH | E19: 12445 | F19: 2015 | I19: =SUM(K19:XX19) -> 6.5 | GL19: o | GM19: 2 | KJ19: 1.5 | KK19: o | KS19: 3 | KT19: o
A20: 6 | B20: Grujbarová Viktória Paula | C20: 9570 | D20: Romanova | E20: 13031 | F20: 2009 | G20: Equipro Veľká Lehota | I20: =SUM(K20:XX20) -> 62 | J20: {=SUM(LARGE(K20:NY21,_xlfn.SEQUENCE(D99)))} -> 53 | AU20: o | AW20: 1 | BA20: o | BC20: o | BJ20: 1 | BN20: 6 | BV20: 4 | BW20: o | CV20: 2 | CW20: 3 | EH20: 1 | EI20: 2 | ES20: 2 | ET20: 4 | GS20: 2 | GT20: 1 | HE20: 2 | HF20: 2 | HW20: 1 | HY20: 4.5 | IJ20: 5 | IL20: 4.5 | LD20: 5 | LF20: 5 | MI20: 1 | MM20: o | MP20: 1 | MU20: 2
D21: Max | E21: 13021 | F21: 2009 | I21: =SUM(K21:XX21) -> 0 | EH21: o | ER21: o | KK21: o | KL21: o | MI21: o | MM21: o | MU21: o
A22: 7 | B22: Magdolenová Timea | C22: 10609 | D22: Sissi | G22: Equinibrium AMH Vlkanová | I22: =SUM(K22:XX22) -> 51.5 | J22: =Juniori!$I22 -> 51.5 | BJ22: o | BN22: o | BV22: 2 | BW22: o | EH22: o | ER22: o | ET22: 3 | GS22: o | GT22: 2 | HE22: 5 | HF22: 1 | HW22: 5 | HY22: 7.5 | IL22: 9 | KK22: 6 | KL22: o | KT22: o | KU22: o | MI22: o | MM22: 4 | MU22: o | NJ22: 1 | NK22: 1 | NR22: 4 | NS22: 1
A23: 8 | B23: Froncová Kristína | C23: 10331 | D23: Mr. Muffine | E23: 13045 | G23: JK Scarlett Šamorín | I23: =SUM(K23:XX23) -> 50.5 | J23: {=SUM(LARGE(K23:NY23,_xlfn.SEQUENCE(D99)))} -> 47.5 | BI23: o | BJ23: o | BU23: 1 | BV23: 3 | EE23: 4 | EI23: o | EO23: o | ES23: o | FP23: 3 | FV23: o | HS23: o | HW23: 2 | IF23: 5 | IJ23: 2 | JC23: 3 | JD23: 3 | KJ23: 3 | KK23: o | KS23: 4.5 | KY23: 2 | KZ23: 3 | LU23: 2 | LV23: 2 | MC23: 2 | MD23: 6
A24: 9 | B24: Poláčková Eliška | C24: 9424 | D24: Bewitch | E24: 10208 | F24: 2007 | G24: Equina Sport Team Plav. Podhradie | I24: =SUM(K24:XX24) -> 25 | J24: =Juniori!$I24+I25 -> 31 | CV24: 4 | CW24: 5 | FU24: 1 | FV24: 1 | HY24: 1.5 | IL24: 1.5 | JF24: 3 | JH24: 3 | LD24: 4 | LF24: 1
D25: Winstar | E25: 9679 | F25: 2003 | I25: =SUM(K25:XX25) -> 6 | BV25: 2 | BW25: 1 | FV25: o | HY25: o | IL25: 3
A26: 10 | B26: Richtárechová Salome | C26: 9452 | D26: Nonius XXXVII-1 SK Zachar | E26: 13101 | F26: 2021 | G26: TJ Žrebčín Motešice | I26: =SUM(K26:XX26) -> 18 | J26: =Juniori!$I26+I27 -> 18 | L26: 1 | Q26: o | AR26: 3 | AY26: 7 | GJ26: 5 | JQ26: 1 | JY26: 1
D27: Fairlypi-5 Xirius | E27: 12961 | I27: =SUM(K27:XX27) -> 0
A28: 11 | B28: Valovičová Katarína | C28: 9932 | D28: Sunrise | E28: 9019 | G28: JK Limit Bratislava | I28: =SUM(K28:XX28) -> 0 | J28: =Juniori!$I28+I29+I31+I30 -> 12 | CR28: o | FP28: o | FU28: o
D29: Apolenka | E29: 13333 | F29: 2012 | I29: =SUM(K29:XX29) -> 3 | CR29: o | CT29: o | HI29: o | HL29: 3 | JD29: o | KY29: o
D30: Davos Safira | E30: 13590 | I30: =SUM(K30:XX30) -> 3 | LA30: 1 | LB30: 2
D31: Nanook | E31: 10757 | I31: =SUM(K31:XX31) -> 6 | CV31: o | FP31: o | FU31: o | HI31: 2 | HO31: o | JD31: 2 | KY31: 2
A32: 12 | B32: Líšková Tereza | C32: 8647 | D32: Furioso XXIV-35 SK (Black Fox) | E32: 13398 | F32: 2021 | G32: JK Limit Bratislava | I32: =SUM(K32:XX32) -> 7 | J32: =Juniori!$I32 -> 7 | CT32: o | CV32: o | FR32: o | FS32: 2 | GI32: 1 | GJ32: 1 | GO32: 2 | GW32: 1 | JE32: o | JG32: o | LA32: o | LB32: o
A33: 12 | B33: Baier Laura | C33: 9980 | D33: D'artagnan | E33: 11141 | F33: 2016 | G33: JK Masarykov Dvor | I33: =SUM(K33:XX33) -> 7 | J33: =Juniori!$I33 -> 7 | EH33: o | EM33: 4 | ER33: o | EW33: 3
A34: 12 | B34: Bersihand Soizic | C34: 10151 | D34: Amber Nuance | E34: 9925 | G34: TJ Žrebčín Motešice | I34: =SUM(K34:XX34) -> 7 | J34: =Juniori!$I34 -> 7 | K34: o | M34: o | W34: o | JN34: 5 | JS34: o | LI34: o | LJ34: 2
A35: 15 | B35: Kováčiková Lucia | C35: 8620 | D35: Furioso XLII-21 Sauvignon | E35: 11682 | G35: TJ Žrebčín Motešice | I35: =SUM(K35:XX35) -> 5 | J35: =Juniori!$I35 -> 5 | M35: 2 | Q35: 3 | LN35: o
A36: 15 | B36: Gadomská Dominika | C36: 10796 | D36: Latigo | E36: 12573 | G36: JK Limit Bratislava | I36: =SUM(K36:XX36) -> 0 | J36: =Juniori!$I36+I37 -> 5
D37: Meidlinger's Fantastico | E37: 7860 | F37: 2006 | I37: =SUM(K37:XX37) -> 5 | CT37: 2 | HL37: 1 | JE37: 2 | JF37: o
A38: 17 | B38: Stružová Dominika | C38: 8785 | D38: Chilling Warrior | E38: 12539 | G38: Ranč Ouzkých Bratislava | I38: =SUM(K38:XX38) -> 3 | J38: =Juniori!$I38+I39 -> 3 | CV38: o | FU38: o | HM38: 2 | HN38: 1
D39: Berlina van de Capitol | E39: 8874 | F39: 2008 | I39: =SUM(K39:XX39) -> 0 | CV39: o
A40: 17 | B40: Štefániková Laura | C40: 9918 | D40: Caramel | E40: 13585 | F40: 2013 | G40: Ranč Ouzkých Bratislava | I40: =SUM(K40:XX40) -> 3 | J40: =Juniori!$I40 -> 3 | FP40: o | FS40: 3
A41: 19 | B41: Sláviková Natália | C41: 11247 | D41: Ketah | E41: 5271 | F41: 2000 | G41: TJ Žrebčín Motešice | I41: =SUM(K41:XX41) -> 2 | J41: =Juniori!$I41 -> 2 | JN41: 1 | JO41: 1
A42: 19 | B42: Krajčíková Katarína | D42: Samba Samba Sa | E42: 13235 | F42: 2019 | G42: Harmónia v sedle | I42: =SUM(K42:XX42) -> 2 | J42: =Juniori!$I42 -> 2 | BN42: o | BV42: 2 | CV42: o | CW42: o | FU42: o | FV42: o
A43: 21 | B43: Pavlisová Hana | C43: 10517 | D43: Wavo Arleta | E43: 15615 | F43: 2014 | G43: MKM Sporthorses Bratislava | I43: =SUM(K43:XX43) -> 1 | J43: =Juniori!$I43 -> 1 | JE43: 1 | LB43: o
A44: 21 | B44: Geťková Noemi Lucia | C44: 9965 | D44: Furioso XXV-38/Osaka | E44: 8780 | G44: TJ Žrebčín Motešice | I44: =SUM(K44:XX44) -> 1 | J44: =Juniori!$I44+I45+I46 -> 1 | LM44: 1
D45: Fairlypi-5 Xirius | E45: 12961 | I45: =SUM(K45:XX45) -> 0
D46: Grafit | E46: 13460 | F46: 2010 | I46: =SUM(K46:XX46) -> 0
A47: 23 | B47: Mitríková Šárka | C47: 9800 | D47: Furioso XXXVI-5/Ula | E47: 10989 | G47: TJ Žrebčín Motešice | I47: =SUM(K47:XX47) -> 0 | J47: =Juniori!$I47+I48+I49+I50+I51+I52 -> 0 | Q47: o
D48: Nonius XXXVI-12/Xeila | E48: 12751 | F48: 2020 | I48: =SUM(K48:XX48) -> 0
D49: Furioso XXV-22/Moskva | E49: 7465 | I49: =SUM(K49:XX49) -> 0
D50: Piaf | E50: 8781 | I50: =SUM(K50:XX50) -> 0
D51: Red Bernadetta | E51: 12310 | F51: 2019 | I51: =SUM(K51:XX51) -> 0 | M51: o | Q51: o | W51: o | AD51: o
D52: Letterfore Tina | E52: 13536 | F52: 2018 | I52: =SUM(K52:XX52) -> 0 | T52: o | AA52: o
B53: Jašušáková Sandra | C53: 10274 | D53: Ketah | E53: 5271 | F53: 2000 | G53: TJ Žrebčín Motešice | I53: =SUM(K53:XX53) -> 0 | J53: =Juniori!$I53 -> 0 | GN53: o | GQ53: o
A54: 25 | B54: Vicenová Isabell | C54: 10979 | D54: Red Bernadetta | E54: 12310 | G54: TJ Žrebčín Motešice | I54: =SUM(K54:XX54) -> 0 | J54: =Juniori!$I54 -> 0 | GZ54: o | HC54: o
B55: Harachová Sabina | C55: 9513 | D55: Ricardo Diamond Surprice | E55: 12902 | F55: 2019 | G55: JK Limfora Badín | I55: =SUM(K55:XX55) -> 0 | J55: =Juniori!$I55 -> 0 | EH55: o | EI55: o | ER55: o | ES55: o
B56: Knapcová Stela | C56: 9527 | D56: Marengo | F56: 2007 | G56: JS Polet Trebostovo | I56: =SUM(K56:XX56) -> 0 | J56: =Juniori!$I56+I57 -> 0
D57: Pretoria Elisson | E57: 12161 | F57: 2019 | I57: =SUM(K57:XX57) -> 0
B58: Balajová Bibiana | C58: 9763 | D58: Red Bacardy | E58: 13119 | F58: 2021 | G58: Sportstall Marthaler | I58: =SUM(K58:XX58) -> 0 | J58: =Juniori!$I58 -> 0
B59: Hacajová Linda | C59: 10332 | D59: Mr. Muffine | E59: 13045 | G59: JK Scarlett Šamorín | I59: =SUM(K59:XX59) -> 0 | J59: =Juniori!$I59 -> 0
A60: 30 | B60: Vachová Petronela | C60: 9629 | D60: Ilarion | E60: 11822 | G60: JK Rozálka Pezinok | I60: =SUM(K60:XX60) -> 0 | J60: =Juniori!$I60+I62+I61 -> 0
D61: Noowandi | E61: 13975 | F61: 2022 | I61: =SUM(K61:XX61) -> 0 | HT61: o
D62: Luna | E62: 12155 | I62: =SUM(K62:XX62) -> 0
B63: Kalina Branislav | C63: 10330 | D63: Centa-Ráza | E63: 8822 | F63: 2010 | G63: JK Scarlett Šamorín | I63: =SUM(K63:XX63) -> 0 | J63: =Juniori!$I63 -> 0
B64: Budancová Bibiana | C64: 9739 | D64: Silver Moon | E64: 8330 | F64: 2009 | G64: Equiteam Most pri Bratislave | I64: =SUM(K64:XX64) -> 0 | J64: =Juniori!$I64 -> 0
B65: Košťálová Júlia | C65: 9218 | D65: Zazu | E65: 11792 | G65: JO Martin - Záturčie Vrútky | I65: =SUM(K65:XX65) -> 0 | J65: =Juniori!$I65 -> 0
B66: Ryšánková Dorina | C66: 10878 | D66: Giovanni | E66: 10973 | F66: 2011 | G66: MKM Sporthorses Bratislava | I66: =SUM(K66:XX66) -> 0 | J66: =Juniori!$I66 -> 0 | CU66: o | CV66: o | HM66: o | IJ66: o
A67: 35 | B67: Oršuliaková Viktória | C67: 9004 | D67: Sonet | E67: 11608 | F67: 2012 | G67: TJ Žižka Bratislava | I67: =SUM(K67:XX67) -> 0 | J67: =Juniori!$I67 -> 0
B68: Abdallová Sherin | C68: 9317 | D68: Furioso XLII-21 Sauvignon | E68: 11682 | G68: TJ Žrebčín Motešice | I68: =SUM(K68:XX68) -> 0 | J68: =Juniori!$I68 -> 0
B69: Foldešiová Alžbeta | C69: 10258 | D69: Furioso XLII-6/Red Mafia | E69: 10853 | G69: TJ Žrebčín Motešice | I69: =SUM(K69:XX69) -> 0 | J69: =Juniori!$I69+I70+I71 -> 0 | S69: o
D70: Piaf | E70: 8781 | I70: =SUM(K70:XX70) -> 0
D71: Przedswit XXXIII-9 Ximon | E71: 12950 | F71: 2020 | I71: =SUM(K71:XX71) -> 0 | M71: o | Q71: o | W71: o | AD71: o | JV71: o
B72: Mirante Veronika | C72: 9297 | D72: Lord Weingard - 15 | E72: 12870 | G72: JK Scarlett Šamorín | I72: =SUM(K72:XX72) -> 0 | J72: =Juniori!$I72 -> 0
B73: Fričová Diana | C73: 9838 | D73: Olympia | E73: 10670 | G73: Beri Klub Nová Baňa | I73: =SUM(K73:XX73) -> 0 | J73: =Juniori!$I73 -> 0
A74: 40 | B74: Bežová Kristína | C74: 10767 | D74: Amos | E74: 8754 | G74: Vida Bratislava | I74: =SUM(K74:XX74) -> 0 | J74: =Juniori!$I74 -> 0
B75: Majcinová Tamara | C75: 10236 | D75: Hayco | E75: 11382 | G75: JK Ivanka pri Dunaji | I75: =SUM(K75:XX75) -> 0 | J75: =Juniori!$I75 -> 0
B76: Tichá Nelly | C76: 10171 | D76: Esmeralda | E76: 9086 | G76: JK RS Team Bratislava | I76: =SUM(K76:XX76) -> 0 | J76: =Juniori!$I76 -> 0 | FU76: o | FV76: o
B77: Baková Linda Klaudia | C77: 9731 | D77: Silver Moon | E77: 8330 | F77: 2009 | G77: Equiteam Most pri Bratislave | I77: =SUM(K77:XX77) -> 0 | J77: =Juniori!$I77 -> 0
B78: Daniel Lilien Jolie | C78: 9255 | D78: Charlie De La Casa | E78: 12698 | F78: 2017 | G78: TK Sport Stable Bratislava | I78: =SUM(K78:XX78) -> 0 | J78: =Juniori!$I78 -> 0
A79: 45 | B79: Jarábková Alexandra | C79: 9253 | D79: Furioso VIII-3/Harmony | E79: 10689 | G79: JK Limit Bratislava | I79: =SUM(K79:XX79) -> 0 | J79: =Juniori!$I79+I80+I82+I81 -> 0 | CV79: o | CW79: o | FU79: o | FV79: o | HN79: o | HO79: o | LD79: o | LF79: o
D80: Furioso XLIX-44 Napos | E80: 11808 | I80: =SUM(K80:XX80) -> 0
D81: Meidlinger's Fantastico | E81: 7860 | I81: =SUM(K81:XX81) -> 0 | CV81: o | FT81: o | HO81: o | LD81: o | LF81: o
D82: Latigo | E82: 12573 | I82: =SUM(K82:XX82) -> 0
B83: Valachovičová Viktória | C83: 10794 | D83: Nanook | E83: 10757 | G83: JK Limit Bratislava | I83: =SUM(K83:XX83) -> 0 | J83: =Juniori!$I83 -> 0 | CR83: o
B84: Červenková Alexandra | C84: 9934 | D84: Donna Blue | E84: 12696 | G84: JK Limit Bratislava | I84: =SUM(K84:XX84) -> 0 | J84: =Juniori!$I84 -> 0
B85: Golianová Lea | C85: 9675 | D85: Figa Noire AMH | E85: 12445 | F85: 2015 | G85: Equinibrium AMH Vlkanová | I85: =SUM(K85:XX85) -> 0 | J85: =Juniori!$I85 -> 0
B86: Janušková Olivia | C86: 9369 | D86: Symphony L | E86: 13503 | G86: Ranč Ouzkých Bratislava | I86: =SUM(K86:XX86) -> 0 | J86: =Juniori!$I86 -> 0
A87: 50 | B87: Justusová Nina | C87: 9133 | D87: Úkaz | E87: 10992 | G87: TJ Žrebčín Motešice | I87: =SUM(K87:XX87) -> 0 | J87: =Juniori!$I87 -> 0
B88: Polakova Vivien | C88: 9620 | D88: Princ Chery Orchand | E88: 11871 | G88: JK Masarykov Dvor | I88: =SUM(K88:XX88) -> 0 | J88: =Juniori!$I88 -> 0
B89: Popovcová Janka | C89: 5943 | D89: Cara Mel | E89: 13454 | G89: JK Masarykov Dvor | I89: =SUM(K89:XX89) -> 0 | J89: =Juniori!$I89 -> 0
B90: Pullmanová Lucia | C90: 9674 | D90: Bübáj | E90: 13093 | G90: JK Masarykov Dvor | I90: =SUM(K90:XX90) -> 0 | J90: =Juniori!$I90 -> 0
B91: Smatanová Michaela | C91: 9955 | D91: Alpinhorse Fiery Fox | E91: 13561 | F91: 2021 | G91: JS Polet Trebostovo | I91: =SUM(K91:XX91) -> 0 | J91: =Juniori!$I91 -> 0
A92: 55 | B92: Trupl Teraza | C92: 9162 | D92: Taylor | E92: 8763 | G92: JK Femini Team Trnava | I92: =SUM(K92:XX92) -> 0 | J92: =Juniori!$I92 -> 0 | CV92: o | FU92: o | HN92: o | LD92: o
B93: Valentová Sophia | C93: 9832 | D93: Faible | E93: 11810 | F93: 2016 | G93: BK Dunaj Bratislava | I93: =SUM(K93:XX93) -> 0 | J93: =Juniori!$I93 -> 0
A94: 56 | B94: SPOLU | I94: =SUM(K94:XX94) -> 0
I95: =SUM(K95:XX95) -> 0
I96: =SUM(K96:XX96) -> 0
I97: =SUM(K97:XX97) -> 0
I98: =SUM(K98:XX98) -> 0
D99: 15 | I99: =SUM(K99:XX99) -> 0 | J99: =Juniori!$I99 -> 0

Sheet Deti
A1: DREZÚRNY REBRÍČEK
A2: Jazdec roka 2026
A4: Deti
A6: Poradie | B6: Jazdec | C6: Licencia SJF | D6: Kôň | E6: Licencia SJF | F6: Rok nar. | G6: Subjekt | I6: Body celkom | J6: Spolu 15 NAJ | K6: =Seniori!K6 -> 06.-08.02. | S6: =Seniori!S6 -> 27.2.-1.3. | AH6: =Seniori!AH6 -> 05.-07.03. | AJ6: =Seniori!AJ6 -> 05.-07.03. | AM6: =Seniori!AM6 -> 21.-22.3. | AO6: =Seniori!AO6 -> 5.4. | AP6: =Seniori!AP6 -> 2.-4.4. | BD6: 11.4. | BI6: =Seniori!BI6 -> 18.-19.4. | CF6: =Seniori!CF6 -> 25.-26.4. | CR6: =Seniori!CR6 -> 1.5. | CY6: =Seniori!CY6 -> 3.5. | DA6: =Seniori!DA6 -> 8.-10.5. | DC6: =Seniori!DC6 -> 9.-10.5. | DK6: 9.-10.5. | EC6: 21.-24.5. | EE6: 23.-24.5. | EY6: 30.-31.5. | FK6: 5.-7.6. | FP6: =Seniori!FP6 -> 13.6. | FY6: =Seniori!FY6 -> 14.6. | GA6: =Seniori!GA6 -> 27.-28.6. | GD6: =Seniori!GD6 -> 26.-28.6. | GI6: =Seniori!GI6 -> 26.-27.6. | HI6: =Seniori!HI6 -> 4.7. | HS6: 11.-12.7. | IQ6: =Seniori!IQ6 -> 15.-19.7. | IS6: =Seniori!IS6 -> 18.7. | IU6: =Seniori!IU6 -> 25.-26.7. | JC6: =Seniori!JC6 -> 31.7. | JL6: =Seniori!JL6 -> 5.-9.8. | JN6: 15.-16.8. | KD6: 22.-23.8. | KG6: 22.-23.8. | KY6: 28.8. | LI6: 28.-29.8. | LU6: 29.-30.8. | MH6: 5.- 6.9. | MX6: 11.-13.9. | NW6: 12.9.
K7: =Seniori!K7 -> Motešice | S7: =Seniori!S7 -> Motešice | AH7: =Seniori!AH7 -> Motešice | AJ7: =Seniori!AJ7 -> Motešice CDI | AM7: =Seniori!AM7 -> Budapešť | AO7: =Seniori!AO7 -> Brno | AP7: =Seniori!AP7 -> Motešice | BD7: Kisbabolna | BI7: =Seniori!BI7 -> Dunajský Klátov | CF7: =Seniori!CF7 -> Těšánky | CR7: =Seniori!CR7 -> Rs Team | CY7: =Seniori!CY7 -> Brno | DA7: =Seniori!DA7 -> Las Cadenas | DC7: =Seniori!DC7 -> Olomouc | DK7: Szilvásvárad | EC7: CDI Olomouc | EE7: Vígľaš | EY7: Těšánky | FK7: CDI Brno | FP7: =Seniori!FP7 -> RS Team | FY7: =Seniori!FY7 -> Chotěbuz | GA7: =Seniori!GA7 -> Šamorín | GD7: =Seniori!GD7 -> Šamorín CDI | GI7: =Seniori!GI7 -> Motešice | HI7: =Seniori!HI7 -> RS Team | HS7: =Seniori!HS7 -> Dunaj. Klátov (MSR deti, juniori, ml. jazdci) | IQ7: =Seniori!IQ7 -> ME Detí Olomouc | IS7: =Seniori!IS7 -> Frenštát p/R | IU7: =Seniori!IU7 -> Szilvasvárad | JC7: =Seniori!JC7 -> RS Team | JL7: =Seniori!JL7 -> MS mladých koní (Verden) | JN7: Motešice | KD7: Panská Lícha | KG7: Pony MSR (Topoľčianky) | KY7: Rs Team | LI7: Motešice | LU7: Vyškov | MH7: Masarykov Dvor | MX7: Topoľčianky MSR YH+Seniori | NW7: Frenštát p/R
K8: =Seniori!K8 -> Z2 | L8: =Seniori!L8 -> 4r | M8: =Seniori!M8 -> DUA | N8: =Seniori!N8 -> DD | O8: =Seniori!O8 -> 4r | P8: =Seniori!P8 -> 5rU | Q8: =Seniori!Q8 -> DUA | R8: =Seniori!R8 -> DD | ... AB8: =Seniori!AB8 -> 4r | AC8: 5rU | AD8: DUA | AE8: DUB | AF8: DD | AG8: DJ | AH8: =Seniori!AH8 -> 4r | AI8: DD | AJ8: =Seniori!AJ8 -> DUB | AK8: =Seniori!AK8 -> DD | AL8: =Seniori!AL8 -> DJ | AM8: =Seniori!AM8 -> IMII | AN8: =Seniori!AN8 -> U25GP | AO8: =Seniori!AO8 -> 5rU | AP8: =Seniori!AP8 -> P1 | AQ8: =Seniori!AQ8 -> P3 | ... AY8: =Seniori!AY8 -> 5rU | AZ8: 6rU | BA8: =Seniori!BA8 -> DUA | BB8: =Seniori!BB8 -> DUB | BC8: =Seniori!BC8 -> DD | BD8: A4 | BE8: DUA | BF8: LM2 | BG8: DD | BH8: MB4 | BI8: =Seniori!BI8 -> P1 | BJ8: =Seniori!BJ8 -> DUA | BK8: =Seniori!BK8 -> 4r | BL8: =Seniori!BL8 -> 5rU | BM8: =Seniori!BM8 -> 6rU | BN8: =Seniori!BN8 -> DD | BO8: =Seniori!BO8 -> LP4 | BP8: =Seniori!BP8 -> LS5 | ... BT8: =Seniori!BT8 -> IMII | BU8: P1 | BV8: DUA | BW8: DD | BX8: JJ | BY8: LP5 | BZ8: LS | CA8: 4r | CB8: 5rF | CC8: YJ | CD8: IMI | CE8: U25 | CF8: =Seniori!CF8 -> 5rU | CG8: =Seniori!CG8 -> JU | CH8: =Seniori!CH8 -> JD | CI8: =Seniori!CI8 -> YU | CJ8: =Seniori!CJ8 -> SG | CK8: =Seniori!CK8 -> IMA | CL8: =Seniori!CL8 -> 5rF | CM8: =Seniori!CM8 -> L0 | ... DJ8: =Seniori!DJ8 -> IMI | DK8: 4U | DL8: MKZ3 | DM8: 5rU | DN8: DUA | DO8: Z3 | DP8: DD | DQ8: LS5 | DR8: SG | DS8: IMI | DT8: 4U | DU8: MKZ4 | DV8: 5rF | DW8: Z4 | DX8: DUA | DY8: DJ | DZ8: L10 | EA8: YJ | EB8: IMI | EC8: 5rU | ED8: 5rF | EE8: P2 | EF8: 4rU | EG8: 5rU | EH8: DUA | EI8: DD | EJ8: JU | EK8: JD | EL8: SG | EM8: LP4 | EN8: IMI | EO8: P3 | EP8: 4rU | EQ8: 5rU | ER8: DUA | ES8: DD | ET8: DJ | EU8: JU | EV8: YJ | EW8: LP4 | EX8: IMI | EY8: DUA | EZ8: L0 | FA8: JU | FB8: JD | FC8: SG | FD8: IMI | FE8: Z4 | FF8: Z5 | FG8: JU | FH8: JD | FI8: SG | FJ8: IMI | FK8: 5rU | FL8: SG | FM8: 5rF | FN8: IMI | FO8: IMIF | FP8: P3 | FQ8: =Seniori!FQ8 -> P1 | FR8: =Seniori!FR8 -> MKZ1 | FS8: =Seniori!FS8 -> Z1 | FT8: =Seniori!FT8 -> Z3 | FU8: =Seniori!FU8 -> DUA | FV8: =Seniori!FV8 -> DD | FW8: =Seniori!FW8 -> LS5 | FX8: =Seniori!FX8 -> S5 | ... LG8: =Seniori!LG8 -> LS6 | LH8: S6 | LI8: =Seniori!LI8 -> Z2 | LJ8: =Seniori!LJ8 -> Z3 | LK8: =Seniori!LK8 -> 5rU | LL8: =Seniori!LL8 -> 6rU | LM8: =Seniori!LM8 -> DUA | LN8: =Seniori!LN8 -> DD | LO8: =Seniori!LO8 -> JU | LP8: =Seniori!LP8 -> SG | ... OC8: =Seniori!OC8 -> 0
A9: 1 | B9: Námešná Ela | C9: 8995 | D9: Don Matteo | E9: 12642 | F9: 2014 | G9: JK Agrocontact Jasová | I9: =SUM(K9:XW9) -> 19 | J9: {=SUM(LARGE(K9:OK11,_xlfn.SEQUENCE(D103)))} -> 137.5 | BI9: 1 | BJ9: o | BV9: o | EE9: o | EH9: o | EO9: o | ER9: o | FP9: o | FT9: 2 | HW9: 4.5 | HX9: 1 | IK9: 6 | KJ9: o | KK9: o | KS9: 1.5 | KT9: o | MI9: o | MM9: 3
D10: Papagayo TC | E10: 13758 | F10: 2020 | I10: =SUM(K10:XW10) -> 164.5 | BK10: 8 | BV10: 6 | CA10: 8 | EF10: 4 | EG10: 8 | EP10: 8 | EQ10: 11 | FR10: 7 | FU10: 4 | HW10: 10.5 | HX10: o | IK10: 3 | KG10: 5 | KH10: 7 | KP10: 7 | KQ10: 9 | MJ10: 5 | MK10: 11 | NG10: 10 | NH10: 15 | NP10: 12 | NR10: 6
D11: Nispuck | E11: 12921 | F11: 2008 | I11: =SUM(K11:XW11) -> 0
A12: 2 | B12: Magál Ján | C12: 8604 | D12: Red Bernadetta | E12: 12310 | G12: TJ Žrebčín Motešice | I12: =SUM(K12:XW12) -> 0 | J12: {=SUM(LARGE(K12:OD18,_xlfn.SEQUENCE(D103)))} -> 108.5
D13: Przedswit XXXIII-12 Xyntia | E13: 12750 | I13: =SUM(K13:XW13) -> 0
D14: Flor D´Accord | E14: 11998 | F14: 2011 | I14: =SUM(K14:XW14) -> 74.5 | N14: 8 | R14: 9 | Z14: 4 | AJ14: 10.5 | AK14: 16.5 | AL14: 16.5 | IQ14: 4 | IR14: 6
D15: Furioso XLII-21 Sauvignon | E15: 11682 | F15: 2018 | I15: =SUM(K15:XW15) -> 24 | N15: 5 | R15: 4 | AF15: 6 | HE15: 5 | HY15: 4
D16: Piaf | E16: 8781 | F16: 2010 | I16: =SUM(K16:XW16) -> 21 | N16: 3 | R16: 6 | AG16: 2 | AW16: 4 | BB16: 3 | HY16: 3
D17: Düval Raeval | E17: 14028 | F17: 2015 | I17: =SUM(K17:XW17) -> 4 | JS17: 1 | KB17: 3
D18: Przedswit XXIX-2 Šafran | E18: 9794 | F18: 2013 | I18: =SUM(K18:XW18) -> 3 | Y18: 3
A19: 3 | B19: Magálová Agátka | C19: 9377 | D19: Dafne Van Dej | E19: 9547 | F19: 2010 | G19: TJ Žrebčín Motešice | I19: =SUM(K19:XW19) -> 0 | J19: {=SUM(LARGE(K19:OJ24,_xlfn.SEQUENCE(D103)))} -> 67
D20: Grafit | F20: 2010 | I20: =SUM(K20:XW20) -> 0
D21: Piaf | E21: 8781 | F21: 2010 | I21: =SUM(K21:XW21) -> 18 | Y21: 4 | AF21: 6 | AI21: 2 | AV21: 2 | BC21: 4
D22: Gidran XX-12/Wonderbra | E22: 11681 | F22: 2018 | I22: =SUM(K22:XW22) -> 48.5 | M22: 3 | Q22: 2 | W22: 3 | AD22: 4 | EH22: 2 | ER22: 1 | GQ22: 3 | GR22: o | HC22: 5 | HW22: 1.5 | HX22: o | IK22: 3 | JH22: o | JS22: 3 | JT22: 3 | KA22: 5 | KB22: 4 | LM22: 2 | LN22: 1 | LT22: 3
D23: Letterfore Tina | E23: 13536 | F23: 2018 | I23: =SUM(K23:XW23) -> 0
D24: Lord | E24: 10506 | F24: 2012 | I24: =SUM(K24:XW24) -> 58 | M24: 2 | Q24: 4 | EE24: 1 | EH24: 1 | EO24: 5 | ER24: 4 | GM24: 3 | GQ24: o | GZ24: 4 | HC24: o | HW24: 1.5 | HX24: o | IJ24: 5 | IK24: 1.5 | JD24: 2 | JH24: 3 | KJ24: 4.5 | KK24: 3 | KS24: 4.5 | LJ24: 3 | LM24: 4 | LT24: 2 | MH24: o | MI24: o | MP24: o
A25: 4 | B25: Meszárosová Alexandra | C25: 9910 | D25: Alexander | E25: 13132 | F25: 2009 | G25: JK Ivanka pri Dunaji | I25: =SUM(K25:XW25) -> 14 | J25: {=SUM(LARGE(K25:OB26,_xlfn.SEQUENCE(D103)))} -> 62.5 | FP25: 1 | GM25: 2 | GQ25: o | GZ25: 1 | HC25: o | HS25: o | HW25: 1.5 | IF25: 3 | IK25: 1.5 | KJ25: o | KL25: 4 | KS25: o
D26: Butterfly | E26: 13919 | F26: 2016 | I26: =SUM(K26:XW26) -> 49.5 | EH26: o | ER26: 4 | FT26: 3 | FU26: 3 | GR26: 6 | HD26: 6 | HW26: 9 | IK26: 10.5 | KK26: 6 | KT26: 2
A27: 5 | B27: Kubušová Kristína | C27: 10275 | D27: Kilian | E27: 12845 | F27: 2018 | G27: JK Limfora Badín | I27: =SUM(K27:XW27) -> 45 | J27: {=SUM(LARGE(K27:ON29,_xlfn.SEQUENCE(D103)))} -> 61 | BI27: 2 | BJ27: o | BU27: 2 | BV27: o | EE27: 3 | EH27: o | EO27: 1 | ER27: o | GR27: 1 | GS27: 4 | GZ27: 2 | HD27: 4 | HW27: 1.5 | HX27: 4 | IK27: 3 | KJ27: 4.5 | KS27: o | MH27: 4 | MI27: 2 | MP27: 3 | MQ27: 4
D28: Whisky Johnie Walker | E28: 12213 | F28: 2012 | I28: =SUM(K28:XW28) -> 0
D29: Sunny Star | E29: 13853 | F29: 2020 | I29: =SUM(K29:XW29) -> 46 | BJ29: 5 | BV29: 2 | EH29: 3 | ER29: o | GQ29: 4 | GR29: 3 | HC29: 3 | HD29: 3 | HW29: 1.5 | HX29: o | IK29: 4.5 | KK29: 4 | KT29: 5 | MI29: 3 | MP29: 5
D30: Angelis Diablo | E30: 12432 | F30: 2011 | I30: =SUM(K30:XW30) -> 43 | BI30: 3 | BJ30: o | BU30: 3 | BV30: o | CR30: 5 | CU30: 4 | FP30: 2 | FU30: o | HC30: o | HD30: o | HI30: 3 | HN30: 2 | JD30: 3 | JH30: 1 | KJ30: 3 | KK30: o | KS30: 3 | KT30: o | KY30: 3 | LD30: 4 | NJ30: 3 | NR30: 1
A31: 6 | B31: Balážová Adéla | C31: 10986 | D31: Letterfore Tina | E31: 13536 | F31: 2018 | I31: =SUM(K31:XW31) -> 5 | J31: {=SUM(LARGE(K31:OP33,_xlfn.SEQUENCE(D103)))} -> 44.5 | M31: o | Q31: 1 | JW31: 3 | KA31: 1
D32: Przedswit XXXVII-2 Zumba | E32: 13103 | F32: 2021 | I32: =SUM(K32:XW32) -> 40.5 | M32: 1 | Q32: o | U32: 3 | W32: 2 | AB32: 3 | AD32: 1 | EF32: 2 | EH32: o | EP32: 4 | ER32: o | HC32: o | JQ32: 5 | JS32: 2 | KA32: 2 | NG32: 4.5 | NJ32: 1 | NO32: 9 | NR32: 1
D33: Lord | E33: 10506 | F33: 2012 | I33: =SUM(K33:XW33) -> 3 | W33: 1 | AD33: 2
A34: 7 | B34: Slobodník Jakub | C34: 9607 | D34: Aston | E34: 10406 | F34: 2007 | G34: Harmónia v sedle | I34: =SUM(K34:XW34) -> 0 | J34: {=SUM(LARGE(K30:ON30,_xlfn.SEQUENCE(D103)))} -> 43
A35: 8 | B35: Frõhlichová Jana | C35: 9725 | D35: Jantar | E35: 10202 | F35: 2014 | G35: Harmónia v sedle | I35: =SUM(K35:XW35) -> 42 | J35: {=SUM(LARGE(K35:ON35,_xlfn.SEQUENCE(D103)))} -> 40 | CU35: 2 | CV35: 5 | FT35: 1 | FU35: o | GQ35: 2 | GR35: o | HM35: 3 | HN35: 3 | HW35: 1.5 | HX35: 3 | IJ35: 4 | IK35: 1.5 | JF35: 3 | JH35: 2 | KK35: o | KT35: 1 | LC35: 3 | LD35: 2 | NJ35: 2 | NR35: 3
A36: 9 | B36: Masarik Mathias | C36: 10030 | D36: Furioso XXV-43 Romajka | E36: 13102 | F36: 2011 | G36: TJ Žrebčín Motešice | I36: =SUM(K36:XW36) -> 29.5 | J36: {=SUM(LARGE(K36:ON36,_xlfn.SEQUENCE(D103)))} -> 28.5 | M36: o | Q36: o | AD36: o | AU36: 2 | BA36: o | FZ36: 2 | GP36: o | GQ36: 1 | HC36: 1 | HW36: 3 | HX36: o | IJ36: 3 | IK36: 1.5 | IS36: 2 | IT36: 2 | JN36: 2 | JO36: 2 | KA36: o | KD36: 1 | KF36: 3 | LI36: o | LM36: o | LT36: 1 | NW36: 2 | NX36: 1
A37: 10 | B37: Ouzká Laura | C37: 10820 | D37: Tom | E37: 12298 | G37: Ranč Ouzkých Bratislava | I37: =SUM(K37:XW37) -> 16 | J37: =Deti!$I37+I38 -> 19 | CR37: 2 | CS37: 3 | FP37: o | FQ37: 2 | JC37: 3 | JD37: 1 | KY37: 2 | KZ37: 3
D38: Casper | E38: 13277 | F38: 2015 | I38: =SUM(K38:XW38) -> 3 | CR38: o | CS38: 1 | FP38: o | FQ38: o | JC38: 2 | JD38: o
A39: 11 | B39: Gasparovicsová Linda | C39: 11235 | D39: Marvel | E39: 13887 | F39: 2021 | G39: JK Czajlik Ranch Dunajský Klátov | I39: =SUM(K39:XW39) -> 14 | J39: =Deti!$I39 -> 14 | GA39: 2 | GB39: 3 | KG39: 4 | KK39: o | KP39: 5
A40: 12 | B40: Beregi Alica | C40: 10916 | D40: Samba Girl II | E40: 12650 | F40: 2009 | G40: JK Agropartner Plavecké Podhradie | I40: =SUM(K40:XW40) -> 10 | J40: =Deti!$I40 -> 10 | CS40: 2 | CT40: 3 | HJ40: 1 | HL40: 2 | IE40: o | IF40: 2
A41: 13 | B41: Králiková Michaela | C41: 10229 | D41: Prince Cherry Orchard | E41: 11871 | G41: JK Masarykov Dvor | I41: =SUM(K41:XW41) -> 9 | J41: =Deti!$I41 -> 9 | EE41: 2 | EO41: 2 | MH41: 2 | MI41: 1 | MP41: o | MQ41: 2
A42: 14 | B42: Zuskin Nela Sophie | C42: 11388 | D42: José Armando | E42: 7597 | F42: 2006 | G42: JK Limit Bratislava | I42: =SUM(K42:XW42) -> 7 | J42: =Deti!$I42+I43 -> 7 | CR42: o | CS42: o | FP42: o | FQ42: 3 | HI42: o | HJ42: 2 | JC42: 1 | JD42: o | KY42: o | KZ42: 1
D43: Sunrise | E43: 9019 | I43: =SUM(K43:XW43) -> 0 | CS43: o
A44: 14 | B44: Orlíková Lucia | C44: 11400 | D44: Siana Isleen | E44: 13875 | F44: 2016 | G44: LaRoc Horses Stupava | I44: =SUM(K44:XW44) -> 7 | J44: =Deti!$I44 -> 7 | HI44: 2 | HJ44: 3 | KY44: o | KZ44: 2
A45: 16 | B45: Sklenárová Liana | C45: 10270 | D45: Red Bonaparte | E45: 13266 | F45: 2021 | G45: JK Limfora Badín | I45: =SUM(K45:XW45) -> 2 | J45: =Deti!$I45+I46 -> 6 | EF45: 1 | EP45: 1
D46: Whisky Johnie Walker | E46: 12213 | I46: =SUM(K46:XW46) -> 4 | BD46: 1 | BE46: 1 | CY46: 2 | EE46: o | EH46: o | EO46: o | ER46: o
A47: 17 | B47: Janušková Alexia | C47: 10790 | D47: Robina | E47: 9983 | F47: 2006 | G47: Ranč Ouzkých Bratislava | I47: =SUM(K47:XW47) -> 5 | J47: =Deti!$I47 -> 5 | LB47: 3 | LC47: 2
A48: 18 | B48: Daneková Petra | C48: 9601 | D48: Nonius XXX-1 Mina Maru | E48: 11717 | F48: 2011 | G48: JS Polet Trebostovo | I48: =SUM(K48:XW48) -> 4 | J48: =Deti!$I48 -> 4 | ER48: o | ES48: 4
A49: 19 | B49: Kurtiš Krištof | C49: 9793 | D49: Elltydd Royal Goodie | E49: 12749 | G49: JK Equinox Modrová | I49: =SUM(K49:XW49) -> 3.5 | J49: =Deti!$I49+I50 -> 3.5 | AP49: 1 | AQ49: o | KJ49: o | KS49: 1.5 | KY49: 1
D50: Blueberry | E50: 13133 | F50: 2021 | I50: =SUM(K50:XW50) -> 0 | AP50: o | AQ50: o | KJ50: o
A51: 20 | B51: Jágerská Šarlota | C51: 9750 | D51: Touch of Class | E51: 11486 | G51: JK Enimo | I51: =SUM(K51:XW51) -> 0 | J51: =Deti!$I51+I52+I53 -> 3
D52: Quinnus II-23 | E52: 12871 | F52: 2020 | I52: =SUM(K52:XW52) -> 1 | ER52: o | MI52: o | MP52: 1
D53: Pedro | E53: 10240 | I53: =SUM(K53:XW53) -> 2 | MH53: 1 | MQ53: 1
A54: 20 | B54: Karabová Kristína | C54: 9913 | D54: Joya DMA | E54: 13874 | F54: 2020 | G54: El Linor Dobrohošť | I54: =SUM(K54:XW54) -> 3 | J54: =Deti!$I54 -> 3 | CT54: o | CU54: 1 | HK54: o | HM54: 2
A55: 22 | B55: Kunová Kristína | C55: 10793 | D55: Red Gral | E55: 12172 | G55: JK Limit Bratislava | I55: =SUM(K55:XW55) -> 2 | J55: =Deti!$I55 -> 2 | CR55: o | FQ55: 1 | HI55: 1 | HJ55: o | JC55: o | JD55: o | KY55: o | KZ55: o
D56: Sunrise | E56: 9019 | I56: =SUM(K56:XW56) -> 0 | KZ56: o
A57: 23 | B57: Gregušková Tamara | C57: 9571 | D57: Boby | E57: 13228 | G57: Beri klub Nová Baňa | I57: =SUM(K57:XW57) -> 0 | J57: =Deti!$I57+I59+I58 -> 1.5
D58: Mašlička | E58: 13788 | F58: 2009 | I58: =SUM(K58:XW58) -> 1.5 | EO58: o | ER58: o | KJ58: 1.5 | KK58: o | KS58: o
D59: Realit | E59: 13304 | I59: =SUM(K59:XW59) -> 0
A60: 24 | B60: Palkovičová Laura | C60: 11285 | D60: King | E60: 11838 | F60: 2015 | G60: Stajňa Plameň Miloslavov | I60: =SUM(K60:XW60) -> 1 | J60: =Deti!$I60 -> 1 | FS60: 1 | FT60: o
A61: 25 | B61: Marthaler Lilly Alena | C61: 8872 | D61: Fuchshof´s Dondyke | E61: 13121 | F61: 2016 | G61: Sportstall Marthaler | I61: =SUM(K61:XW61) -> 0 | J61: =Deti!$I61+I62+I63+I64+I65+I66+I67 -> 0
D62: Red Bergamon | E62: 13122 | I62: =SUM(K62:XW62) -> 0
D63: Red Bailey | E63: 13123 | I63: =SUM(K63:XW63) -> 0
D64: Never Forget | E64: 13120 | I64: =SUM(K64:XW64) -> 0
D65: Zu Viel AMB | E65: 13336 | I65: =SUM(K65:XW65) -> 0
D66: Red Lord | E66: 12825 | I66: =SUM(K66:XW66) -> 0
D67: Rubin Royal Hubert | E67: 11480 | F67: 2017 | I67: =SUM(K67:XW67) -> 0
B68: Malagyiová Sofia Helena | C68: 10999 | D68: Santiago | E68: 13314 | F68: 2020 | G68: JK Poľný Kesov | I68: =SUM(K68:XW68) -> 0 | J68: =Deti!$I68 -> 0 | NR68: o
B69: Lovišková Rebeka | C69: 10346 | D69: Aisha | E69: 10576 | F69: 2011 | G69: JK Poľný Kesov | I69: =SUM(K69:XW69) -> 0 | J69: =Deti!$I69 -> 0 | NR69: o
B70: Juhászová Bianka | C70: 11140 | D70: Przedswit XXXIII-9 Ximon | E70: 12950 | F70: 2020 | G70: TJ Žrebčín Motešice | I70: =SUM(K70:XW70) -> 0 | J70: =Deti!$I70 -> 0 | JS70: o | KA70: o
B71: Farkašová Viktória | C71: 10795 | D71: Latigo | E71: 12573 | F71: 2019 | G71: JK Limit Bratislava | I71: =SUM(K71:XW71) -> 0 | FP71: o | FQ71: o
A72: 30 | B72: Györödi Anastázia | C72: 1114 | D72: BZ Hurrikan Harvey | E72: 13956 | F72: 2020 | G72: JK Czajlik Ranch Dunajský Klátov | I72: =SUM(K72:XW72) -> 0 | J72: =Deti!$I72 -> 0 | HW72: o | IJ72: o
B73: Gregušková Tereza | C73: 9594 | D73: Boby | E73: 13228 | G73: Beri klub Nová Baňa | I73: =SUM(K73:XW73) -> 0 | J73: =Deti!$I73+I75 -> 0
D74: Gina | E74: 13765 | F74: 2012 | I74: =SUM(K74:XW74) -> 0 | EO74: o
D75: Šanty | E75: 13404 | I75: =SUM(K75:XW75) -> 0
B76: Maňová Anna | C76: 9875 | D76: Red Bernadetta | E76: 12310 | G76: JK RS Team Bratislava | I76: =SUM(K76:XW76) -> 0 | J76: =Deti!$I76+I77 -> 0
D77: Indigo | E77: 9104 | I77: =SUM(K77:XW77) -> 0
B78: Vašková Natália | C78: 10396 | D78: Ketah /Koheilan VIII-3/ | E78: 5271 | G78: Red Horse Cetuna | I78: =SUM(K78:XW78) -> 0 | J78: =Deti!$I78 -> 0
B79: Zimáni Vivien | C79: 10340 | D79: Duna | E79: 12189 | G79: Conte Veles Háj | I79: =SUM(K79:XW79) -> 0 | J79: =Deti!$I79 -> 0
A80: 35 | B80: Mederová Laura | C80: 10719 | D80: Red Bacardy | E80: 13119 | G80: JK Linda Prievidza | I80: =SUM(K80:XW80) -> 0 | J80: =Deti!$I80 -> 0 | EE80: o
B81: Krnáčová Kvetoslava | C81: 10805 | D81: Nicolas | E81: 11205 | F81: 2012 | I81: =SUM(K81:XW81) -> 0 | J81: =Deti!$I81 -> 0
B82: Mihaliková Nina | C82: 9863 | D82: Szilaj | E82: 13458 | F82: 2009 | G82: JK MILLENIUM Trnava pri Laborci | I82: =SUM(K82:XW82) -> 0 | J82: =Deti!$I82+I83 -> 0 | EE82: o | EO82: o
D83: Jaylin | E83: 13131 | F83: 2017 | I83: =SUM(K83:XW83) -> 0 | EE83: o | EO83: o
B84: Bernadovičová Lucia | C84: 9507 | D84: Betka | E84: 11277 | G84: Ranč Ouzkých Bratislava | I84: =SUM(K84:XW84) -> 0 | J84: =Deti!$I84 -> 0
B85: Foltáni Evelin | C85: 10223 | D85: Sagan Van Het Holland | E85: 13515 | F85: 2014 | G85: JS Polet Trebostovo | I85: =SUM(K85:XW85) -> 0 | J85: =Deti!$I85 -> 0
A86: 40 | B86: Halajová Emma | C86: 10806 | D86: Pedro | E86: 10240 | G86: JK Masarykov Dvor | I86: =SUM(K86:XW86) -> 0 | J86: =Deti!$I86 -> 0
B87: Fašiangová Rebeka | C87: 10660 | D87: Red Coccolino | E87: 12793 | G87: JK RS Team Bratislava | I87: =SUM(K87:XW87) -> 0 | J87: =Deti!$I87 -> 0 | CR87: o | FP87: o | FQ87: o
B88: Janáčiová Miriam | C88: 10161 | D88: Tom | E88: 12298 | G88: Ranč Ouzkých Bratislava | I88: =SUM(K88:XW88) -> 0 | J88: =Deti!$I88 -> 0
B89: Rolníková Timea | C89: 9924 | D89: Cardilo | E89: 11368 | G89: JK RS Team Bratislava | I89: =SUM(K89:XW89) -> 0 | J89: =Deti!$I89 -> 0
B90: Krivosudská Zuzana | C90: 9414 | D90: FG Alterego | E90: 12188 | F90: 2010 | G90: Paradrezúra Excelent Boldog | I90: =SUM(K90:XW90) -> 0 | J90: =Deti!$I90 -> 0
B91: Schwarzová Daniela | C91: 10507 | D91: Red Nabucco | E91: 13548 | G91: JŠ Topoľčianky | I91: =SUM(K91:XW91) -> 0 | J91: =Deti!$I91 -> 0
B92: Sabová Eliška | C92: 10350 | D92: Black Pearl JB | E92: 13411 | G92: Equestrian sport center Žilina | I92: =SUM(K92:XW92) -> 0 | J92: =Deti!$I92+I93 -> 0
D93: Piškotek | E93: 13074 | I93: =SUM(K93:XW93) -> 0
A94: 47 | B94: Záhorská Lujza | C94: 10808 | D94: Red Gral | E94: 12172 | G94: JK Limit Bratislava | I94: =SUM(K94:XW94) -> 0 | J94: =Deti!$I94+I95 -> 0
D95: Sunrise | E95: 9019 | I95: =SUM(K95:XW95) -> 0 | HI95: o | HJ95: o
A96: 47 | B96: SPOLU | I96: =SUM(K96:XW96) -> 0
I97: =SUM(K97:XW97) -> 0
I98: =SUM(K98:XW98) -> 0
I99: =SUM(K99:XW99) -> 0
I100: =SUM(K100:XW100) -> 0
I101: =SUM(K101:XW101) -> 0
D103: 15

Sheet Kôň roka
A1: DREZÚRNY REBRÍČEK
A2: Kôň roka
A4: 2026
K7: =Seniori!K6 -> 06.-08.02. | S7: =Seniori!S6 -> 27.2.-1.3. | AH7: =Seniori!AH6 -> 05.-07.03. | AJ7: =Seniori!AJ6 -> 05.-07.03. | AM7: =Seniori!AM6 -> 21.-22.3. | AO7: 5.4. | AP7: =Seniori!AP6 -> 2.-4.4. | BD7: 11.4. | BI7: =Seniori!BI6 -> 18.-19.4. | CF7: =Seniori!CF6 -> 25.-26.4. | CR7: =Seniori!CR6 -> 1.5. | CY7: =Seniori!CY6 -> 3.5. | DA7: =Seniori!DA6 -> 8.-10.5. | DC7: =Seniori!DC6 -> 9.-10.5. | DK7: 9.-10.5. | EC7: 21.-24.5. | EE7: 23.-24.5. | EY7: 30.-31.5. | FK7: 5.-7.6. | FP7: =Seniori!FP6 -> 13.6. | FY7: =Seniori!FY6 -> 14.6. | GA7: 27.-28.6. | GD7: 26.-28.6. | GI7: 26.-27.6. | HI7: =Seniori!HI6 -> 4.7. | HS7: 11.-12.7. | IQ7: =Seniori!IQ6 -> 15.-19.7. | IS7: =Seniori!IS6 -> 18.7. | IU7: =Seniori!IU6 -> 25.-26.7. | JC7: =Seniori!JC6 -> 31.7. | JL7: =Seniori!JL6 -> 5.-9.8. | JN7: 15.-16.8. | KD7: 22.-23.8. | KG7: 22.-23.8. | KY7: 28.8. | LI7: 28.-29.8. | LU7: 29.-30.8. | MH7: 5.- 6.9. | MX7: 11.-13.9. | NW7: 12.9.
A8: Poradie | B8: Kôň | C8: Licencia SJF | D8: Rok nar. | E8: Jazdec | F8: Licencia SJF | G8: Kategória | H8: Subjekt | J8: Spolu 15 NAJ | K8: =Seniori!K7 -> Motešice | S8: =Seniori!S7 -> Motešice | AH8: =Seniori!AH7 -> Motešice | AJ8: =Seniori!AJ7 -> Motešice CDI | AM8: =Seniori!AM7 -> Budapešť | AO8: Brno | AP8: =Seniori!AP7 -> Motešice | BD8: Kisbabolna | BI8: =Seniori!BI7 -> Dunajský Klátov | CF8: =Seniori!CF7 -> Těšánky | CR8: =Seniori!CR7 -> Rs Team | CY8: =Seniori!CY7 -> Brno | DA8: =Seniori!DA7 -> Las Cadenas | DC8: =Seniori!DC7 -> Olomouc | DK8: Szilvásvárad | EC8: CDI Olomouc | EE8: Vígľaš | EY8: Těšánky | FK8: CDI Brno | FP8: =Seniori!FP7 -> RS Team | FY8: =Seniori!FY7 -> Chotěbuz | GA8: Šamorín | GD8: Šamorín | GI8: Motešice | HI8: =Seniori!HI7 -> RS Team | HS8: =Seniori!HS7 -> Dunaj. Klátov (MSR deti, juniori, ml. jazdci) | IQ8: =Seniori!IQ7 -> ME Detí Olomouc | IS8: =Seniori!IS7 -> Frenštát p/R | IU8: =Seniori!IU7 -> Szilvasvárad | JC8: =Seniori!JC7 -> RS Team | JL8: =Seniori!JL7 -> MS mladých koní (Verden) | JN8: Motešice | KD8: Panská Lícha | KG8: Pony MSR (Topolčianky) | KY8: Rs Team | LI8: Motešice | LU8: Vyškov | MH8: Masarykov Dvor | MX8: Topoľčianky MSR YH+Seniori | NW8: Frenštát p/R
K9: =Seniori!K8 -> Z2 | L9: =Seniori!L8 -> 4r | M9: =Seniori!M8 -> DUA | N9: =Seniori!N8 -> DD | O9: =Seniori!O8 -> 4r | P9: =Seniori!P8 -> 5rU | Q9: =Seniori!Q8 -> DUA | R9: =Seniori!R8 -> DD | ... AA9: =Seniori!AA8 -> P3 | AB9: 4r | AC9: 5rU | AD9: DUA | AE9: DUB | AF9: DD | AG9: =Seniori!AG8 -> DJ | AH9: =Seniori!AH8 -> 4r | AI9: DD | AJ9: =Seniori!AJ8 -> DUB | AK9: =Seniori!AK8 -> DD | AL9: =Seniori!AL8 -> DJ | AM9: =Seniori!AM8 -> IMII | AN9: =Seniori!AN8 -> U25GP | AO9: 5rU | AP9: =Seniori!AP8 -> P1 | AQ9: =Seniori!AQ8 -> P3 | AR9: =Seniori!AR8 -> 4r | AS9: =Seniori!AS8 -> 5rU | AT9: 6rU | AU9: =Seniori!AU8 -> DUA | AV9: =Seniori!BB8 -> DUB | AW9: =Seniori!BC8 -> DD | AX9: =Seniori!AX8 -> 4r | AY9: =Seniori!AY8 -> 5rU | AZ9: 6rU | BA9: =Seniori!BA8 -> DUA | BB9: =Seniori!BB8 -> DUB | BC9: =Seniori!BC8 -> DD | BD9: A4 | BE9: DUA | BF9: LM2 | BG9: DD | BH9: MB4 | BI9: =Seniori!BI8 -> P1 | BJ9: =Seniori!BJ8 -> DUA | BK9: =Seniori!BK8 -> 4r | BL9: =Seniori!BL8 -> 5rU | BM9: =Seniori!BM8 -> 6rU | BN9: =Seniori!BN8 -> DD | BO9: =Seniori!BO8 -> LP4 | BP9: =Seniori!BP8 -> LS5 | ... BT9: =Seniori!BT8 -> IMII | BU9: P1 | BV9: DUA | BW9: DD | BX9: JJ | BY9: LP5 | BZ9: LS | CA9: 4r | CB9: 5rF | CC9: YJ | CD9: IMI | CE9: U25 | CF9: =Seniori!CF8 -> 5rU | CG9: =Seniori!CG8 -> JU | CH9: =Seniori!CH8 -> JD | CI9: =Seniori!CI8 -> YU | CJ9: =Seniori!CJ8 -> SG | CK9: =Seniori!CK8 -> IMA | CL9: =Seniori!CL8 -> 5rF | CM9: =Seniori!CM8 -> L0 | ... DJ9: =Seniori!DJ8 -> IMI | DK9: 4U | DL9: MKZ3 | DM9: 5rU | DN9: DUA | DO9: Z3 | DP9: DD | DQ9: LS5 | DR9: SG | DS9: IMI | DT9: 4U | DU9: MKZ4 | DV9: 5rF | DW9: Z4 | DX9: DUA | DY9: DJ | DZ9: L10 | EA9: YJ | EB9: IMI | EC9: 5rU | ED9: 5rF | EE9: P2 | EF9: 4rU | EG9: 5rU | EH9: DUA | EI9: DD | EJ9: JU | EK9: JD | EL9: SG | EM9: LP4 | EN9: IMI | EO9: P3 | EP9: 4rU | EQ9: 5rU | ER9: DUA | ES9: DD | ET9: DJ | EU9: JU | EV9: YJ | EW9: LP4 | EX9: IMI | EY9: DUA | EZ9: L0 | FA9: JU | FB9: JD | FC9: SG | FD9: IMI | FE9: Z4 | FF9: Z5 | FG9: JU | FH9: JD | FI9: SG | FJ9: IMI | FK9: 5rU | FL9: SG | FM9: 5rF | FN9: IMI | FO9: IMIF | FP9: =Seniori!FP8 -> P3 | FQ9: =Seniori!FQ8 -> P1 | FR9: =Seniori!FR8 -> MKZ1 | FS9: =Seniori!FS8 -> Z1 | FT9: =Seniori!FT8 -> Z3 | FU9: =Seniori!FU8 -> DUA | FV9: =Seniori!FV8 -> DD | FW9: =Seniori!FW8 -> LS5 | ... FZ9: =Seniori!FZ8 -> DUA | GA9: 4r | GB9: 4r | GC9: IMB | GD9: 5rU | GE9: 7rU | GF9: SG | GG9: 5rF | GH9: IMI | GI9: =Seniori!GI8 -> 4r | GJ9: =Seniori!GJ8 -> 5rU | GK9: =Seniori!GK8 -> 6rU | GL9: =Seniori!GL8 -> P1 | GM9: =Seniori!GM8 -> P3 | GN9: =Seniori!GN8 -> Z2 | GO9: =Seniori!GO8 -> Z3 | GP9: =Seniori!GP8 -> Z4 | ... LG9: =Seniori!LG8 -> LS6 | LH9: S6 | LI9: =Seniori!LI8 -> Z2 | LJ9: =Seniori!LJ8 -> Z3 | LK9: =Seniori!LK8 -> 5rU | LL9: =Seniori!LL8 -> 6rU | LM9: =Seniori!LM8 -> DUA | LN9: =Seniori!LN8 -> DD | LO9: =Seniori!LO8 -> JU | LP9: =Seniori!LP8 -> SG | ... OE9: =Seniori!OE8 -> 0
A10: 1 | B10: Grevens Everdream | C10: 11237 | D10: 2015 | E10: Gombarčíková Tatiana | F10: 5599 | G10: S | H10: JK Kubiš Trnava | I10: =SUM(K10:XX10) -> 333 | J10: {=SUM(LARGE(K10:PC10,_xlfn.SEQUENCE(D264)))} -> 328 | CK10: 21 | CQ10: 17 | DG10: 11 | DJ10: 17 | FC10: 18 | FJ10: 23 | FL10: 22.5 | FN10: 27 | FO10: 34.5 | GC10: 19 | GF10: 19.5 | GH10: 30 | ID10: 10 | IP10: 5 | NM10: 24 | NV10: 34.5
A11: 2 | B11: Bonnami | C11: 10267 | D11: 2014 | E11: Flaková Kristína | F11: 2366 | G11: S | H11: JK pri NŽ Topoľčianky | I11: =SUM(K11:XX11) -> 253 | J11: ='Kôň roka'!$I11 -> 253 | BR11: 17 | BS11: 20 | CD11: 19 | DR11: 13 | DS11: 17 | EB11: 18 | EL11: 17 | EN11: 19 | EX11: 18 | IB11: 17 | IC11: 20 | IO11: 20 | KO11: 21 | KX11: 17
A12: 3 | B12: Dancing Scarlett | C12: 11490 | D12: 2017 | E12: Záhorská Silvia | F12: 1742 | G12: S | H12: JK Scarlett Šamorín | I12: =SUM(K12:XX12) -> 352.5 | J12: {=SUM(LARGE(K12:PC12,_xlfn.SEQUENCE(D264)))} -> 243.5 | BR12: 3 | BS12: 14 | CD12: 15 | CI12: 13 | CJ12: 12 | CO12: 16 | CP12: 14 | EN12: 12 | EV12: 14 | EX12: 16 | FC12: 12 | FD12: 13 | FI12: 7 | FJ12: 16 | IB12: 11 | IC12: 17 | IN12: 16 | IO12: 16 | KN12: 13 | KO12: 17 | KW12: 13 | KX12: 15 | NE12: 17 | NM12: 15 | NV12: 25.5
A13: 4 | B13: Raheeli Marbella | C13: 13491 | D13: 2021 | E13: Gombarčíková Tatiana | F13: 5599 | G13: S | H13: JK Kubiš Trnava | I13: =SUM(K13:XX13) -> 214.5 | J13: ='Kôň roka'!$I13 -> 214.5 | AO13: 11 | CF13: 13 | CL13: 10 | DC13: 13 | DH13: 13 | EC13: 9 | ED13: 9 | FK13: 16.5 | FM13: 19.5 | GD13: 19.5 | GG13: 18 | JL13: 12 | JM13: 12 | NG13: 19.5 | NO13: 19.5
A14: 5 | B14: Forever | C14: 9070 | D14: 2011 | E14: Horná Michaela | F14: 2965 | G14: S | H14: JK pri NŽ Topoľčianky | I14: =SUM(K14:XX14) -> 223 | J14: {=SUM(LARGE(K14:ON14,_xlfn.SEQUENCE(D264)))} -> 214 | BR14: 16 | BS14: 17 | CC14: 16 | CD14: 16 | DR14: 9 | DS14: 14 | EA14: 9 | EB14: 13 | EL14: 15 | EN14: 13 | EV14: 16 | EX14: 17 | IB14: 13 | IC14: 14 | IN14: 13 | IO14: 12
A15: 6 | B15: Siglavy XV-2 | C15: 9449 | D15: 2011 | E15: Kintšer David | F15: 2372 | G15: S | H15: JK pri NŽ Topoľčianky | I15: =SUM(K15:XX15) -> 229.5 | J15: {=SUM(LARGE(K15:OP15,_xlfn.SEQUENCE(D264)))} -> 193.5 | BR15: 8 | BS15: 10 | CC15: 8 | CD15: 10 | EL15: 12 | EN15: 14 | EV15: 11 | EX15: 12 | IB15: 9 | IC15: 7 | IN15: 12 | IO15: 14 | KN15: 11 | KW15: 12 | KX15: 12 | ND15: 12 | NE15: 14 | NM15: 16.5 | NU15: 4 | NV15: 21
A16: 7 | B16: Dancing Boy | C16: 12984 | D16: 2019 | E16: Porkertová Linda | F16: 9241 | G16: J | H16: JK Josy Team Trnava | I16: =SUM(K16:XX16) -> 185.5 | J16: {=SUM(LARGE(K16:OJ16,_xlfn.SEQUENCE(D264)))} -> 147.5 | EJ16: 11 | EK16: 5 | EU16: 11 | GU16: 5 | GV16: 5 | HG16: 5 | HH16: 5 | HZ16: 3 | IA16: 11 | IM16: 4 | JR16: 6 | JU16: 6 | JZ16: 7 | KC16: 6 | KI16: 8 | KM16: 8 | KV16: 12 | ML16: 8 | MO16: 6 | MT16: 9 | MZ16: 7 | NH16: 22.5 | NQ16: 15
A17: 8 | B17: Chassia | C17: 13159 | D17: 2020 | E17: Nittnaus Martina | F17: 135 | G17: S | H17: JK pri NŽ Topoľčianky | I17: =SUM(K17:XX17) -> 146.5 | J17: {=SUM(LARGE(K17:OJ17,_xlfn.SEQUENCE(D264)))} -> 133.5 | BK17: 2 | BL17: 4 | CA17: 4 | DK17: 1 | DM17: 6 | DT17: 9 | DV17: 6 | EF17: 6 | EG17: 9 | EP17: 7 | EQ17: 12 | HT17: 2 | HU17: 4 | IG17: 7 | IH17: 10 | KH17: 8 | KQ17: 8 | MY17: 10 | NH17: 15 | NP17: 16.5
A18: 9 | B18: Rocky Rebel | C18: 11990 | D18: 2016 | E18: Hunová Diana | F18: 7853 | G18: J | H18: JK Scarlett Šamorín | I18: =SUM(K18:XX18) -> 131.5 | J18: {=SUM(LARGE(K18:OJ18,_xlfn.SEQUENCE(D264)))} -> 119.5 | BO18: 6 | BQ18: 7 | BX18: 8 | BY18: 10 | CH18: 2 | CM18: 10 | CN18: 9 | EJ18: 8 | EK18: 2 | EU18: 6 | EW18: 7 | FV18: 4 | FX18: 2 | HZ18: 15 | IA18: 5 | IM18: 10.5 | LZ18: 6 | MA18: 5 | ME18: 2 | MF18: 7
A19: 10 | B19: Prada Van Weizicht | C19: 12609 | D19: 2020 | E19: Hunová Diana | F19: 7853 | G19: J | H19: JK Scarlett Šamorín | I19: =SUM(K19:XX19) -> 122.5 | J19: {=SUM(LARGE(K19:PC19,_xlfn.SEQUENCE(D264)))} -> 118.5 | BK19: 2 | BL19: 3 | CA19: 4 | CB19: 6 | EY19: 6 | EZ19: 2 | FE19: 9 | FF19: 9 | KH19: 5 | KL19: 4 | KP19: 4 | KQ19: 12 | MY19: 11 | NG19: 5 | NH19: 16.5 | NO19: 12 | NP19: 12
A20: 11 | B20: Papagayo TC | C20: 13758 | D20: 2020 | E20: Námešná Ela | F20: 8995 | G20: D | H20: JK Agrocontact Jasová | I20: =SUM(K20:XX20) -> 135 | J20: {=SUM(LARGE(K20:PC20,_xlfn.SEQUENCE(D264)))} -> 115 | BK20: 8 | BV20: 4 | CA20: 8 | EF20: 2 | EG20: 4 | EP20: 8 | EQ20: 10 | FR20: 7 | FU20: 4 | HW20: 10.5 | IK20: 3 | KG20: 3 | KH20: 4 | KP20: 7 | KQ20: 6 | MJ20: 5 | MK20: 11 | NG20: 8 | NH20: 10.5 | NP20: 6 | NR20: 6
A21: 12 | B21: Ariston ER | C21: 9051 | D21: 2010 | E21: Kuhajda Milan | F21: 4920 | G21: S | H21: JK Jurský Dvor Nitra | I21: =SUM(K21:XX21) -> 110.5 | J21: ='Kôň roka'!$I21 -> 110.5 | DF21: 12 | DJ21: 13 | EX21: 19 | KN21: 14 | NM21: 22.5 | NV21: 30
A22: 13 | B22: Catalin XVI-1 Zonor | C22: 13100 | D22: 2021 | E22: Richterová Lenka | G22: Y | H22: Equiteam Most pri Bratislave | I22: =SUM(K22:XX22) -> 0 | J22: {=SUM(LARGE(K22:OJ24,_xlfn.SEQUENCE(D264)))} -> 103
E23: Petranová Sofia Laura | F23: 6761 | G23: Y | H23: TJ Žrebčín Motešice | I23: =SUM(K23:XX23) -> 65 | GI23: 6 | GJ23: 8 | GW23: 4 | GX23: 4 | HT23: 5 | HU23: 8 | IG23: 5 | IH23: 7 | JG23: 4 | JP23: 5 | JQ23: 6 | JX23: 3
E24: Eržinová Stella | F24: 8401 | G24: J | H24: TJ Žrebčín Motešice | I24: =SUM(K24:XX24) -> 71 | L24: 5 | P24: 4 | V24: 5 | AC24: 4 | AS24: 2 | AY24: 13 | LK24: 5 | LR24: 3 | MK24: 8 | MS24: 10 | NG24: 6 | NO24: 6
A25: 14 | B25: Bella Grande | C25: 13488 | D25: 2021 | E25: Horná Michaela | F25: 2965 | G25: S | H25: JK pri NŽ Topoľčianky | I25: =SUM(K25:XX25) -> 121.5 | J25: {=SUM(LARGE(K25:OJ25,_xlfn.SEQUENCE(D264)))} -> 101.5 | BK25: 5 | CA25: 6 | DK25: 5 | DL25: 2 | DT25: 2 | DU25: 1 | EF25: 4 | EG25: 8 | EP25: 6 | EQ25: 8 | HT25: 2 | HU25: 5 | IG25: 4 | IH25: 6 | KG25: 2 | KH25: 2 | KP25: 2 | KQ25: 7 | MX25: 9 | MY25: 8 | NG25: 13.5 | NH25: 5 | NO25: 6 | NP25: 3
A26: 15 | B26: Topas Imperial | C26: 14005 | D26: 2021 | E26: Hunová Diana | G26: J | H26: JK Scarlett Šamorín | I26: =SUM(K26:XX26) -> 99.5 | J26: {=SUM(LARGE(K26:OJ26,_xlfn.SEQUENCE(D264)))} -> 99.5 | BJ26: =Seniori!BJ92 -> 0 | JF26: 4 | JG26: 6 | KG26: 7 | KH26: 7 | KP26: 5 | KT26: 6 | LU26: 4 | LW26: 3 | MB26: 8 | ME26: 5 | MX26: 10 | MY26: 7 | NF26: 8 | NG26: 7.5 | NN26: 12
A27: 16 | B27: Libel Van De Leenakker | C27: 11921 | E27: Jašeková Diana | F27: 9423 | G27: J | H27: JK Limfora Badín | I27: =SUM(K27:XX27) -> 94 | J27: {=SUM(LARGE(K27:OJ27,_xlfn.SEQUENCE(D264)))} -> 93 | BF27: 3 | BN27: 2 | BP27: 5 | BZ27: 7 | DP27: 6 | DQ27: 8 | DY27: 6 | HY27: 6 | IW27: 8 | IX27: 10 | JA27: 6 | JB27: 9 | MM27: 1 | MU27: 4 | NK27: 6 | NS27: 7
A28: 17 | B28: Santos | C28: 13626 | D28: 2022 | E28: Šteflovičová Sylvia | F28: 2362 | G28: S | H28: JK Josy Team Trnava | I28: =SUM(K28:XX28) -> 92 | J28: ='Kôň roka'!$I28 -> 92 | U28: 8 | GI28: 10 | GW28: 5 | HT28: 4 | IG28: 5 | KG28: 6 | KP28: 8 | MJ28: 5 | MR28: 6 | MX28: 11 | NF28: 12 | NN28: 12
A29: 18 | B29: Furioso L-34 Némés | C29: 10993 | D29: 2016 | E29: Pestunová Alica | F29: 9008 | G29: J | H29: Harmónia v sedle | I29: =SUM(K29:XX29) -> 91.5 | J29: ='Kôň roka'!$I29 -> 91.5 | BP29: 4 | BQ29: 6 | BX29: 9 | BZ29: 10 | FV29: 5 | FW29: 7 | HZ29: 18 | IA29: 9 | IM29: 13.5 | KM29: 5 | KV29: 5
A30: 19 | B30: Pastorale | C30: 12611 | D30: 2020 | E30: Záhorská Silvia | F30: 1742 | G30: S | H30: JK Scarlett Šamorín | I30: =SUM(K30:XX30) -> 102 | J30: {=SUM(LARGE(K30:PC30,_xlfn.SEQUENCE(D264)))} -> 90 | BK30: 3 | BL30: 4 | CA30: 3 | CB30: 4 | EG30: 5 | EI30: 6 | EQ30: 6 | ES30: 4 | FW30: 2 | KH30: 1 | KQ30: 3 | KU30: 6 | LX30: 7 | LY30: 3 | ME30: 8 | MF30: 7 | MY30: 5 | NG30: 7 | NH30: 7.5 | NP30: 10.5
A31: 20 | B31: Charissa | C31: 11826 | D31: 2018 | E31: Nittnaus Martina | F31: 135 | G31: S | H31: JK pri NŽ Topoľčianky | I31: =SUM(K31:XX31) -> 90 | J31: ='Kôň roka'!$I31 -> 90 | BP31: 1 | BZ31: 8 | DQ31: 13 | DY31: 8 | EM31: 9 | EW31: 6 | HY31: 8 | HZ31: 2 | IL31: 6 | KM31: 9 | KV31: 4 | NC31: 3 | NL31: 5 | NT31: 8
A32: 21 | B32: Cezaria | C32: 13634 | D32: 2022 | E32: Kintšer David | F32: 2372 | G32: S | H32: JK pri NŽ Topoľčianky | I32: =SUM(K32:XX32) -> 100 | J32: {=SUM(LARGE(K32:OJ32,_xlfn.SEQUENCE(D264)))} -> 89 | BK32: 5 | BV32: 3 | CA32: 4 | EF32: 3 | EP32: 5 | ER32: 2 | HT32: 5 | HW32: 4 | IG32: 3 | IJ32: 7 | KG32: 7 | KK32: 2 | KP32: 1 | KT32: 7 | MX32: 7 | NA32: 6 | NF32: 9 | NJ32: 6 | NN32: 9 | NR32: 5
A33: 22 | B33: Golden Flower | C33: 12156 | D33: 2019 | E33: Bučkuliaková Linda | F33: 2093 | G33: S | H33: JO Martin Záturčie | I33: =SUM(K33:XX33) -> 86 | J33: ='Kôň roka'!$I33 -> 86 | BO33: 2 | FA33: 12 | FG33: 13 | KI33: 12 | KM33: 6 | KR33: 14 | NI33: 18 | NQ33: 9
A34: 23 | B34: Odyssea A.D. | C34: 12985 | D34: 2019 | E34: Danielová Michaela | F34: 3848 | G34: S | H34: Equitana Sport Horses Bratislava | I34: =SUM(K34:XX34) -> 81 | J34: ='Kôň roka'!$I34 -> 81 | CW34: 6 | CX34: 10 | FV34: 8 | FW34: 9 | HO34: 8 | HQ34: 9 | JJ34: 8 | JK34: 9 | LF34: 6 | LG34: 8
A35: 24 | B35: Quinnus II-23 | C35: 12871 | D35: 2020 | E35: Výbohová Martina | F35: 7749 | G35: S | H35: JK Enimo Slatinské Lazy | I35: =SUM(K35:XX35) -> 78.5 | J35: ='Kôň roka'!$I35 -> 78.5 | AS35: 4 | AT35: 5 | AY35: 11 | AZ35: 4 | BL35: 6 | CB35: 3 | GI35: 7 | GJ35: 9 | IU35: 1 | IW35: 3 | IY35: 2 | MS35: 5 | NG35: 5 | NH35: 9 | NP35: 4.5
E36: Mitríková Šárka | F36: 9800 | G36: D | I36: =SUM(K36:XX36) -> 0
A37: 25 | B37: Revolution | C37: 12362 | E37: Beláková Karolína | F37: 8575 | G37: D | H37: JK Jurský Dvor Nitra | I37: =SUM(K37:XX37) -> 78 | J37: ='Kôň roka'!$I37 -> 78 | BQ37: 3 | BW37: 1 | DD37: 5 | DE37: 3 | DI37: 3 | EU37: 8 | HZ37: 9 | IM37: 15 | KM37: 10 | KV37: 10 | MN37: 8 | MO37: 3
A38: 26 | B38: Galleria´s Destano´s Dream Come True | C38: 12840 | D38: 2019 | E38: Kuhajda Milan | G38: S | H38: JK Jurský Dvor Nitra | I38: =SUM(K38:XX38) -> 76 | J38: ='Kôň roka'!$I38 -> 76 | HV38: 5 | II38: 7 | KI38: 13 | KR38: 12 | NI38: 21 | NQ38: 18
A39: 27 | B39: Zembee Aye AMH | C39: 13079 | D39: 2020 | E39: Popovcová Janka | F39: 5943 | G39: J | H39: Equinibrium AMH Vlkanová | I39: =SUM(K39:XX39) -> 79 | J39: {=SUM(LARGE(K39:OJ39,_xlfn.SEQUENCE(D264)))} -> 75.5 | BL39: 2 | CB39: 2 | EI39: 1 | EQ39: 1 | GS39: 7 | GT39: 4 | HF39: 3 | HW39: 7 | HY39: 10.5 | MK39: 6 | MM39: 2 | MS39: 7 | MU39: 3 | NB39: 4 | NG39: 3 | NH39: 6 | NO39: 9 | NP39: 1.5
A40: 28 | B40: Flor D´Accord | C40: 11998 | D40: 2011 | E40: Petranová Sofia Laura | F40: 6761 | G40: Y | H40: TJ Žrebčín Motešice | I40: =SUM(K40:XX40) -> 10 | J40: ='Kôň roka'!$I40+I41 -> 74.5 | IQ40: 4 | IR40: 6
E41: Magál Ján | F41: 11998 | G41: D | I41: =SUM(K41:XX41) -> 64.5 | N41: 8 | R41: 9 | Y41: 4 | AJ41: 10.5 | AK41: 16.5 | AL41: 16.5
A42: 29 | B42: Destiny It´s Me | C42: 12223 | D42: 2019 | E42: Sklenárová Simona | F42: 3021 | G42: S | H42: JK Horse Club Nitra | I42: =SUM(K42:XX42) -> 72 | J42: ='Kôň roka'!$I42 -> 72 | GK42: 7 | GY42: 7 | HV42: 4 | KI42: 8 | KR42: 10 | LL42: 5 | LS42: 5 | MZ42: 5 | NI42: 15 | NQ42: 6
A43: 30 | B43: Django 358 | C43: 11585 | D43: 2010 | E43: Ledecká Zoya | F43: 7365 | G43: S | H43: JK Balunky Bratislava | I43: =SUM(K43:XX43) -> 71 | J43: ='Kôň roka'!$I43 -> 71 | AM43: 18 | AN43: 20 | BT43: 24 | CE43: 9
A44: 31 | B44: Tristan GM | C44: 12846 | E44: Áčová Laura | F44: 8540 | G44: Y | H44: JK Limfora Badín | I44: =SUM(K44:XX44) -> 82.5 | J44: {=SUM(LARGE(K44:OJ44,_xlfn.SEQUENCE(D264)))} -> 69.5 | BE44: 6 | BG44: 6 | BJ44: 1 | BV44: 3 | CB44: 4 | DO44: 6 | DP44: 1 | DV44: 2 | DW44: 7 | HW44: 3 | HY44: 2 | IJ44: 1 | IK44: 1 | IV44: 6 | IW44: 4 | IZ44: 5 | JA44: 4 | KL44: 2 | KU44: 1 | MS44: 3 | MU44: 1 | NH44: 7.5 | NK44: 1 | NP44: 3 | NS44: 2
A45: 32 | B45: Brisa | C45: 13633 | D45: 2022 | E45: Flaková Kristína | F45: 2366 | G45: S | H45: JK pri NŽ Topoľčianky | I45: =SUM(K45:XX45) -> 66 | J45: ='Kôň roka'!$I45 -> 66 | BJ45: 6 | BK45: 3 | BV45: 9 | CA45: 6 | DK45: 3 | DN45: 6 | DT45: 6 | DX45: 5 | EF45: 6 | EH45: 5 | EP45: 3 | ER45: 6 | HT45: 2
A46: 33 | B46: LH Magic Wall | C46: 11793 | E46: Bednárová Alexandra | F46: 4582 | G46: S | H46: JO Martin Záturčie | I46: =SUM(K46:XX46) -> 63 | J46: ='Kôň roka'!$I46 -> 63 | BN46: 8 | BP46: 8 | BW46: 8 | GS46: 7 | GT46: 6 | HE46: 7 | HF46: 6 | KV46: 2 | NB46: 1 | NK46: 6 | NT46: 4
A47: 34 | B47: Favory XVIII-19 | C47: 11292 | D47: 2014 | E47: Flaková Kristína | F47: 2366 | G47: S | H47: JK pri NŽ Topoľčianky | I47: =SUM(K47:XX47) -> 61 | J47: ='Kôň roka'!$I47 -> 61 | KM47: 3 | KN47: 6 | KV47: 7 | KW47: 15 | NC47: 5 | ND47: 10 | NL47: 4 | NM47: 8 | NU47: 3
A48: 35 | B48: Przedswit XXXIII-19 Žonor | C48: 13607 | D48: 2022 | E48: Petranová Sofia Laura | F48: 6761 | G48: Y | H48: TJ Žrebčín Motešice | I48: =SUM(K48:XX48) -> 55.5 | J48: ='Kôň roka'!$I48+I49 -> 57.5 | L48: 6 | O48: 7 | GI48: 4 | GW48: 4 | HT48: 7 | IG48: 8 | JG48: 3 | JP48: 4 | JX48: 5 | NF48: 3 | NN48: 4.5
E49: Abrahámfyová Klára | F49: 4589 | G49: S | I49: =SUM(K49:XX49) -> 2 | EP49: 2
A50: 36 | B50: Hariffa MD | C50: 11791 | D50: 2018 | E50: Bučkuliaková Linda | F50: 2093 | G50: S | H50: JO Martin Záturčie | I50: =SUM(K50:XX50) -> 54 | J50: ='Kôň roka'!$I50 -> 54 | BO50: 12 | BQ50: 10 | FA50: 10 | FB50: 10 | FH50: 12
A51: 37 | B51: Romanova | C51: 13031 | D51: 2009 | E51: Grujbarová Viktória Paula | F51: 9570 | G51: D | H51: Equipro Veľká Lehota | I51: =SUM(K51:XW51) -> 62 | J51: {=SUM(LARGE(K51:OJ51,_xlfn.SEQUENCE(D264)))} -> 53 | AW51: 1 | BJ51: 1 | BN51: 6 | BV51: 4 | CV51: 2 | CW51: 3 | EH51: 1 | EI51: 2 | ES51: 2 | ET51: 4 | GS51: 2 | GT51: 1 | HE51: 2 | HF51: 2 | HW51: 1 | HY51: 4.5 | IJ51: 5 | IL51: 4.5 | LD51: 5 | LF51: 5 | MI51: 1 | MP51: 1 | MU51: 2
A52: 38 | B52: Sissi | C52: 10998 | D52: 2013 | E52: Hubodová Amália | F52: 8891 | G52: Y | H52: Equinibrium AMH | I52: =SUM(K52:XX52) -> 0 | J52: ='Kôň roka'!$I52+I53 -> 51.5
E53: Magdolenová Timea | G53: D | I53: =SUM(K53:XX53) -> 51.5 | BV53: 2 | ET53: 3 | GT53: 2 | HE53: 5 | HF53: 1 | HW53: 5 | HY53: 7.5 | IL53: 9 | KK53: 6 | MM53: 4 | NJ53: 1 | NK53: 1 | NR53: 4 | NS53: 1
A54: 39 | B54: Mr. Muffine | C54: 13045 | E54: Hacajová Linda | F54: 10332 | G54: J | H54: JK Scarlett Šamorín | I54: =SUM(K54:XX54) -> 5 | J54: {=SUM(LARGE(K54:OJ55,_xlfn.SEQUENCE(D264)))} -> 47.5 | KY54: 2 | KZ54: 3
E55: Froncová Kristína | F55: 10331 | G55: J | I55: =SUM(K55:XX55) -> 45.5 | BU55: 1 | BV55: 3 | EE55: 4 | FP55: 3 | HW55: 2 | IF55: 5 | IJ55: 2 | JC55: 3 | JD55: 3 | KJ55: 3 | KS55: 4.5 | LU55: 2 | LV55: 2 | MC55: 2 | MD55: 6
A56: 40 | B56: Lord | C56: 10506 | D56: 2012 | E56: Magálová Agátka | F56: 9377 | G56: D | H56: TJ Žrebčín Motešice | I56: =SUM(K56:XX56) -> 45 | J56: ='Kôň roka'!$I56 -> 45 | Q56: 4 | EE56: 5 | ER56: 1 | GM56: 3 | GZ56: 4 | HW56: 1.5 | IJ56: 3 | IK56: 1.5 | JH56: 2 | KJ56: 4.5 | KK56: 2 | KT56: 4.5 | LJ56: 3 | LM56: 4 | LT56: 2
B57: Butterfly | C57: 13919 | D57: 2016 | E57: Meszárošová Alexandra | F57: 9910 | G57: D | H57: JK Ivanka pri Dunaji | I57: =SUM(K57:XX57) -> 43.5 | J57: ='Kôň roka'!$I57 -> 43.5 | FT57: 3 | FU57: 3 | GR57: 6 | HD57: 6 | HW57: 9 | IK57: 10.5 | KK57: 5 | KT57: 1
B58: Sunny Star | C58: 13853 | D58: 2020 | E58: Kubušová Kristína | F58: 10275 | G58: D | H58: JK Limfora Badín | I58: =SUM(K58:XX58) -> 41 | J58: ='Kôň roka'!$I58 -> 41 | BJ58: 4 | BV58: 2 | GQ58: 4 | GR58: 3 | HC58: 2 | HD58: 3 | HW58: 1.5 | IK58: 4.5 | KK58: 4 | KT58: 5 | MI58: 3 | MP58: 5
B59: Destina | C59: 13278 | E59: Kuhajda Milan | F59: 4920 | G59: S | H59: JK Jurský Dvor Nitra | I59: =SUM(K59:XX59) -> 39.5 | J59: ='Kôň roka'!$I59 -> 39.5 | BL59: 6 | BV59: 8 | NH59: 12 | NP59: 13.5
B60: Jantar | C60: 10202 | D60: 2014 | E60: Fröhlichová Jana | F60: 9725 | G60: D | H60: Harmónia v sedle Ivanka pri Dunaji | I60: =SUM(K60:XX60) -> 41 | J60: {=SUM(LARGE(K60:OJ60,_xlfn.SEQUENCE(D264)))} -> 39 | CU60: 2 | CV60: 5 | HC60: 1 | HM60: 3 | HN60: 2 | HW60: 1.5 | HX60: 3 | IJ60: 2 | IK60: 1.5 | JF60: 2 | JH60: 1 | LC60: 3 | MH60: 4 | MI60: 2 | MP60: 3 | MQ60: 4 | NR60: 1
A61: 45 | B61: King Galaxie L | C61: 13587 | D61: 2015 | E61: Jašeková Diana | F61: 9423 | G61: J | H61: JK Limfora Badín | I61: =SUM(K61:XX61) -> 38 | J61: ='Kôň roka'!$I61 -> 38 | BG61: 9 | BH61: 2 | BO61: 9 | BW61: 6 | BY61: 12
B62: Gidran XX-12/Wonderbra | C62: 11681 | D62: 2018 | E62: Magálová Agátka | F62: 9377 | G62: D | H62: TJ Žrebčín Motešice | I62: =SUM(K62:XX62) -> 37.5 | J62: ='Kôň roka'!$I62 -> 37.5 | M62: 1 | Q62: 1 | W62: 1 | AD62: 2 | GQ62: 3 | HC62: 4 | HW62: 1.5 | IK62: 3 | JS62: 3 | JT62: 3 | KA62: 5 | KB62: 4 | LM62: 2 | LN62: 1 | LT62: 3
B63: Kiero DMA | C63: 13796 | D63: 2021 | E63: Hunová Diana | F63: 7853 | G63: J | H63: JK Scarlett Šamorín | I63: =SUM(K63:XX63) -> 36.5 | J63: ='Kôň roka'!$I63 -> 36.5 | L63: =Seniori!L87 -> 0 | KG63: 5 | KH63: 2 | KP63: 3 | KT63: 4 | MX63: 7 | MY63: 5 | NG63: 3 | NP63: 7.5
B64: Piaf | C64: 8781 | E64: Jašušáková Sandra | F64: 10274 | G64: Y | H64: JK Limfora Badín | I64: =SUM(K64:XX64) -> 0 | J64: ='Kôň roka'!$I64+I65+I66+I67+I68 -> 35
E65: Foldešiová Alžbeta | F65: 10258 | G65: J | H65: TJ Žrebčín Motešice | I65: =SUM(K65:XX65) -> 0
E66: Mitríková Šárka | F66: 9800 | G66: D | H66: JK Limfora Badín | I66: =SUM(K66:XX66) -> 0
E67: Magálová Agátka | F67: 9377 | G67: D | H67: Tj Žrebčín Motešice | I67: =SUM(K67:XX67) -> 17 | Y67: 3 | AF67: 6 | AI67: 2 | AV67: 2 | BC67: 4
E68: Magál Ján | F68: 8604 | G68: D | H68: TJ Žrebčín Motešice | I68: =SUM(K68:XX68) -> 18 | N68: 3 | R68: 6 | AG68: 2 | AW68: 4 | BB68: 3
B69: Neapolitano XIX-10 | C69: 13160 | D69: 2020 | E69: Kintšer David | F69: 2372 | G69: S | H69: JK pri NŽ Topoľčianky | I69: =SUM(K69:XX69) -> 35 | J69: ='Kôň roka'!$I69 -> 35 | BJ69: =Seniori!BJ64 -> 0 | KL69: 5 | KU69: 4 | NB69: 6 | NH69: 7.5 | NK69: 8 | NP69: 4.5
A70: 50 | B70: Nylana | C70: 11709 | D70: 2018 | E70: Žarnovická Jana | F70: 3057 | G70: S | H70: JK Slovan Háje Bratislava | I70: =SUM(K70:XX70) -> 34 | J70: ='Kôň roka'!$I70 -> 34 | CX70: 7 | FW70: 5 | HQ70: 7 | HR70: 5 | LG70: 7 | LH70: 3
B71: Nonius XXXVI-12 SK Xeila | C71: 12751 | D71: 2020 | E71: Petranová Sofia Laura | F71: 6761 | G71: Y | H71: TJ Žrebčín Motešice | I71: =SUM(K71:XX71) -> 31 | J71: ='Kôň roka'!$I71+I36 -> 31 | L71: 3 | P71: 1 | R71: 1 | U71: 3 | AB71: 3 | HT71: 4 | HU71: 7 | IG71: 4 | IH71: 4 | JP71: 1
B72: Angelis Diablo | C72: 12432 | E72: Slobodník Jakub | F72: 9607 | G72: D | H72: Harmónia v sedle Ivanka pri Dunaji | I72: =SUM(K72:XX72) -> 31 | J72: ='Kôň roka'!$I72 -> 31 | BI72: 3 | BU72: 3 | CR72: 5 | CU72: 4 | FP72: 2 | HI72: 3 | JD72: 1 | KJ72: 3 | KS72: 3 | KY72: 3 | LD72: 1
B73: Furioso XXV-43 Romajka | C73: 13102 | D73: 2011 | E73: Masarik Mathias | F73: 10030 | G73: D | H73: TJ Žrebčín Motešice | I73: =SUM(K73:XX73) -> 28.5 | J73: {=SUM(LARGE(L73:OK73,_xlfn.SEQUENCE(D264)))} -> 27.5 | AU73: 2 | FZ73: 2 | GQ73: 1 | HC73: 1 | HW73: 3 | IJ73: 2 | IK73: 1.5 | IS73: 2 | IT73: 2 | JN73: 2 | JO73: 2 | KD73: 1 | KF73: 3 | LT73: 1 | NW73: 2 | NX73: 1
B74: Sirius | C74: 8371 | E74: Veverková Lucia | F74: 7553 | G74: Y | H74: JK RS Team Bratislava | I74: =SUM(K74:XX74) -> 27 | J74: ='Kôň roka'!$I74 -> 27 | BW74: 4 | BZ74: 6 | CX74: 1 | HO74: 1 | HQ74: 2 | IK74: 4 | IL74: 1 | JK74: 3 | LG74: 2 | NS74: 3
A75: 55 | B75: Ibalius | C75: 13316 | D75: 2017 | E75: Výbohová Martina | F75: 7749 | G75: S | H75: JK Enimo Slatinské Lazy | I75: =SUM(K75:XX75) -> 27 | J75: ='Kôň roka'!$I75 -> 27 | AW75: 1 | EI75: 4 | ES75: 6 | ET75: 2 | GR75: 1 | GS75: 5 | IW75: 1 | IX75: 3 | MN75: 4
B76: Siglavy XVIII-2 | C76: 13636 | D76: 2022 | E76: Flaková Kristína | F76: 2366 | H76: JK pri NŽ Topoľčianky | I76: =SUM(K76:XX76) -> 26 | J76: ='Kôň roka'!$I76 -> 26 | KP76: 3 | MX76: 4 | NA76: 2 | NF76: 10.5 | NJ76: 3 | NN76: 3.5
B77: Kilian | C77: 12845 | D77: 2018 | E77: Kubušová Kristína | F77: 10275 | G77: D | H77: JK Limfora Badín | I77: =SUM(K77:XX77) -> 26 | J77: ='Kôň roka'!$I77 -> 26 | BI77: 2 | BU77: 2 | EE77: 2 | EO77: 1 | GZ77: 2 | HD77: 4 | HW77: 1.5 | HX77: 4 | IK77: 3 | KJ77: 4.5
B78: Jungle Lady RJ | C78: 1388 | D78: 2019 | E78: Húsková Karin | G78: S | H78: TJ Žrebčín Motešice | I78: =SUM(K78:XX78) -> 24 | J78: ='Kôň roka'!$I78 -> 24 | DA78: 12 | DB78: 12
B79: Przedswit XXXIII-18/Žoker | C79: 13609 | D79: 2022 | E79: Ďuríková Ema | F79: 6693 | G79: S | H79: Red Horse Stará Lehota | I79: =SUM(K79:XX79) -> 23.5 | J79: ='Kôň roka'!$I79 -> 23.5 | U79: 3 | AB79: 4 | GI79: 6 | JX79: 3 | NF79: 4.5 | NN79: 3
A80: 60 | B80: Furioso XLII-21 Sauvignon | C80: 11682 | D80: 2018 | E80: Abdallová Sherin | F80: 9317 | G80: J | H80: TJ Žrebčín Motešice | I80: =SUM(K80:XX80) -> 0 | J80: ='Kôň roka'!$I80+I81+I82+I83 -> 23
E81: Kováčiková Lucia | F81: 8620 | G81: J | I81: =SUM(K81:XX81) -> 5 | M81: 2 | Q81: 3
E82: Magál Ján | G82: D | I82: =SUM(K82:XX82) -> 18 | N82: 5 | R82: 4 | AF82: 6 | HE82: 3
E83: Eržinová Stella | F83: 8401 | G83: J | I83: =SUM(K83:XX83) -> 0
B84: Bewitch | C84: 10208 | D84: 2007 | E84: Poláčková Eliška | F84: 9424 | G84: D | H84: Stajňa Mustaqqil Kuchyňa | I84: =SUM(K84:XX84) -> 21.5 | J84: ='Kôň roka'!$I84 -> 21.5 | CV84: 4 | CW84: 5 | FU84: 1 | FV84: 1 | HY84: 1.5 | JH84: 3 | JJ84: 3 | LD84: 2 | LF84: 1
B85: Cala S Wellington | C85: 14027 | D85: 2022 | E85: Kuhajda Milan | F85: 4920 | G85: S | H85: JK Jurský Dvor Nitra | I85: =SUM(K85:XX85) -> 20.5 | J85: ='Kôň roka'!$I85 -> 20.5 | KG85: 2 | KP85: 5 | NF85: 6 | NN85: 7.5
B86: Furioso XXX-39 Žofre | C86: 13608 | D86: 2022 | E86: Eržinová Stella | F86: 8401 | G86: Y | H86: TJ Žrebčín Motešice | I86: =SUM(K86:XX86) -> 19 | J86: ='Kôň roka'!$I86 -> 19 | L86: 2 | O86: 5 | U86: 4 | AB86: 5 | AX86: 3
B87: Larambo RS | C87: 13910 | D87: 2021 | E87: Juránová Tatiana | F87: 110 | G87: S | H87: JK RS Team Bratislava | I87: =SUM(K87:XX87) -> 19 | J87: ='Kôň roka'!$I87 -> 19 | CT87: 3 | FR87: 4 | HK87: 2 | HN87: 3 | JG87: 2 | LA87: 5
B88: Przedswit XXXVII-2 Zumba | C88: 13103 | D88: 2021 | E88: Blštáková Katarína | F88: 8828 | G88: Y | H88: TJ Žrebčín Motešice | I88: =SUM(K88:XX88) -> 0 | J88: ='Kôň roka'!$I88+I89 -> 18
E89: Balážová Adéla | F89: 10986 | G89: D | I89: =SUM(K89:XX89) -> 18 | U89: 3 | AB89: 3 | EP89: 2 | JQ89: 4 | JS89: 1 | KA89: 2 | NO89: 3
B90: Nonius XXXVII-1 SK Zachar | C90: 13101 | E90: Richtárechová Salome | F90: 9452 | G90: D | H90: TJ Žrebčín Motešice | I90: =SUM(K90:XX90) -> 18 | J90: ='Kôň roka'!$I90 -> 18 | L90: 1 | AR90: 3 | AY90: 7 | GJ90: 5 | JQ90: 1 | JY90: 1
B91: Don Matteo | C91: 12642 | E91: Námešná Ela | F91: 8995 | G91: D | H91: Beri klub Nová Baňa | I91: =SUM(K91:XX91) -> 16 | J91: ='Kôň roka'!$I91 -> 16 | BI91: 1 | FT91: 2 | HW91: 4.5 | HX91: 1 | IK91: 6 | KS91: 1.5
B92: Favory XII-13 | C92: 9454 | D92: 2009 | E92: Nittnaus Martina | F92: 135 | G92: S | H92: JK pri NŽ Topoľčianky | I92: =SUM(K92:XX92) -> 14 | J92: ='Kôň roka'!$I92 -> 14 | KM92: 1 | KV92: 3 | NC92: 7 | NL92: 3
B93: Daphne | C93: 11639 | D93: 2016 | E93: Škvarková Kristína | F93: 7779 | G93: S | H93: JK Rosy Team | I93: =SUM(K93:XX93) -> 13 | J93: ='Kôň roka'!$I93 -> 13 | HY93: 4 | IL93: 4 | MN93: 5
A94: ¨70 | B94: Tom | C94: 12298 | E94: Ouzká Laura | F94: 10820 | G94: D | H94: Ranč Ouzkých Bratislava | I94: =SUM(K94:XX94) -> 11 | J94: ='Kôň roka'!$I94 -> 11 | CR94: 2 | CS94: 3 | FQ94: 2 | JC94: 2 | KZ94: 2
B95: Gidran XX-22 Žabka | C95: 13611 | D95: 2022 | E95: Ďuríková Ema | F95: 6693 | G95: S | H95: Red Horse Stará Lehota | I95: =SUM(K95:XX95) -> 8 | J95: ='Kôň roka'!$I95+I96 -> 11 | L95: 1 | O95: 1 | U95: 5 | AB95: 1
E96: Blštáková Katarína | F96: 8828 | G96: Y | H96: Tj Žrebčín Motešice | I96: =SUM(K96:XX96) -> 3 | JP96: 2 | JX96: 1
B97: Cuba Libre Z | C97: 10339 | D97: 2011 | E97: Kubanová Hanka | F97: 9946 | G97: Y | H97: Ranč Ouzkých Bratislava | I97: =SUM(K97:XX97) -> 10 | J97: ='Kôň roka'!$I97 -> 10 | GO97: 1 | HB97: 3 | JI97: 4 | LC97: 2
B98: Veszto Nonius-149 Sebes | C98: 11749 | D98: 2009 | E98: Balogh Štefan | F98: 7028 | G98: S | H98: JK Ivanka pri Dunaji | I98: =SUM(K98:XX98) -> 10 | J98: ='Kôň roka'!$I98 -> 10 | Y98: 1 | AF98: 2 | IL98: 2 | JK98: 2 | LG98: 3
B99: Nepolitano XIX-10 | C99: 13160 | D99: 2020 | E99: Kintšer David | F99: 2372 | G99: S | H99: JK pri NŽ Topoľčianky | I99: =SUM(K99:XX99) -> 9 | J99: ='Kôň roka'!$I99 -> 9 | KL99: 5 | KU99: 4
A100: 70 | B100: Bon Bon | C100: 13309 | D100: 2021 | E100: Slobodníková Anežka | F100: 7279 | G100: S | H100: Harmónia v sedle | I100: =SUM(K100:XX100) -> 9 | J100: ='Kôň roka'!$I100 -> 9 | JG100: 1 | LA100: 8
B101: Marvel | C101: 13887 | D101: 2021 | E101: Gasparovicsová Linda | F101: 11235 | G101: D | H101: JK CZajlík Ranch Dun. Klátov | I101: =SUM(K101:XX101) -> 9 | J101: ='Kôň roka'!$I101 -> 9 | GA101: 2 | GB101: 3 | KG101: 2 | KP101: 2
B102: Alexander | C102: 13132 | D102: 2009 | E102: Meszárošová Alexandra | F102: 9910 | G102: D | H102: JK Ivanka pri Dunaji | I102: =SUM(K102:XX102) -> 9 | J102: ='Kôň roka'!$I102 -> 9 | FP102: 1 | GM102: 1 | GZ102: 1 | HW102: 1.5 | IF102: 2 | IK102: 1.5 | KL102: 1
B103: Dimension | C103: 12971 | D103: 2018 | E103: Filo Nina | F103: 2165 | G103: S | H103: Harmónia v sedle Ivanka pri Dunaji | I103: =SUM(K103:XX103) -> 8 | J103: ='Kôň roka'!$I103 -> 8 | BJ103: 2 | BN103: 2 | BV103: 4
...

Sheet Mladý kôň roka
A1: DREZÚRNY REBRÍČEK
A2: Mladý kôň roka
A4: 2026
A6: Poradie | B6: Kôň | C6: Licencia SJF | D6: Rok nar. | E6: Jazdec | F6: Licencia SJF | G6: Kategória | H6: Subjekt | I6: Body celkom | J6: Spolu 15 NAJ | K6: =Seniori!K6 -> 06.-08.02. | S6: =Seniori!S6 -> 27.2.-1.3. | AH6: =Seniori!AH6 -> 05.-07.03. | AJ6: =Seniori!AJ6 -> 05.-07.03. | AM6: =Seniori!AM6 -> 21.-22.3. | AO6: =Seniori!AO6 -> 5.4. | AP6: =Seniori!AP6 -> 2.-4.4. | BD6: 11.4. | BI6: =Seniori!BI6 -> 18.-19.4. | CF6: =Seniori!CF6 -> 25.-26.4. | CR6: =Seniori!CR6 -> 1.5. | CY6: =Seniori!CY6 -> 3.5. | DA6: =Seniori!DA6 -> 8.-10.5. | DC6: =Seniori!DC6 -> 9.-10.5. | DK6: 9.-10.5. | EC6: 21.-24.5. | EE6: 23.-24.5. | EY6: 30.-31.5. | FK6: 5.-7.6. | FP6: =Seniori!FP6 -> 13.6. | FY6: =Seniori!FY6 -> 14.6. | GA6: =Seniori!GA6 -> 27.-28.6. | GD6: =Seniori!GD6 -> 26.-28.6. | GI6: =Seniori!GI6 -> 26.-27.6. | HI6: =Seniori!HI6 -> 4.7. | HS6: =Seniori!HS6 -> 11.-12.7. | IQ6: =Seniori!IQ6 -> 15.-19.7. | IS6: =Seniori!IS6 -> 18.7. | IU6: =Seniori!IU6 -> 25.-26.7. | JC6: =Seniori!JC6 -> 31.7. | JL6: =Seniori!JL6 -> 5.-9.8. | JN6: 15.-16.8. | KD6: 22.-23.8. | KG6: 22.-23.8. | KY6: 28.8. | LI6: 28.-29.8. | LU6: 29.-30.8. | MH6: 5.- 6.9. | MX6: 11.-13.9. | NW6: 12.9.
K7: =Seniori!K7 -> Motešice | S7: =Seniori!S7 -> Motešice | AH7: =Seniori!AH7 -> Motešice | AJ7: =Seniori!AJ7 -> Motešice CDI | AM7: =Seniori!AM7 -> Budapešť | AO7: =Seniori!AO7 -> Brno | AP7: =Seniori!AP7 -> Motešice | BD7: Kisbabolna | BI7: =Seniori!BI7 -> Dunajský Klátov | CF7: =Seniori!CF7 -> Těšánky | CR7: =Seniori!CR7 -> Rs Team | CY7: =Seniori!CY7 -> Brno | DA7: =Seniori!DA7 -> Las Cadenas | DC7: =Seniori!DC7 -> Olomouc | DK7: Szilvásvárad | EC7: CDI Olomouc | EE7: Vígľaš | EY7: Těšánky | FK7: CDI Brno | FP7: =Seniori!FP7 -> RS Team | FY7: =Seniori!FY7 -> Chotěbuz | GA7: =Seniori!GA7 -> Šamorín | GD7: =Seniori!GD7 -> Šamorín CDI | GI7: =Seniori!GI7 -> Motešice | HI7: =Seniori!HI7 -> RS Team | HS7: =Seniori!HS7 -> Dunaj. Klátov (MSR deti, juniori, ml. jazdci) | IQ7: =Seniori!IQ7 -> ME Detí Olomouc | IS7: =Seniori!IS7 -> Frenštát p/R | IU7: =Seniori!IU7 -> Szilvasvárad | JC7: =Seniori!JC7 -> RS Team | JL7: =Seniori!JL7 -> MS mladých koní (Verden) | JN7: Motešice | KD7: Panská Lícha | KG7: Pony MSR (Topolčianky) | KY7: Rs Team | LI7: Motešice | LU7: Vyškov | MH7: Masarykov Dvor | MX7: Topoľčianky MSR YH+Seniori | NW7: Frenštát p/R
K8: =Seniori!K8 -> Z2 | L8: =Seniori!L8 -> 4r | M8: =Seniori!M8 -> DUA | N8: =Seniori!N8 -> DD | O8: =Seniori!O8 -> 4r | P8: =Seniori!P8 -> 5rU | Q8: =Seniori!Q8 -> DUA | R8: =Seniori!R8 -> DD | ... AP8: =Seniori!AP8 -> P1 | AQ8: P3 | AR8: 4r | AS8: 5rU | AT8: 6rU | AU8: DUA | AV8: DUB | AW8: DD | AX8: 4r | AY8: 5rU | AZ8: 6rU | BA8: DUA | BB8: DUB | BC8: DD | BD8: A4 | BE8: DUA | BF8: LM2 | BG8: DD | BH8: MB4 | BI8: =Seniori!BI8 -> P1 | BJ8: =Seniori!BJ8 -> DUA | BK8: =Seniori!BK8 -> 4r | BL8: =Seniori!BL8 -> 5rU | BM8: =Seniori!BM8 -> 6rU | BN8: =Seniori!BN8 -> DD | BO8: =Seniori!BO8 -> LP4 | BP8: =Seniori!BP8 -> LS5 | ... BT8: =Seniori!BT8 -> IMII | BU8: P1 | BV8: DUA | BW8: DD | BX8: JJ | BY8: LP5 | BZ8: LS | CA8: 4R | CB8: 5rF | CC8: YJ | CD8: IMI | CE8: U25 | CF8: =Seniori!CF8 -> 5rU | CG8: =Seniori!CG8 -> JU | CH8: =Seniori!CH8 -> JD | CI8: =Seniori!CI8 -> YU | CJ8: =Seniori!CJ8 -> SG | CK8: =Seniori!CK8 -> IMA | CL8: =Seniori!CL8 -> 5rF | CM8: =Seniori!CM8 -> L0 | ... DJ8: =Seniori!DJ8 -> IMI | DK8: 4U | DL8: MKZ3 | DM8: 5rU | DN8: DUA | DO8: Z3 | DP8: DD | DQ8: LS5 | DR8: SG | DS8: IMI | DT8: 4U | DU8: MKZ4 | DV8: 5rF | DW8: Z4 | DX8: DUA | DY8: DJ | DZ8: L10 | EA8: YJ | EB8: IMI | EC8: 5rU | ED8: 5rF | EE8: P2 | EF8: 4rU | EG8: 5rU | EH8: DUA | EI8: DD | EJ8: JU | EK8: JD | EL8: SG | EM8: LP4 | EN8: IMI | EO8: P3 | EP8: 4rU | EQ8: 5rU | ER8: DUA | ES8: DD | ET8: DJ | EU8: JU | EV8: YJ | EW8: LP4 | EX8: IMI | EY8: DUA | EZ8: L0 | FA8: JU | FB8: JD | FC8: SG | FD8: IMI | FE8: Z4 | FF8: Z5 | FG8: JU | FH8: JD | FI8: SG | FJ8: IMI | FK8: 5rU | FL8: SG | FM8: 5rF | FN8: IMI | FO8: IMIF | FP8: =Seniori!FP8 -> P3 | FQ8: =Seniori!FQ8 -> P1 | FR8: =Seniori!FR8 -> MKZ1 | FS8: =Seniori!FS8 -> Z1 | FT8: =Seniori!FT8 -> Z3 | FU8: =Seniori!FU8 -> DUA | FV8: =Seniori!FV8 -> DD | FW8: =Seniori!FW8 -> LS5 | ... LG8: =Seniori!LG8 -> LS6 | LH8: S6 | LI8: =Seniori!LI8 -> Z2 | LJ8: =Seniori!LJ8 -> Z3 | LK8: =Seniori!LK8 -> 5rU | LL8: =Seniori!LL8 -> 6rU | LM8: =Seniori!LM8 -> DUA | LN8: =Seniori!LN8 -> DD | LO8: =Seniori!LO8 -> JU | LP8: =Seniori!LP8 -> SG | ... NX8: =Seniori!NX8 -> Z4/K
A9: 1 | B9: Raheeli Marbella | C9: 13491 | D9: 2021 | E9: Gombarčíková Tatiana | F9: 5599 | G9: S | H9: JK Kubiš Trnava | I9: =SUM(K9:XW9) -> 214.5 | J9: ='Mladý kôň roka'!$I9 -> 214.5 | AO9: 11 | CF9: 13 | CL9: 10 | DC9: 13 | DH9: 13 | EC9: 9 | ED9: 9 | FK9: 16.5 | FM9: 19.5 | GD9: 19.5 | GG9: 18 | JL9: 12 | JM9: 12 | NG9: 19.5 | NO9: 19.5
A10: 2 | B10: Catalin XVI-1 Zonor | C10: 13100 | D10: 2021 | E10: Richterová Lenka | G10: Y | H10: Equiteam Most pri Bratislave | I10: =SUM(K10:XW10) -> 0 | J10: {=SUM(LARGE(K10:OJ12,_xlfn.SEQUENCE(D92)))} -> 103
E11: Petranová Sofia Laura | F11: 6761 | G11: Y | H11: TJ Žrebčín Motešice | I11: =SUM(K11:XW11) -> 65 | GI11: 6 | GJ11: 8 | GW11: 4 | GX11: 4 | HT11: 5 | HU11: 8 | IG11: 5 | IH11: 7 | JG11: 4 | JP11: 5 | JQ11: 6 | JX11: 3
E12: Eržinová Stella | F12: 8401 | G12: Y | H12: TJ Žrebčín Motešice | I12: =SUM(K12:XW12) -> 71 | L12: 5 | P12: 4 | V12: 5 | AC12: 4 | AS12: 2 | AY12: 13 | LK12: 5 | LR12: 3 | MK12: 8 | MS12: 10 | NG12: 6 | NO12: 6
A13: 3 | B13: Chassia | C13: 13159 | D13: 2020 | E13: Nittnaus Martina | F13: 135 | G13: S | H13: JK pri NŽ Topoľčianky | I13: =SUM(K13:XW13) -> 108.5 | J13: ='Mladý kôň roka'!$I13 -> 108.5 | BL13: 4 | DM13: 6 | DV13: 6 | EG13: 9 | EQ13: 12 | HU13: 4 | IH13: 10 | KH13: 8 | KQ13: 8 | MY13: 10 | NH13: 15 | NP13: 16.5
A14: 4 | B14: Bella Grande | C14: 13488 | D14: 2021 | E14: Horná Michaela | F14: 2965 | G14: S | H14: JK pri NŽ Topoľčianky | I14: =SUM(K14:XW14) -> 121.5 | J14: {=SUM(LARGE(K14:OJ14,_xlfn.SEQUENCE(D92)))} -> 101.5 | BK14: 5 | CA14: 6 | DK14: 5 | DL14: 2 | DT14: 2 | DU14: 1 | EF14: 4 | EG14: 8 | EP14: 6 | EQ14: 8 | HT14: 2 | HU14: 5 | IG14: 4 | IH14: 6 | KG14: 2 | KH14: 2 | KP14: 2 | KQ14: 7 | MX14: 9 | MY14: 8 | NG14: 13.5 | NH14: 5 | NO14: 6 | NP14: 3
A15: 5 | B15: Santos | C15: 13626 | D15: 2022 | E15: Šteflovičová Sylvia | F15: 2362 | G15: S | H15: JK Josy Team Trnava | I15: =SUM(K15:XW15) -> 93 | J15: ='Mladý kôň roka'!$I15 -> 93 | GI15: 10 | GW15: 5 | HT15: 4 | IG15: 5 | JP15: 8 | KG15: 6 | KP15: 8 | MJ15: 5 | MR15: 7 | MX15: 11 | NF15: 12 | NN15: 12
A16: 6 | B16: Prada Van Weizicht | C16: 12609 | D16: 2020 | E16: Hunová Diana | F16: 7853 | G16: J | H16: JK Scarlett Šamorín | I16: =SUM(K16:XW16) -> 86.5 | J16: =I16 -> 86.5 | BL16: 3 | CB16: 6 | KH16: 5 | KP16: 4 | KQ16: 12 | MY16: 11 | NG16: 5 | NH16: 16.5 | NO16: 12 | NP16: 12
A17: 7 | B17: Dancing Boy | C17: 12984 | D17: 2019 | E17: Porkertová Linda | F17: 9241 | G17: Y | H17: JK Josy Team Trnava | I17: =SUM(K17:XW17) -> 82.5 | J17: ='Mladý kôň roka'!$I17 -> 82.5 | JR17: 6 | JZ17: 7 | KI17: 8 | ML17: 8 | MT17: 9 | MZ17: 7 | NI17: 22.5 | NQ17: 15
A18: 8 | B18: Topas Imperial | C18: 14005 | D18: 2021 | E18: Hunová Diana | G18: J | H18: JK Scarlett Šamorín | I18: =SUM(K18:XW18) -> 77.5 | J18: ='Mladý kôň roka'!$I18 -> 77.5 | JG18: 6 | KG18: 7 | KH18: 7 | KP18: 5 | MB18: 8 | MX18: 10 | MY18: 7 | NF18: 8 | NG18: 7.5 | NO18: 12
A19: 9 | B19: Galleria´s Destano´s Dream Come True | C19: 12840 | D19: 2019 | E19: Kuhajda Milan | G19: S | H19: JK Jurský Dvor Nitra | I19: =SUM(K19:XW19) -> 76 | J19: ='Mladý kôň roka'!$I19 -> 76 | HV19: 5 | II19: 7 | KI19: 13 | KR19: 12 | NH19: 21 | NQ19: 18
A20: 10 | B20: Destiny It´s Me | C20: 12223 | D20: 2019 | E20: Sklenárová Simona | F20: 3021 | G20: S | H20: JK Horse Club Nitra | I20: =SUM(K20:XW20) -> 72 | J20: ='Mladý kôň roka'!$I20 -> 72 | GK20: 7 | GY20: 7 | HV20: 4 | KI20: 8 | KR20: 10 | LL20: 5 | LS20: 5 | MZ20: 5 | NI20: 15 | NQ20: 6
A21: 11 | B21: Quinnus II-23 | C21: 12871 | D21: 2020 | E21: Výbohová Martina | F21: 7749 | G21: S | H21: JK Enimo Slatinské Lazy | I21: =SUM(K21:XW21) -> 68.5 | J21: ='Mladý kôň roka'!$I21 -> 68.5 | AS21: 4 | AT21: 5 | AY21: 11 | AZ21: 4 | EG21: 6 | EQ21: 3 | GJ21: 9 | IU21: 1 | IY21: 2 | MS21: 5 | NG21: 5 | NH21: 9 | NO21: 4.5
A22: 12 | B22: Papagayo TC | C22: 13758 | D22: 2020 | E22: Námešná Ela | F22: 8995 | G22: D | H22: JK Agrocontact Jasová | I22: =SUM(K22:XW22) -> 59.5 | J22: ='Mladý kôň roka'!$I22 -> 59.5 | EG22: 4 | EQ22: 10 | KH22: 4 | KQ22: 6 | MK22: 11 | NG22: 8 | NH22: 10.5 | NP22: 6
A23: 13 | B23: Cezaria | C23: 13634 | D23: 2022 | E23: Kintšer David | F23: 2372 | G23: S | H23: JK pri NŽ Topoľčianky | I23: =SUM(K23:XW23) -> 58 | J23: ='Mladý kôň roka'!$I23 -> 58 | BK23: 5 | CA23: 4 | EF23: 3 | EP23: 5 | HT23: 5 | IG23: 3 | KG23: 7 | KP23: 1 | MX23: 7 | NF23: 9 | NN23: 9
A24: 14 | B24: Przedswit XXXIII-19 Žonor | C24: 13607 | D24: 2022 | E24: Petranová Sofia Laura | F24: 6761 | G24: Y | H24: TJ Žrebčín Motešice | I24: =SUM(K24:XW24) -> 55.5 | J24: ='Mladý kôň roka'!$I24+I25 -> 57.5 | L24: 6 | O24: 7 | GI24: 4 | GW24: 4 | HT24: 7 | IG24: 8 | JG24: 3 | JP24: 4 | JX24: 5 | NF24: 3 | NN24: 4.5
E25: Abrahámfyová Klára | F25: 4589 | G25: S | I25: =SUM(K25:XW25) -> 2 | EP25: 2
A26: 15 | B26: Pastorale | C26: 12611 | D26: 2020 | E26: Záhorská Silvia | F26: 1742 | G26: S | H26: JK Scarlett Šamorín | I26: =SUM(K26:XW26) -> 53 | J26: ='Mladý kôň roka'!$I26 -> 53 | BL26: 4 | CB26: 4 | EG26: 5 | EQ26: 6 | KH26: 1 | KQ26: 3 | MY26: 5 | NG26: 7 | NH26: 7.5 | NP26: 10.5
A27: 16 | B27: Golden Flower | C27: 12156 | D27: 2019 | E27: Bučkuliaková Linda | F27: 2093 | G27: S | H27: JO Martin Záturčie | I27: =SUM(K27:XW27) -> 53 | J27: ='Mladý kôň roka'!$I27 -> 53 | KI27: 12 | KR27: 14 | NI27: 18 | NQ27: 9
A28: 17 | B28: Furioso XXIV-35 SK (Black Fox) | C28: 13398 | D28: 2021 | E28: Líšková Tereza | F28: 8647 | G28: J | H28: JK Limit Bratislava | I28: =SUM(K28:XW28) -> 34 | J28: ='Mladý kôň roka'!$I28 -> 34 | GI28: 1 | GJ28: 1 | GW28: 1 | MK28: 6 | MS28: 7 | MX28: 4 | NF28: 10.5 | NN28: 3.5
A29: 18 | B29: Kiero DMA | C29: 13796 | D29: 2021 | E29: Hunová Diana | F29: 7853 | G29: J | H29: JK Scarlett Šamorín | I29: =SUM(K29:XW29) -> 32.5 | J29: ='Mladý kôň roka'!$I29 -> 32.5 | KG29: 5 | KH29: 2 | KP29: 3 | MX29: 7 | MY29: 5 | NG29: 3 | NO29: 7.5
A30: 19 | B30: Destina | C30: 13278 | D30: 2020 | E30: Kuhajda Milan | F30: 4920 | G30: S | H30: JK Jurský Dvor Nitra | I30: =SUM(K30:XW30) -> 31.5 | J30: ='Mladý kôň roka'!$I30 -> 31.5 | BL30: 6 | NH30: 12 | NP30: 13.5
A31: 20 | B31: Brisa | C31: 13633 | D31: 2022 | E31: Flaková Kristína | F31: 2366 | G31: S | H31: JK pri NŽ Topoľčianky | I31: =SUM(K31:XW31) -> 29 | J31: ='Mladý kôň roka'!$I31 -> 29 | BK31: 3 | CA31: 6 | DK31: 3 | DT31: 6 | EF31: 6 | EP31: 3 | HT31: 2
A32: 21 | B32: Zembee Aye AMH | C32: 13079 | D32: 2020 | E32: Popovcová Janka | F32: 5943 | G32: J | H32: Equinibrium AMH Vlkanová | I32: =SUM(K32:XW32) -> 24.5 | J32: ='Mladý kôň roka'!$I32 -> 24.5 | BL32: 2 | CB32: 2 | EQ32: 1 | NG32: 3 | NH32: 6 | NO32: 9 | NP32: 1.5
A33: 22 | B33: Jungle Lady RJ | C33: 13888 | D33: 2019 | E33: Húsková Karin | G33: S | H33: TJ Žrebčín Motešice | I33: =SUM(K33:XW33) -> 24 | J33: ='Mladý kôň roka'!$I33 -> 24 | DA33: 12 | DB33: 12
A34: 22 | B34: Gidran XX-22 Žabka | C34: 13611 | D34: 2022 | E34: Ďuríková Ema | F34: 6693 | G34: S | H34: Red Horse Stará Lehota | I34: =SUM(K34:XW34) -> 11 | J34: ='Mladý kôň roka'!$I34+I35 -> 24 | L34: 1 | O34: 1 | U34: 5 | AB34: 1 | JP34: 2 | JX34: 1
E35: Blštáková Katarína | F35: 8828 | G35: Y | H35: Tj Žrebčín Motešice | I35: =SUM(K42:XW42) -> 13
A36: 24 | B36: Przedswit XXXIII-18/Žoker | C36: 13609 | D36: 2022 | E36: Ďuríková Ema | F36: 6693 | G36: S | H36: Red Horse Stará Lehota | I36: =SUM(K36:XW36) -> 23.5 | J36: ='Mladý kôň roka'!$I36 -> 23.5 | U36: 3 | AB36: 4 | GI36: 6 | JX36: 3 | NF36: 4.5 | NN36: 3
E37: Mitríková Šárka | F37: 9800 | G37: D | I37: =SUM(K37:XW37) -> 0
A38: 25 | B38: Cala S Wellington | C38: 14027 | D38: 2022 | E38: Kuhajda Milan | F38: 4920 | G38: S | H38: JK Jurský Dvor Nitra | I38: =SUM(K38:XW38) -> 20.5 | J38: ='Mladý kôň roka'!$I38 -> 20.5 | KG38: 2 | KP38: 5 | NF38: 6 | NN38: 7.5
A39: 26 | B39: Tristan GM | C39: 12846 | D39: 2020 | E39: Áčová Laura | F39: 8540 | G39: Y | H39: JK Limfora Badín | I39: =SUM(K39:XW39) -> 19.5 | J39: ='Mladý kôň roka'!$I39 -> 19.5 | CB39: 4 | DV39: 2 | MS39: 3 | NH39: 7.5 | NP39: 3
A40: 27 | B40: Furioso XXX-39 Žofre | C40: 13608 | D40: 2022 | E40: Eržinová Stella | F40: 8401 | G40: Y | H40: TJ Žrebčín Motešice | I40: =SUM(K40:XW40) -> 19 | J40: =I40 -> 19 | L40: 2 | O40: 5 | U40: 4 | AB40: 5 | AX40: 3
A41: 28 | B41: Nonius XXXVII-1 SK Zachar | C41: 13101 | D41: 2021 | E41: Richtárechová Salome | F41: 9452 | G41: D | H41: TJ Žrebčín Motešice | I41: =SUM(K41:XW41) -> 18 | J41: ='Mladý kôň roka'!$I41 -> 18 | L41: 1 | AR41: 3 | AY41: 7 | GX41: 5 | JQ41: 1 | JY41: 1
A42: 29 | B42: Larambo RS | C42: 13910 | D42: 2021 | E42: Juranová Tatiana | F42: 110 | G42: S | H42: JK RS Team Bratislava | I42: =SUM(K42:XW42) -> 13 | J42: ='Mladý kôň roka'!$I42 -> 13 | FR42: 4 | HK42: 2 | JG42: 2 | LA42: 5
A43: 30 | B43: Nepolitano XIX-10 | C43: 13160 | D43: 2020 | E43: Kintšer David | F43: 2372 | G43: S | H43: JK pri NŽ Topoľčianky | I43: =SUM(K43:XW43) -> 12 | J43: ='Mladý kôň roka'!$I43 -> 12 | NH43: 7.5 | NP43: 4.5
A44: 30 | B44: Nonius XXXVI-12 SK Xeila | C44: 12751 | D44: 2020 | E44: Petranová Sofia Laura | F44: 6761 | G44: Y | H44: TJ Žrebčín Motešice | I44: =SUM(K44:XW44) -> 12 | J44: ='Mladý kôň roka'!$I44+I37 -> 12 | P44: 1 | HU44: 7 | IH44: 4
A45: 30 | B45: Przedswit XXXVII-2 Zumba | C45: 13103 | D45: 2021 | E45: Blštáková Katarína | F45: 8828 | G45: Y | H45: TJ Žrebčín Motešice | I45: =SUM(K45:XW45) -> 0 | J45: ='Mladý kôň roka'!$I45+I46 -> 12
E46: Balážová Adéla | F46: 10986 | G46: D | I46: =SUM(K46:XW46) -> 12 | U46: 3 | AB46: 3 | EP46: 2 | JQ46: 4
A47: 33 | B47: Marvel | C47: 13887 | D47: 2021 | E47: Gasparovicsová Linda | F47: 11235 | G47: D | H47: JK Czajlik Ranch Dunajský Klátov | I47: =SUM(K47:XW47) -> 9 | J47: ='Mladý kôň roka'!$I47 -> 9 | GA47: 2 | GB47: 3 | KG47: 2 | KP47: 2
A48: 34 | B48: Bon Bon | C48: 13309 | D48: 2021 | E48: Slobodníková Anežka | F48: 7279 | G48: S | H48: Harmónia v sedle | I48: =SUM(K48:XW48) -> 8 | J48: ='Mladý kôň roka'!$I48 -> 8 | LA48: 8
A49: 35 | B49: Zampano | C49: 13924 | D49: 2022 | E49: Hudobová Amália | F49: 8891 | G49: Y | H49: Equinibrium AMH Vlkanová | I49: =SUM(K49:XW49) -> 7.5 | J49: ='Mladý kôň roka'!$I49 -> 7.5 | MJ49: 3 | MR49: 3 | NF49: 1.5
A50: 36 | B50: Gidran XX-21 Želka | C50: 13605 | D50: 2022 | E50: Blštáková Katarína | F50: 8828 | G50: Y | H50: Tj Žrebčín Motešice | I50: =SUM(K50:XW50) -> 4.5 | J50: ='Mladý kôň roka'!$I50 -> 4.5 | NF50: 4.5
A51: 37 | B51: Siglavy XVIII-2 | C51: 13636 | D51: 2022 | E51: Flaková Kristína | F51: 2366 | G51: S | H51: JK pri NŽ Topoľčianky | I51: =SUM(K51:XW51) -> 3 | J51: ='Mladý kôň roka'!$I51 -> 3 | KP51: 3
A52: 38 | B52: Total Present | C52: 13274 | D52: 2021 | E52: Černáčeková Monika | F52: 5106 | G52: S | H52: Equiteam Most pri Bratislave | I52: =SUM(K52:XW52) -> 2 | J52: =I52 -> 2 | HT52: 2
A53: 39 | B53: Przedswit XXXIV-21 Zombík | C53: 13104 | D53: 2021 | E53: Blštáková Katarína | F53: 8828 | G53: Y | H53: TJ Žrebčín Motešice | I53: =SUM(K53:XW53) -> 2 | J53: ='Mladý kôň roka'!$I53 -> 2 | JQ53: 2
A54: 40 | B54: Ducatti | C54: 13220 | D54: 2021 | E54: Ďuríková Ema | F54: 6693 | G54: S | H54: Red Horse Stará Lehota | I54: =SUM(K54:XW54) -> 0 | J54: ='Mladý kôň roka'!$I54+I55 -> 1
E55: Juranová Tatiana | F55: 110 | G55: S | H55: JK RS Team Bratislava | I55: =SUM(K55:XW55) -> 1 | FR55: 1
A56: 41 | B56: Davos Safira | C56: 13590 | D56: 2022 | E56: Valovičová Katarína | F56: 9932 | G56: J | H56: JK Limit Bratislava | I56: =SUM(K56:XW56) -> 1 | J56: ='Mladý kôň roka'!$I56 -> 1 | JG56: 1
A57: 42 | B57: Red Lord | C57: 12825 | D57: 2020 | E57: Marthaler Veronika | F57: Z0048 | G57: S | H57: Sportstall Marthaler | I57: =SUM(K57:XW57) -> 0 | J57: ='Mladý kôň roka'!$I57 -> 0
A58: 43 | B58: Ricardo Diamond Surprice | C58: 12902 | D58: 2019 | E58: Harachová Sabina | F58: 9513 | G58: D | H58: JK Limfora Badín | I58: =SUM(K58:XW58) -> 0 | J58: ='Mladý kôň roka'!$I58 -> 0
A59: 44 | B59: Bonett | C59: 12714 | D59: 2020 | E59: Flaková Kristína | F59: 2366 | G59: S | H59: JK pri NŽ Topoľčianky | I59: =SUM(K59:XW59) -> 0 | J59: ='Mladý kôň roka'!$I59 -> 0
A60: 45 | B60: Przedswit XXXIII-16/Zdenka | C60: 13439 | D60: 2021 | E60: Eržinová Stella | F60: 8401 | G60: J | H60: TJ Žrebčín Motešice | I60: =SUM(K60:XW60) -> 0 | J60: ='Mladý kôň roka'!$I60+I61 -> 0
E61: Ďuríková Ema | F61: 6693 | G61: S | I61: =SUM(K61:XW61) -> 0
A62: 46 | B62: Zu Viel AMB | C62: 13336 | D62: 2020 | E62: Marthaler Veronika | F62: Z0048 | G62: S | H62: Sporstall Marthaler | I62: =SUM(K62:XW62) -> 0 | J62: =I62 -> 0
A63: 47 | B63: Samba Samba SA | C63: 13235 | D63: 2019 | E63: Krajčíková Katarína | F63: 9708 | G63: J | H63: Harmónia v sedle | I63: =SUM(K63:XW63) -> 0 | J63: ='Mladý kôň roka'!$I63+I64 -> 0
E64: Slobodníková Anežka | F64: 7279 | G64: S | I64: =SUM(K64:XW64) -> 0
A65: 48 | B65: Red Wilson | C65: 13180 | D65: 2021 | E65: Abrahámfyová Klára | F65: 4589 | G65: S | H65: TJ Žrebčín Motešice | I65: =SUM(K65:XW65) -> 0 | J65: ='Mladý kôň roka'!$I65 -> 0
A66: 49 | B66: Przedswit XXXIII-12/Xyntia | C66: 12750 | D66: 2020 | E66: Magál Ján | F66: 8604 | G66: D | H66: TJ Žrebčín Motešice | I66: =SUM(K66:XW66) -> 0 | J66: ='Mladý kôň roka'!$I66 -> 0
A67: 50 | B67: Jasper Diamond Jumper | C67: 12252 | D67: 2019 | E67: Eibner Patrik | F67: 2208 | G67: S | H67: JK Diamond Academy Rapovce | I67: =SUM(K67:XW67) -> 0 | J67: =I67 -> 0
B68: Raven AD | D68: 2021 | E68: Kochaníková Lucia | G68: S | I68: =SUM(K68:XW68) -> 0 | J68: ='Mladý kôň roka'!$I68 -> 0
B69: Oxbow | C69: 12493 | E69: Badányová Lenka | F69: 2856 | G69: S | H69: Beri Klub Nová Baňa | I69: =SUM(K69:XW69) -> 0 | J69: ='Mladý kôň roka'!$I69 -> 0
B70: Napóleon | C70: 13225 | D70: 2021 | E70: Sklenárová Simona | F70: 3021 | G70: S | H70: JK Horse Club Nitra | I70: =SUM(K70:XW70) -> 0 | J70: ='Mladý kôň roka'!$I70 -> 0
B71: Red Bacardy | C71: 13119 | D71: 2021 | E71: Balajová Bianka | F71: 9763 | G71: J | H71: Sportstall Marthaler | I71: =SUM(K71:XW71) -> 0 | J71: ='Mladý kôň roka'!$I71 -> 0
B72: Red Lancaster | C72: 12296 | D72: 2019 | E72: Ďurechová Laura | F72: 7998 | G72: S | H72: JK Masarykov Dvor | I72: =SUM(K72:XW72) -> 0 | J72: ='Mladý kôň roka'!$I72 -> 0
B73: DMJ Zealand | C73: 13079 | D73: 2020 | E73: Výbohová Martina | F73: 7749 | G73: S | H73: JK Enimo | I73: =SUM(K73:XW73) -> 0 | J73: =I73 -> 0
B74: Zuzka | C74: 13181 | D74: 2021 | E74: Hut Viktória | F74: Z0104 | G74: S | H74: TJ Žrebčín Motešice | I74: =SUM(K74:XW74) -> 0 | J74: ='Mladý kôň roka'!$I74+I75 -> 0
E75: Ďuríková Ema | F75: 6693 | G75: S | I75: =SUM(K75:XW75) -> 0
B76: Furioso XXXIV-28 Yveta | C76: 12143 | D76: 2019 | E76: Petranová Sofia Laura | F76: 6761 | G76: Y | H76: TJ Žrebčín Motešice | I76: =SUM(K76:XW76) -> 0 | J76: 0
B77: Quistico | C77: 13318 | D77: 2020 | E77: Kramárová Lucia | F77: 7127 | G77: S | H77: JK Limit Bratislava | I77: =SUM(K77:XW77) -> 0 | J77: ='Mladý kôň roka'!$I77 -> 0
B78: Never Forget | C78: 13120 | D78: 2020 | E78: Marthaler Veronika | F78: Z0048 | G78: S | H78: Sportstall Marthaler | I78: =SUM(K78:XW78) -> 0 | J78: ='Mladý kôň roka'!$I78 -> 0
B79: Diamant De Vita | C79: 12216 | D79: 2019 | E79: Ďordevič Renáta | F79: 3559 | G79: S | H79: Equinevita Stable & Academy | I79: =SUM(K79:XW79) -> 0 | J79: ='Mladý kôň roka'!$I79 -> 0
B80: Pretoria Elisson | C80: 12161 | D80: 2019 | E80: Balážová Michaela | F80: 5701 | G80: S | H80: JS Polet Trebostovo | I80: =SUM(K80:XW80) -> 0 | J80: ='Mladý kôň roka'!$I80 -> 0
B81: Red Bonaparte | C81: 13266 | D81: 2021 | E81: Sklenárová Liana | F81: 10270 | G81: D | H81: JK Limfora Badín | I81: =SUM(K81:XW81) -> 0 | J81: ='Mladý kôň roka'!$I81 -> 0
B82: Fairlypi-5 Xirius | C82: 12961 | D82: 2020 | E82: Richtárechová Salome | F82: 9452 | G82: D | H82: TJ Žrebčín Motešice | I82: =SUM(K82:XW82) -> 0 | J82: ='Mladý kôň roka'!$I82+I83 -> 0
E83: Slezáková Kamila | F83: 7342 | G83: S | I83: =SUM(K83:XW83) -> 0
B84: Alpinehorse Fiery Fox | C84: 13561 | D84: 2021 | E84: Smatanová Michaela | F84: 9955 | G84: J | H84: JS Polet Trebostovo | I84: =SUM(K84:XW84) -> 0 | J84: ='Mladý kôň roka'!$I84 -> 0
B85: Santiago | C85: 13314 | D85: 2020 | E85: Bosáková Melánia | F85: 8305 | G85: Y | H85: JK Poľný Kesov | I85: =SUM(K85:XW85) -> 0 | J85: ='Mladý kôň roka'!$I85 -> 0
A86: 66 | B86: Spolu
D92: 15
