Workbook
Name _29.1.2022: Seniori!$K$6

Sheet Seniori
A1: DREZÚRNY REBRÍČEK
A2: Jazdec roka 2026
A4: Seniori
A6: Poradie | B6: Jazdec | C6: Licencia SJF | D6: Kôň | E6: Licencia SJF | F6: Rok nar. | G6: Subjekt | I6: Body celkom | J6: Spolu 15 NAJ | K6: 06.-08.02. | S6: 27.2.-1.3. | AH6: 05.-07.03. | AJ6: 05.-07.03. | AM6: 21.-22.3. | AO6: 5.4. | AP6: 2.-4.4. | BD6: 11.4. | BI6: 18.-19.4. | CF6: 25.-26.4. | CR6: 1.5. | CY6: 3.5. | DA6: 8.-10.5. | DC6: 9.-10.5. | DK6: 9.-10.5. | EC6: 21.-24.5. | EE6: 23.-24.5. | EY6: 30.-31.5. | FK6: 5.-7.6. | FP6: 13.6. | FY6: 14.6. | GA6: 27.-28.6. | GD6: 26.-28.6. | GI6: 26.-27.6. | HI6: 4.7. | HS6: 11.-12.7. | IQ6: 15.-19.7. | IS6: 18.7. | IU6: 25.-26.7. | JC6: 31.7. | JL6: 5.-9.8. | JN6: 15.-16.8. | KE6: 22.-23.8. | KG6: 22.-23.8. | KY6: 28.8. | LI6: 28.-29.8. | LU6: 29.-30.8. | MH6: 5.- 6.9. | MX6: 11.-13.9. | NW6: 12.9.
K7: Motešice | S7: Motešice | AH7: Motešice | AJ7: Motešice CDI | AM7: Budapešť | AO7: Brno | AP7: Motešice | BD7: Kisbabolna | BI7: Dunajský Klátov | CF7: Těšánky | CR7: Rs Team | CY7: Brno | DA7: Las Cadenas | DC7: Olomouc | DK7: Szilvásvárad | EC7: CDI Olomouc | EE7: Vígľaš | EY7: Těšánky | FK7: CDI Brno | FP7: RS Team | FY7: Chotěbuz | GA7: Šamorín | GD7: Šamorín CDI | GI7: Motešice | HI7: RS Team | HS7: Dunaj. Klátov (MSR deti, juniori, ml. jazdci) | IQ7: ME Detí Olomouc | IS7: Frenštát p/R | IU7: Szilvasvárad | JC7: RS Team | JL7: MS mladých koní (Verden) | JN7: Motešice | KE7: Panská Lícha | KG7: Pony MSR (Topoľčianky) | KY7: Rs Team | LI7: Motešice | LU7: Vyškov | MH7: Masarykov Dvor | MX7: Topoľčianky MSR YH+Seniori | NW7: Frenštát p/R
K8: Z2 | L8: 4r | M8: DUA | N8: DD | O8: 4r | P8: 5rU | Q8: DUA | R8: DD | S8: Z2 | T8: P3 | U8: 4r | V8: 5rU | W8: DUA | X8: DUB | Y8: DD | Z8: DJ | AA8: P3 | AB8: 4r | AC8: 5rU | AD8: DUA | AE8: DUB | AF8: DD | AG8: DJ | AH8: 4r | AI8: DD | AJ8: DUB | AK8: DD | AL8: DJ | AM8: IMII | AN8: U25GP | AO8: 5rU | AP8: P1 | AQ8: P3 | AR8: 4r | AS8: 5rU | AT8: 6rU | AU8: DUA | AV8: DUB | AW8: DD | AX8: 4r | AY8: 5rU | AZ8: 6rU | BA8: DUA | BB8: DUB | BC8: DD | BD8: A4 | BE8: DUA | BF8: LM2 | BG8: DD | BH8: MB4 | BI8: P1 | BJ8: DUA | BK8: 4r | BL8: 5rU | BM8: 6rU | BN8: DD | BO8: LP4 | BP8: LS5 | BQ8: JD | BR8: SG | BS8: IMI | BT8: IMII | BU8: P1 | BV8: DUA | BW8: DD | BX8: JJ | BY8: LP5 | BZ8: LS | CA8: 4r | CB8: 5rF | CC8: YJ | CD8: IMI | CE8: U25 | CF8: 5rU | CG8: JU | CH8: JD | CI8: YU | CJ8: SG | CK8: IMA | CL8: 5rF | CM8: L0 | CN8: DD | CO8: SG | CP8: IM1 | CQ8: IMA | CR8: P3 | CS8: P1 | CT8: Z1 | CU8: Z3 | CV8: DUA | CW8: DD | CX8: LS5 | CY8: Z4 | CZ8: DUA | DA8: 7rU | DB8: 7rF | DC8: 5U | DD8: JU | DE8: JD | DF8: SG | DG8: IMA | DH8: 5F | DI8: JD | DJ8: IMI | DK8: 4U | DL8: MKZ3 | DM8: 5rU | DN8: DUA | DO8: Z3 | DP8: DD | DQ8: LS5 | DR8: SG | DS8: IMI | DT8: 4U | DU8: MKZ4 | DV8: 5rF | DW8: Z4 | DX8: DUA | DY8: DJ | DZ8: L10 | EA8: YJ | EB8: IMI | EC8: 5rU | ED8: 5rF | EE8: P2 | EF8: 4rU | EG8: 5rU | EH8: DUA | EI8: DD | EJ8: JU | EK8: JD | EL8: SG | EM8: LP4 | EN8: IMI | EO8: P3 | EP8: 4rU | EQ8: 5rU | ER8: DUA | ES8: DD | ET8: DJ | EU8: JU | EV8: YJ | EW8: LP4 | EX8: IMI | EY8: DUA | EZ8: L0 | FA8: JU | FB8: JD | FC8: SG | FD8: IMI | FE8: Z4 | FF8: Z5 | FG8: JU | FH8: JD | FI8: SG | FJ8: IMI | FK8: 5rU | FL8: SG | FM8: 5rF | FN8: IMI | FO8: IMIF | FP8: P3 | FQ8: P1 | FR8: MKZ1 | FS8: Z1 | FT8: Z3 | FU8: DUA | FV8: DD | FW8: LS5 | FX8: S5 | FY8: Z4 | FZ8: DUA | GA8: 4r | GB8: 4r | GC8: IMB | GD8: 5rU | GE8: 7rU | GF8: SG | GG8: 5rF | GH8: IMI | GI8: 4r | GJ8: 5rU | GK8: 6rU | GL8: P1 | GM8: P3 | GN8: Z2 | GO8: Z3 | GP8: Z4 | GQ8: DUA | GR8: DUB | GS8: DD | GT8: DJ | GU8: JU | GV8: JD | GW8: 4r | GX8: 5rF | GY8: 6rU | GZ8: P3 | HA8: Z2 | HB8: Z3 | HC8: DUA | HD8: DUB | HE8: DD | HF8: DJ | HG8: JU | HH8: JD | HI8: P4 | HJ8: P1 | HK8: MKZ1 | HL8: Z1 | HM8: Z3 | HN8: DUA | HO8: DD | HP8: L3 | HQ8: LS5 | HR8: S5 | HS8: P3 | HT8: 4r | HU8: 5rU | HV8: 6rU | HW8: DUA | HX8: DUB | HY8: DD | HZ8: JU | IA8: JD | IB8: SG | IC8: IMI | ID8: IMA | IE8: P1 | IF8: P3 | IG8: 4r | IH8: 5rF | II8: 6rF | IJ8: DUA | IK8: DUB | IL8: DJ | IM8: JD | IN8: YJ | IO8: IMI | IP8: IMB | IQ8: DUB | IR8: DD | IS8: DUA | IT8: Z4 | IU8: 5U | IV8: Z3 | IW8: DD | IX8: LS5 | IY8: 5F | IZ8: Z4 | JA8: L10 | JB8: LS6 | JC8: P1 | JD8: P4 | JE8: Z1 | JF8: Z3 | JG8: MKZ1 | JH8: DUA | JI8: L3 | JJ8: DD | JK8: LS6 | JL8: 5U | JM8: 5U | JN8: Z2 | JO8: Z3 | JP8: 4r | JQ8: 5rU | JR8: 6rU | JS8: DUA | JT8: DD | JU8: JU | JV8: Z2 | JW8: P3 | JX8: 4r | JY8: 5rF | JZ8: 6rU | KA8: DUA | KB8: DD | KC8: JD | KD8: Z5 | KE8: Z4 | KF8: Z5 | KG8: 4r | KH8: 5rU | KI8: 6rU | KJ8: P3 | KK8: DUA | KL8: DD | KM8: JU | KN8: YU | KO8: IMI | KP8: 4r | KQ8: 5rF | KR8: 6rF | KS8: P4 | KT8: DUA | KU8: DJ | KV8: JD | KW8: SG | KX8: IMI | KY8: P4 | KZ8: P1 | LA8: MKZ1 | LB8: Z1 | LC8: Z3 | LD8: DUA | LE8: L3 | LF8: DD | LG8: LS6 | LH8: S6 | LI8: Z2 | LJ8: Z3 | LK8: 5rU | LL8: 6rU | LM8: DUA | LN8: DD | LO8: JU | LP8: SG | LQ8: Z2 | LR8: 5rF | LS8: 6rF | LT8: DUA | LU8: Z4 | LV8: DUA | LW8: L0 | LX8: DD | LY8: DJ | LZ8: JU | MA8: S0 | MB8: 4r | MC8: DUA | MD8: Z1 | ME8: L0 | MF8: DD | MG8: JU | MH8: P2 | MI8: DUA | MJ8: 4r | MK8: 5rU | ML8: 6rU | MM8: DD | MN8: LP4 | MO8: JU | MP8: Z4 | MQ8: P4 | MR8: 4r | MS8: 5rU | MT8: 6rU | MU8: L11 | MV8: LP4 | MW8: JJ | MX8: 4r | MY8: 5rU | MZ8: 6rU | NA8: DUA | NB8: DD | NC8: JD | ND8: YU | NE8: IMI | NF8: 4r | NG8: 5rU | NH8: 5rF | NI8: 6rU | NJ8: DUA | NK8: DJ | NL8: JJ | NM8: SG | NN8: 4r | NO8: 5rU | NP8: 5rF | NQ8: 6rF | NR8: DUA | NS8: DD | NT8: JU | NU8: YU | NV8: IMIF | NW8: DUA/K | NX8: Z4/K
A9: 1 | B9: Gombarčíková Tatiana | C9: 5599 | D9: Grevens Everdream | E9: 11237 | F9: 2015 | G9: JK Kubiš Trnava | I9: =SUM(K9:ZR9) -> 333 | J9: {=SUM(LARGE(K9:NY10,_xlfn.SEQUENCE(D131)))} -> 351 | CK9: 21 | CQ9: 17 | DG9: 11 | DJ9: 17 | FC9: 18 | FJ9: 23 | FL9: 22.5 | FN9: 27 | FO9: 34.5 | GC9: 19 | GF9: 19.5 | GH9: 30 | ID9: 10 | IP9: 5 | NM9: 24 | NV9: 34.5
D10: Raheeli Marbella | E10: 13491 | F10: 2021 | I10: =SUM(K10:ZR10) -> 214.5 | AO10: 11 | CF10: 13 | CL10: 10 | DC10: 13 | DH10: 13 | EC10: 9 | ED10: 9 | FK10: 16.5 | FM10: 19.5 | GD10: 19.5 | GG10: 18 | JL10: 12 | JM10: 12 | NG10: 19.5 | NO10: 19.5
A11: 2 | B11: Flaková Kristína | C11: 2366 | D11: Bonnami | E11: 10267 | F11: 2014 | G11: JK pri NŽ Topoľčianky | I11: =SUM(K11:ZR11) -> 253 | J11: {=SUM(LARGE(K11:OD16,_xlfn.SEQUENCE(D131)))} -> 268 | BR11: 17 | BS11: 20 | CD11: 19 | DR11: 13 | DS11: 17 | EB11: 18 | EL11: 17 | EN11: 19 | EX11: 18 | IB11: 17 | IC11: 20 | IO11: 20 | KO11: 21 | KX11: 17
D12: Bonett | E12: 12714 | F12: 2020 | I12: =SUM(K12:ZR12) -> 0
D13: Favory XVIII-19 | E13: 11292 | F13: 2014 | I13: =SUM(K13:ZR13) -> 61 | KM13: 3 | KN13: 6 | KV13: 7 | KW13: 15 | NC13: 5 | ND13: 10 | NL13: 4 | NM13: 8 | NU13: 3
D14: Brisa | E14: 13633 | F14: 2022 | I14: =SUM(K14:ZR14) -> 66 | BJ14: 6 | BK14: 3 | BV14: 9 | CA14: 6 | DK14: 3 | DN14: 6 | DT14: 6 | DX14: 5 | EF14: 6 | EH14: 5 | EP14: 3 | ER14: 6 | HT14: 2
D15: Siglavy XVIII-2 | E15: 13636 | F15: 2022 | I15: =SUM(K15:ZR15) -> 26 | KK15: o | KP15: 3 | KT15: o | MX15: 4 | NA15: 2 | NF15: 10.5 | NJ15: 3 | NN15: 3.5
D16: Neapolitano XIV-16 | E16: 10657 | F16: 2011 | I16: =SUM(K16:ZR16) -> 0 | KG16: o
A17: 3 | B17: Záhorská Silvia | C17: 1742 | D17: Dancing Scarlett | E17: 11490 | F17: 2017 | G17: JK Scarlett Šamorín | I17: =SUM(K17:ZR17) -> 352.5 | J17: {=SUM(LARGE(K17:NB20,_xlfn.SEQUENCE(D131)))} -> 225 | BR17: 3 | BS17: 14 | CD17: 15 | CI17: 13 | CJ17: 12 | CO17: 16 | CP17: 14 | EN17: 12 | EV17: 14 | EX17: 16 | FC17: 12 | FD17: 13 | FI17: 7 | FJ17: 16 | IB17: 11 | IC17: 17 | IN17: 16 | IO17: 16 | KN17: 13 | KO17: 17 | KW17: 13 | KX17: 15 | NE17: 17 | NM17: 15 | NV17: 25.5
D18: Pastorale | E18: 12611 | F18: 2020 | I18: =SUM(K18:ZR18) -> 102 | BK18: 3 | BL18: 4 | CA18: 3 | CB18: 4 | EG18: 5 | EI18: 6 | EQ18: 6 | ES18: 4 | FW18: 2 | KH18: 1 | KL18: o | KQ18: 3 | KU18: 6 | LX18: 7 | LY18: 3 | ME18: 8 | MF18: 7 | MY18: 5 | NG18: 7 | NH18: 7.5 | NP18: 10.5
D19: Graduell | E19: 10972 | F19: 2014 | I19: =SUM(K19:ZR19) -> 0
D20: Madoc | E20: 10993 | I20: =SUM(K20:ZR20) -> 0
A21: 4 | B21: Horná Michaela | C21: 2965 | D21: Forever | E21: 9070 | F21: 2011 | G21: JK pri NŽ Topoľčianky | I21: =SUM(K21:ZR21) -> 223 | J21: {=SUM(LARGE(K21:NH22,_xlfn.SEQUENCE(D131)))} -> 218.5 | BR21: 16 | BS21: 17 | CC21: 16 | CD21: 16 | DR21: 9 | DS21: 14 | EA21: 9 | EB21: 13 | EL21: 15 | EN21: 17 | EV21: 16 | EX21: 13 | IB21: 13 | IC21: 14 | IN21: 13 | IO21: 12
D22: Bella Grande | E22: 13488 | F22: 2021 | I22: =SUM(K22:ZR22) -> 121.5 | BK22: 5 | CA22: 6 | DK22: 5 | DL22: 2 | DT22: 2 | DU22: 1 | EF22: 4 | EG22: 8 | EP22: 6 | EQ22: 8 | HT22: 2 | HU22: 5 | IG22: 4 | IH22: 6 | KG22: 2 | KH22: 2 | KP22: 2 | KQ22: 7 | MX22: 9 | MY22: 8 | NG22: 13.5 | NH22: 5 | NO22: 6 | NP22: 3
A23: 5 | B23: Kuhajda Milan | C23: 4920 | D23: Ariston ER | E23: 9051 | F23: 2010 | G23: JK Jurský Dvor Nitra | I23: =SUM(K23:ZR23) -> 110.5 | J23: {=SUM(LARGE(K23:NN27,_xlfn.SEQUENCE(D131)))} -> 178 | DF23: 12 | DJ23: 13 | EX23: 19 | KN23: 14 | NM23: 22.5 | NV23: 30
D24: Galleria´s Destano´s Dream Come True | E24: 12840 | F24: 2019 | I24: =SUM(K24:ZR24) -> 76 | HV24: 5 | II24: 7 | KI24: 13 | KR24: 12 | NI24: 21 | NQ24: 18
D25: Cala S Wellington | E25: 14027 | F25: 2022 | I25: =SUM(K25:ZR25) -> 20.5 | KG25: 2 | KP25: 5 | NF25: 6 | NN25: 7.5
D26: Dragonfly | E26: 10635 | F26: 2015 | I26: =SUM(K26:ZR26) -> 5 | MM26: 5 | MV26: o
D27: Destina | E27: 13278 | F27: 2020 | I27: =SUM(K27:ZR27) -> 39.5 | BL27: 6 | BV27: 8 | NH27: 12 | NP27: 13.5
A28: 6 | B28: Kintšer David | C28: 2372 | D28: Siglavy XV-2 | E28: 9449 | F28: 2011 | G28: JK pri NŽ Topoľčianky | I28: =SUM(K28:ZR28) -> 229.5 | J28: {=SUM(LARGE(K28:NH30,_xlfn.SEQUENCE(D131)))} -> 174 | BR28: 8 | BS28: 10 | CC28: 8 | CD28: 10 | EL28: 12 | EN28: 14 | EV28: 11 | EX28: 12 | IB28: 9 | IC28: 7 | IN28: 12 | IO28: 14 | KN28: 11 | KW28: 12 | KX28: 12 | ND28: 12 | NE28: 14 | NM28: 16.5 | NU28: 4 | NV28: 21
D29: Cezaria | E29: 13634 | F29: 2022 | I29: =SUM(K29:ZR29) -> 100 | BK29: 5 | BV29: 3 | CA29: 4 | EF29: 3 | EP29: 5 | ER29: 2 | HT29: 5 | HW29: 4 | IG29: 3 | IJ29: 7 | KG29: 7 | KK29: 2 | KP29: 1 | KT29: 7 | MX29: 7 | NA29: 6 | NF29: 9 | NJ29: 6 | NN29: 9 | NR29: 5
D30: Neapolitano XIX-10 | E30: 13160 | F30: 2020 | I30: =SUM(K30:ZR30) -> 35 | KL30: 5 | KU30: 4 | NB30: 6 | NH30: 7.5 | NK30: 8 | NP30: 4.5
A31: 7 | B31: Nittnaus Martina | C31: 135 | D31: Charissa | E31: 11826 | F31: 2018 | G31: JK pri NŽ Topoľčianky | I31: =SUM(K31:ZR31) -> 90 | J31: {=SUM(LARGE(K31:NN33,_xlfn.SEQUENCE(D131)))} -> 143 | BP31: 1 | BZ31: 8 | DQ31: 13 | DY31: 8 | EM31: 9 | EW31: 6 | HY31: 8 | HZ31: 2 | IL31: 6 | IM31: o | KM31: 9 | KV31: 4 | NC31: 3 | NL31: 5 | NT31: 8
D32: Chassia | I32: =SUM(K32:ZR32) -> 146.5 | BK32: 2 | BL32: 4 | CA32: 4 | DK32: 1 | DM32: 6 | DT32: 9 | DV32: 6 | EF32: 6 | EG32: 9 | EP32: 7 | EQ32: 12 | HT32: 2 | HU32: 4 | IG32: 7 | IH32: 10 | KH32: 8 | KQ32: 8 | MY32: 10 | NH32: 15 | NP32: 16.5
D33: Favory XII-13 | E33: 9454 | F33: 2009 | I33: =SUM(K33:ZR33) -> 14 | KM33: 1 | KV33: 3 | NC33: 7 | NL33: 3
A34: 8 | B34: Bučkuliaková Linda | C34: 2093 | D34: Hariffa MD | E34: 11791 | F34: 2018 | G34: JO Martin Záturčie | I34: =SUM(K34:ZR34) -> 54 | J34: =Seniori!$I34+I35 -> 140 | BO34: 12 | BQ34: 10 | FA34: 10 | FB34: 10 | FH34: 12
D35: Golden Flower | E35: 12156 | F35: 2019 | I35: =SUM(K35:ZR35) -> 86 | BO35: 2 | FA35: 12 | FG35: 13 | KI35: 12 | KM35: 6 | KR35: 14 | NI35: 18 | NQ35: 9
A36: 9 | B36: Šteflovičová Sylvia | C36: 2362 | D36: Santos | E36: 13626 | G36: JK Josy Team Trnava | I36: =SUM(K36:ZR36) -> 92 | J36: =Seniori!$I36 -> 92 | GI36: 10 | GW36: 5 | HT36: 4 | IG36: 5 | JP36: 8 | KG36: 6 | KP36: 8 | MJ36: 5 | MR36: 6 | MX36: 11 | NF36: 12 | NN36: 12
A37: 10 | B37: Výbohová Martina | C37: 7749 | D37: Touch of Class | E37: 11486 | G37: JK Enimo Slatinské Lazy | I37: =SUM(K37:ZR37) -> 0 | J37: {=SUM(LARGE(K37:ON40,_xlfn.SEQUENCE(D131)))} -> 88.5
D38: Ibalius | E38: 13316 | I38: =SUM(K38:ZR38) -> 27 | AW38: 1 | EI38: 4 | ES38: 6 | ET38: 2 | GR38: 1 | GS38: 5 | IW38: 1 | IX38: 3 | JA38: o | MN38: 4
D39: DMJ Zealand | E39: 13079 | I39: =SUM(K39:ZR39) -> 0
D40: Quinnus II-23 | E40: 12871 | F40: 2020 | I40: =SUM(K40:ZR40) -> 78.5 | AS40: 4 | AT40: 5 | AY40: 11 | AZ40: 4 | EG40: 6 | EQ40: 3 | GI40: 7 | GJ40: 9 | IU40: 1 | IW40: 3 | IY40: 2 | MS40: 5 | NG40: 5 | NH40: 9 | NP40: 4.5
A41: 11 | B41: Danielová Michaela | C41: 4838 | D41: Odyssea A.D. | E41: 12985 | F41: 2019 | G41: Equitana Sport Horses Bratislava | I41: =SUM(K41:ZR41) -> 81 | J41: =Seniori!$I41 -> 81 | CW41: 6 | CX41: 10 | FV41: 8 | FW41: 9 | HO41: 8 | HQ41: 9 | JJ41: 8 | JK41: 9 | LF41: 6 | LG41: 8
A42: 12 | B42: Sklenárová Simona | C42: 3021 | D42: Destiny It´s Me | E42: 12223 | F42: 2019 | G42: JK Horse Club Nitra | I42: =SUM(K42:ZR42) -> 72 | J42: =Seniori!$I42+I44+I43 -> 78 | GK42: 7 | GY42: 7 | HV42: 4 | KI42: 8 | KR42: 10 | LL42: 5 | LS42: 5 | MZ42: 5 | NI42: 15 | NQ42: 6
...

Sheet Mladí jazdci
A1: DREZÚRNY REBRÍČEK
A2: Jazdec roka 2026
A4: Mladí jazdci
A6: Poradie | B6: Jazdec | C6: Licencia SJF | D6: Kôň | E6: Licencia SJF | F6: Rok nar. | G6: Subjekt | I6: Body celkom | J6: Spolu 15 NAJ | K6: =Seniori!K6 -> 06.-08.02. | S6: =Seniori!S6 -> 27.2.-1.3. | AH6: =Seniori!AH6 -> 05.-07.03. | AJ6: =Seniori!AJ6 -> 05.-07.03. | AM6: =Seniori!AM6 -> 21.-22.3. | AO6: =Seniori!AO6 -> 5.4. | AQ6: =Seniori!AP6 -> 2.-4.4. | BD6: 11.4. | BI6: =Seniori!BI6 -> 18.-19.4. | CF6: =Seniori!CF6 -> 25.-26.4. | CR6: =Seniori!CR6 -> 1.5. | CY6: =Seniori!CY6 -> 3.5. | DA6: =Seniori!DA6 -> 8.-10.5. | DC6: =Seniori!DC6 -> 9.-10.5. | DK6: 9.-10.5. | EC6: 21.-24.5. | EE6: 23.-24.5. | EY6: 30.-31.5. | FK6: 5.-7.6. | FP6: =Seniori!FP6 -> 13.6. | FY6: =Seniori!FY6 -> 14.6. | GA6: =Seniori!GA6 -> 27.-28.6. | GD6: =Seniori!GD6 -> 26.-28.6. | GI6: =Seniori!GI6 -> 26.-27.6. | HI6: =Seniori!HI6 -> 4.7. | HS6: 11.-12.7. | IQ6: =Seniori!IQ6 -> 15.-19.7. | IS6: =Seniori!IS6 -> 18.7. | IU6: =Seniori!IU6 -> 25.-26.7. | JC6: =Seniori!JC6 -> 31.7. | JL6: 5.-9.8. | JN6: 15.-16.8. | KD6: 22.-23.8. | KG6: 22.-23.8. | KY6: 28.8. | LI6: 28.-29.8. | LU6: 29.-30.8. | MH6: 5.- 6.9. | MX6: 11.-13.9. | NW6: 12.9.
K7: =Seniori!K7 -> Motešice | S7: =Seniori!S7 -> Motešice | AH7: =Seniori!AH7 -> Motešice | AJ7: =Seniori!AJ7 -> Motešice CDI | AM7: =Seniori!AM7 -> Budapešť | AO7: =Seniori!AO7 -> Brno | AQ7: Motešice | BD7: Kisbabolna | BI7: =Seniori!BI7 -> Dunajský Klátov | CF7: =Seniori!CF7 -> Těšánky | CR7: =Seniori!CR7 -> Rs Team | CY7: =Seniori!CY7 -> Brno | DA7: =Seniori!DA7 -> Las Cadenas | DC7: =Seniori!DC7 -> Olomouc | DK7: Szilvásvárad | EC7: CDI Olomouc | EE7: Vígľaš | EY7: Těšánky | FK7: CDI Brno | FP7: =Seniori!FP7 -> RS Team | FY7: =Seniori!FY7 -> Chotěbuz | GA7: =Seniori!GA7 -> Šamorín | GD7: =Seniori!GD7 -> Šamorín CDI | GI7: =Seniori!GI7 -> Motešice | HI7: =Seniori!HI7 -> RS Team | HS7: =Seniori!HS7 -> Dunaj. Klátov (MSR deti, juniori, ml. jazdci) | IQ7: =Seniori!IQ7 -> ME Detí Olomouc | IS7: =Seniori!IS7 -> Frenštát p/R | IU7: =Seniori!IU7 -> Szilvasvárad | JC7: =Seniori!JC7 -> RS Team | JL7: MS mladých koní (Verden) | JN7: Motešice | KD7: Panská Lícha | KG7: Pony MSR (Topoľčianky) | KY7: Rs Team | LI7: Motešice | LU7: Vyškov | MH7: Masarykov Dvor | MX7: Tpoľčianky MSR YH+Seniori | NW7: Frenštát p/R
K8: =Seniori!K8 -> Z2 | L8: =Seniori!L8 -> 4r | M8: =Seniori!M8 -> DUA | N8: =Seniori!N8 -> DD | O8: =Seniori!O8 -> 4r | P8: =Seniori!P8 -> 5rU | Q8: =Seniori!Q8 -> DUA | R8: =Seniori!R8 -> DD | ... AY8: =Seniori!AY8 -> 5rU | AZ8: 6rU | BA8: =Seniori!BA8 -> DUA | BB8: =Seniori!BB8 -> DUB | BC8: =Seniori!BC8 -> DD | BD8: A4 | BE8: DUA | BF8: LM2 | BG8: DD | BH8: MB4 | BI8: =Seniori!BI8 -> P1 | BJ8: =Seniori!BJ8 -> DUA | BK8: =Seniori!BK8 -> 4r | BL8: =Seniori!BL8 -> 5rU | BM8: =Seniori!BM8 -> 6rU | BN8: =Seniori!BN8 -> DD | BO8: =Seniori!BO8 -> LP4 | BP8: =Seniori!BP8 -> LS5 | ... BT8: =Seniori!BT8 -> IMII | BU8: P1 | BV8: DUA | BW8: DD | BX8: JJ | BY8: LP5 | BZ8: LS | CA8: 4r | CB8: 5rF | CC8: YJ | CD8: IMI | CE8: U25 | CF8: =Seniori!CF8 -> 5rU | CG8: =Seniori!CG8 -> JU | CH8: =Seniori!CH8 -> JD | CI8: =Seniori!CI8 -> YU | CJ8: =Seniori!CJ8 -> SG | CK8: =Seniori!CK8 -> IMA | CL8: =Seniori!CL8 -> 5rF | CM8: =Seniori!CM8 -> L0 | ... DJ8: =Seniori!DJ8 -> IMI | DK8: 4U | DL8: MKZ3 | DM8: 5rU | DN8: DUA | DO8: Z3 | DP8: DD | DQ8: LS5 | DR8: SG | DS8: IMI | DT8: 4U | DU8: MKZ4 | DV8: 5rF | DW8: Z4 | DX8: DUA | DY8: DJ | DZ8: L10 | EA8: YJ | EB8: IMI | EC8: 5rU | ED8: 5rF | EE8: P2 | EF8: 4rU | EG8: 5rU | EH8: DUA | EI8: DD | EJ8: JU | EK8: JD | EL8: SG | EM8: LP4 | EN8: IMI | EO8: P3 | EP8: 4rU | EQ8: 5rU | ER8: DUA | ES8: DD | ET8: DJ | EU8: JU | EV8: YJ | EW8: LP4 | EX8: IMI | EY8: DUA | EZ8: L0 | FA8: JU | FB8: JD | FC8: SG | FD8: IMI | FE8: Z4 | FF8: Z5 | FG8: JU | FH8: JD | FI8: SG | FJ8: IMI | FK8: 5rU | FL8: SG | FM8: 5rF | FN8: IMI | FO8: IMIF | FP8: =Seniori!FP8 -> P3 | FQ8: =Seniori!FQ8 -> P1 | FR8: =Seniori!FR8 -> MKZ1 | FS8: =Seniori!FS8 -> Z1 | FT8: =Seniori!FT8 -> Z3 | FU8: =Seniori!FU8 -> DUA | FV8: =Seniori!FV8 -> DD | FW8: =Seniori!FW8 -> LS5 | ... LG8: =Seniori!LG8 -> LS6 | LH8: S6 | LI8: =Seniori!LI8 -> Z2 | LJ8: =Seniori!LJ8 -> Z3 | LK8: =Seniori!LK8 -> 5rU | LL8: =Seniori!LL8 -> 6rU | LM8: =Seniori!LM8 -> DUA | LN8: =Seniori!LN8 -> DD | LO8: =Seniori!LO8 -> JU | LP8: =Seniori!LP8 -> SG | ... NZ8: =Seniori!NZ8 -> 0
A9: 1 | B9: Porkertová Linda | C9: 9241 | D9: Dancing Boy | E9: 12984 | F9: 2019 | G9: JK Josy Team Píla | I9: =SUM(K9:XX9) -> 185.5 | J9: {=SUM(LARGE(K9:MX9,_xlfn.SEQUENCE(D61)))} -> 119 | EJ9: 11 | EK9: 5 | EU9: 11 | GU9: 5 | GV9: 5 | HG9: 5 | HH9: 5 | HZ9: 3 | IA9: 11 | IM9: 4 | JR9: 6 | JU9: 6 | JZ9: 7 | KC9: 6 | KI9: 8 | KM9: 8 | KV9: 12 | ML9: 8 | MO9: 6 | MT9: 9 | MZ9: 7 | NI9: 22.5 | NQ9: 15
A10: 2 | B10: Petranová Sofia Laura | C10: 6761 | D10: Furioso XXXIV-28 Yveta | E10: 12143 | F10: 2019 | G10: TJ Žrebčín Motešice | I10: =SUM(K10:XX10) -> 8 | J10: {=SUM(LARGE(K10:MX15,_xlfn.SEQUENCE(D61)))} -> 95 | W10: 3 | AD10: 5
D11: Nonius XXXVI-12 SK Xeila | E11: 12751 | F11: 2020 | I11: =SUM(K11:XX11) -> 31 | L11: 3 | N11: o | P11: 1 | R11: 1 | U11: 3 | AB11: 3 | HT11: 4 | HU11: 7 | IG11: 4 | IH11: 4 | JP11: 1
D12: Flor D´Accord | E12: 11998 | I12: =SUM(K12:XX12) -> 0
D13: Przedswit XXXIII-19 Žonor | E13: 13607 | F13: 2022 | I13: =SUM(K13:XX13) -> 55.5 | L13: 6 | O13: 7 | GI13: 4 | GW13: 4 | HT13: 7 | IG13: 8 | JG13: 3 | JP13: 4 | JX13: 5 | NF13: 3 | NN13: 4.5
D14: Przedswit XXXIII-12/Xyntia | E14: 12750 | F14: 2020 | I14: =SUM(K14:XX14) -> 0 | W14: o | AD14: o
D15: Catalin XVI-1 Zonor | E15: 13100 | F15: 2021 | I15: =SUM(K15:XX15) -> 65 | GI15: 6 | GJ15: 8 | GW15: 4 | GX15: 4 | HT15: 5 | HU15: 8 | IG15: 5 | IH15: 7 | JG15: 4 | JP15: 5 | JQ15: 6 | JX15: 3
A16: 3 | B16: Eržinová Stella | C16: 8401 | D16: Catalin XVI-1 Zonor | E16: 13100 | F16: 2021 | G16: TJ Žrebčín Motešice | I16: =SUM(K16:XX16) -> 71 | J16: {=SUM(LARGE(K16:MX21,_xlfn.SEQUENCE(D61)))} -> 79 | L16: 5 | P16: 4 | V16: 5 | AC16: 4 | AS16: 2 | AY16: 13 | LK16: 5 | LR16: 3 | MK16: 8 | MS16: 10 | NG16: 6 | NO16: 6
D17: Furioso XXX-39 Žofre | E17: 13608 | F17: 2022 | I17: =SUM(K17:XX17) -> 19 | L17: 2 | O17: 5 | U17: 4 | AB17: 5 | AR17: o | AX17: 3
D18: Przedswit XXXIII-16/Zdenka | E18: 13439 | F18: 2021 | I18: =SUM(K18:XX18) -> 5 | W18: 2 | AD18: 3
D19: Przedswit XXXIII-3 Wisdom | E19: 13610 | F19: 2018 | I19: =SUM(K19:XX19) -> 0 | M19: o | Q19: o
D20: Düval Raeval | E20: 14028 | F20: 2015 | I20: =SUM(K20:XX20) -> 0 | LN20: o
D21: Furioso XLII-21 Sauvignon | E21: 11682 | F21: 2018 | I21: =SUM(K21:XX21) -> 0
A22: 4 | B22: Áčová Laura | C22: 8540 | D22: Tristan GM | E22: 12846 | F22: 2020 | G22: JK Limfora Badín | I22: =SUM(K22:XX22) -> 82.5 | J22: {=SUM(LARGE(K22:MX22,_xlfn.SEQUENCE(D61)))} -> 63 | BE22: 6 | BG22: 6 | BJ22: 1 | BV22: 3 | CB22: 4 | DO22: 6 | DP22: 1 | DV22: 2 | DW22: 7 | EH22: o | EI22: o | ER22: o | ES22: o | HW22: 3 | HY22: 2 | IJ22: 1 | IK22: 1 | IV22: 6 | IW22: 4 | IZ22: 5 | JA22: 4 | KK22: o | KL22: 2 | KT22: o | KU22: 1 | MI22: o | MM22: o | MS22: 3 | MU22: 1 | NH22: 7.5 | NK22: 1 | NP22: 3 | NS22: 2
A23: 5 | B23: Kubanová Hanka | C23: 9946 | D23: Cuba Libre Z | E23: 10339 | G23: Ranč Ouzkých Bratislava | I23: =SUM(K23:XX23) -> 10 | J23: ='Mladí jazdci'!$I23+I24 -> 10 | FV23: o | FW23: o | GO23: 1 | GS23: o | HB23: 3 | HE23: o | JF23: o | JI23: 4 | LC23: 2 | LE23: o
D24: Zara Dew | E24: 12984 | G24: JK Josy Team Píla | I24: =SUM(K24:XX24) -> 0 | CX24: o
A25: 6 | B25: Hubodová Amália | C25: 8891 | D25: Sissi | E25: 10998 | F25: 2013 | G25: Equinibrium AMH | I25: =SUM(K25:XX25) -> 0 | J25: ='Mladí jazdci'!$I25+I26+I28+I27 -> 7.5
D26: Romanova | E26: 13031 | F26: 2009 | I26: =SUM(K26:XX26) -> 0
D27: Zampano | E27: 13924 | F27: 2022 | I27: =SUM(K27:XX27) -> 7.5 | EF27: o | EH27: o | EP27: o | ER27: o | MI27: o | MJ27: 3 | MR27: 3 | NF27: 1.5 | NJ27: o
D28: Figa Noire AMH | E28: 12445 | F28: 2015 | I28: =SUM(K28:XX28) -> 0
A29: 7 | B29: Blštáková Katarína | C29: 8828 | D29: Przedswit XXXIV-21 Zombík | E29: 13104 | F29: 2021 | G29: TJ Žrebčín Motešice | I29: =SUM(K29:XX29) -> 0 | J29: ='Mladí jazdci'!$I29+I31+I30+I32 -> 7.5 | JY29: o
D30: Gidran XX-22 Žabka | E30: 13611 | F30: 2022 | I30: =SUM(K30:XX30) -> 3 | JP30: 2 | JX30: 1
D31: Przedswit XXXVII-2 Zumba | E31: 13103 | F31: 2021 | I31: =SUM(K31:XX31) -> 0
D32: Gidran XX-21 Želka | E32: 13605 | F32: 2022 | I32: =SUM(K32:XX32) -> 4.5 | NF32: 4.5
A33: 8 | B33: Škandíková Karolína | C33: 9286 | D33: Franzine | E33: 11613 | G33: JK RS Team Bratislava | I33: =SUM(K33:XX33) -> 3 | J33: ='Mladí jazdci'!$I33 -> 3 | FT33: 1 | FU33: o | JQ33: 2
A34: 9 | B34: Belisová Nikola | C34: 9593 | D34: Hirou | E34: 10669 | G34: JO pri SOUP Šaľa | I34: =SUM(K34:XX34) -> 0 | J34: ='Mladí jazdci'!$I34+I35 -> 2
D35: Comeon-m | E35: 13700 | F35: 2021 | I35: =SUM(K35:XX35) -> 2 | HU35: 2
A36: 10 | B36: Jenčáková Alexandra | C36: 8842 | D36: NEAPOLITANO XIV-38 SK (SLR GALAN NEAPOLITANO) | E36: 12709 | F36: 2019 | G36: TM Riders Trnava | I36: =SUM(K36:XX36) -> 1 | J36: ='Mladí jazdci'!$I36 -> 1 | GN36: o | HA36: o | HB36: 1
A37: 11 | B37: Hegerová Adriana | C37: 10184 | D37: Colin | E37: 13038 | G37: JK Femini Team Trnava | I37: =SUM(K37:XX37) -> 0 | J37: ='Mladí jazdci'!$I37+I39+I38 -> 1 | CV37: o
D38: Lady Lisa | E38: 12881 | I38: =SUM(K38:XX38) -> 0 | FT38: o | FU38: o
D39: Darsi | E39: 13258 | I39: =SUM(K39:XX39) -> 1 | CU39: o | JH39: o | LB39: 1
A40: 12 | B40: Magdalíková Nikoleta | C40: 9643 | D40: Kathmandu | E40: 12995 | F40: 2015 | G40: JO pri SOUP Šaľa | I40: =SUM(K40:XX40) -> 0 | J40: ='Mladí jazdci'!$I40 -> 0
A41: 13 | B41: Valíčková Anna | C41: 9077 | D41: Przedswit XXXVII Šafrán | E41: 9794 | G41: TJ Žrebčín Motešice | I41: =SUM(K41:XX41) -> 0 | J41: ='Mladí jazdci'!$I41 -> 0
A42: 14 | B42: Kucsora Barbora | C42: 8840 | D42: Mopassanas | E42: 9951 | F42: 2005 | G42: JK Czajlík Ranch | I42: =SUM(K42:XX42) -> 0 | J42: ='Mladí jazdci'!$I42 -> 0
...

Sheet Juniori
A1: DREZÚRNY REBRÍČEK
A2: Jazdec roka 2026
A4: Juniori
A6: Poradie | B6: Jazdec | C6: Licencia SJF | D6: Kôň | E6: Licencia SJF | F6: Rok nar. | G6: Subjekt | I6: Body celkom | J6: Spolu 15 NAJ | K6: =Seniori!K6 -> 06.-08.02. | S6: =Seniori!S6 -> 27.2.-1.3. | AH6: =Seniori!AH6 -> 05.-07.03. | AJ6: =Seniori!AJ6 -> 05.-07.03. | AM6: =Seniori!AM6 -> 21.-22.3. | AO6: =Seniori!AO6 -> 5.4. | AP6: =Seniori!AP6 -> 2.-4.4. | BD6: 11.4. | BI6: =Seniori!BI6 -> 18.-19.4. | CF6: =Seniori!CF6 -> 25.-26.4. | CR6: =Seniori!CR6 -> 1.5. | CY6: =Seniori!CY6 -> 3.5. | DA6: =Seniori!DA6 -> 8.-10.5. | DC6: =Seniori!DC6 -> 9.-10.5. | DK6: 9.-10.5. | EC6: 21.-24.5. | EE6: 23.-24.5. | EY6: 30.-31.5. | FK6: 5.-7.6. | FP6: =Seniori!FP6 -> 13.6. | FY6: =Seniori!FY6 -> 14.6. | GA6: =Seniori!GA6 -> 27.-28.6. | GD6: =Seniori!GD6 -> 26.-28.6. | GI6: =Seniori!GI6 -> 26.-27.6. | HI6: =Seniori!HI6 -> 4.7. | HS6: 11.-12.7. | IQ6: =Seniori!IQ6 -> 15.-19.7. | IS6: =Seniori!IS6 -> 18.7. | IU6: =Seniori!IU6 -> 25.-26.7. | JC6: =Seniori!JC6 -> 31.7. | JL6: =Seniori!JL6 -> 5.-9.8. | JN6: 15.-16.8. | KD6: 22.-23.8. | KG6: 22.-23.8. | KY6: 28.8. | LI6: 28.-29.8. | LU6: 29.-30.8. | MH6: 5.- 6.9. | MX6: 11.-13.9. | NW6: 12.9.
K7: =Seniori!K7 -> Motešice | S7: Motešice | AH7: =Seniori!AH7 -> Motešice | AJ7: =Seniori!AJ7 -> Motešice CDI | AM7: =Seniori!AM7 -> Budapešť | AO7: =Seniori!AO7 -> Brno | AP7: =Seniori!AP7 -> Motešice | BD7: Kisbabolna | BI7: =Seniori!BI7 -> Dunajský Klátov | CF7: =Seniori!CF7 -> Těšánky | CR7: =Seniori!CR7 -> Rs Team | CY7: =Seniori!CY7 -> Brno | DA7: =Seniori!DA7 -> Las Cadenas | DC7: =Seniori!DC7 -> Olomouc | DK7: Szilvásvárad | EC7: CDI Olomouc | EE7: Vígľaš | EY7: Těšánky | FK7: CDI Brno | FP7: =Seniori!FP7 -> RS Team | FY7: =Seniori!FY7 -> Chotěbuz | GA7: =Seniori!GA7 -> Šamorín | GD7: =Seniori!GD7 -> Šamorín CDI | GI7: =Seniori!GI7 -> Motešice | HI7: =Seniori!HI7 -> RS Team | HS7: Dunaj. Klátov (MSR deti, juniori, ml. jazdci) | IQ7: =Seniori!IQ7 -> ME Detí Olomouc | IS7: =Seniori!IS7 -> Frenštát p/R | IU7: =Seniori!IU7 -> Szilvasvárad | JC7: =Seniori!JC7 -> RS Team | JL7: =Seniori!JL7 -> MS mladých koní (Verden) | JN7: Motešice | KD7: Panská Lícha | KG7: Pony MSR (Topoľčianky) | KY7: Rs Team | LI7: Motešice | LU7: Vyškov | MH7: Masarykov Dvor | MX7: Topoľčianky MSR YH+Seniori | NW7: Frenštát p/R
K8: Z2 | L8: =Seniori!L8 -> 4r | M8: =Seniori!M8 -> DUA | N8: =Seniori!N8 -> DD | O8: =Seniori!O8 -> 4r | P8: =Seniori!P8 -> 5rU | Q8: =Seniori!Q8 -> DUA | R8: =Seniori!R8 -> DD | S8: =Seniori!S8 -> Z2 | ... Z8: =Seniori!Z8 -> DJ | AA8: P3 | AB8: 4r | AC8: 5rU | AD8: DUA | AE8: DUB | AF8: DD | AG8: DJ | AH8: 4r | AI8: DD | AJ8: DUB | AK8: DD | AL8: DJ | AM8: =Seniori!AM8 -> IMII | AN8: =Seniori!AN8 -> U25GP | AO8: 5rU | AP8: P1 | AQ8: P3 | AR8: 4r | AS8: 5rU | AT8: 6rU | AU8: DUA | AV8: DUB | AW8: DD | AX8: 4r | AY8: 5rU | AZ8: 6rU | BA8: DUA | BB8: DUB | BC8: DD | BD8: A4 | BE8: DUA | BF8: LM2 | BG8: DD | BH8: MB4 | BI8: =Seniori!BI8 -> P1 | BJ8: =Seniori!BJ8 -> DUA | BK8: =Seniori!BK8 -> 4r | BL8: =Seniori!BL8 -> 5rU | BM8: =Seniori!BM8 -> 6rU | BN8: =Seniori!BN8 -> DD | BO8: =Seniori!BO8 -> LP4 | BP8: =Seniori!BP8 -> LS5 | ... BT8: =Seniori!BT8 -> IMII | BU8: P1 | BV8: DUA | BW8: DD | BX8: JJ | BY8: LP5 | BZ8: LS | CA8: 4r | CB8: 5rF | CC8: YJ | CD8: IMI | CE8: U25 | CF8: =Seniori!CF8 -> 5rU | CG8: =Seniori!CG8 -> JU | CH8: =Seniori!CH8 -> JD | CI8: =Seniori!CI8 -> YU | CJ8: =Seniori!CJ8 -> SG | CK8: =Seniori!CK8 -> IMA | CL8: =Seniori!CL8 -> 5rF | CM8: =Seniori!CM8 -> L0 | ... DJ8: =Seniori!DJ8 -> IMI | DK8: 4U | DL8: MKZ3 | DM8: 5rU | DN8: DUA | DO8: Z3 | DP8: DD | DQ8: LS5 | DR8: SG | DS8: IMI | DT8: 4U | DU8: MKZ4 | DV8: 5rF | DW8: Z4 | DX8: DUA | DY8: DJ | DZ8: L10 | EA8: YJ | EB8: IMI | EC8: 5rU | ED8: 5rF | EE8: P2 | EF8: 4rU | EG8: 5rU | EH8: DUA | EI8: DD | EJ8: JU | EK8: JD | EL8: SG | EM8: LP4 | EN8: IMI | EO8: P3 | EP8: 4rU | EQ8: 5rU | ER8: DUA | ES8: DD | ET8: DJ | EU8: JU | EV8: YJ | EW8: LP4 | EX8: IMI | EY8: DUA | EZ8: L0 | FA8: JU | FB8: JD | FC8: SG | FD8: IMI | FE8: Z4 | FF8: Z5 | FG8: JU | FH8: JD | FI8: SG | FJ8: IMI | FK8: 5rU | FL8: SG | FM8: 5rF | FN8: IMI | FO8: IMIF | FP8: =Seniori!FP8 -> P3 | FQ8: =Seniori!FQ8 -> P1 | FR8: =Seniori!FR8 -> MKZ1 | FS8: =Seniori!FS8 -> Z1 | FT8: =Seniori!FT8 -> Z3 | FU8: =Seniori!FU8 -> DUA | FV8: =Seniori!FV8 -> DD | FW8: =Seniori!FW8 -> LS5 | ... LG8: =Seniori!LG8 -> LS6 | LH8: S6 | LI8: =Seniori!LI8 -> Z2 | LJ8: =Seniori!LJ8 -> Z3 | LK8: =Seniori!LK8 -> 5rU | LL8: =Seniori!LL8 -> 6rU | LM8: =Seniori!LM8 -> DUA | LN8: =Seniori!LN8 -> DD | LO8: =Seniori!LO8 -> JU | LP8: =Seniori!LP8 -> SG | ... NY8: =Seniori!NY8 -> 0
A9: 1 | B9: Hunová Diana | C9: 7853 | D9: Rocky Rebel | E9: 11990 | F9: 2016 | G9: JK Scarlett Šamorín | I9: =SUM(K9:XX9) -> 131.5 | J9: {=SUM(LARGE(K9:NY12,_xlfn.SEQUENCE(D99)))} -> 166 | BO9: 6 | BQ9: 7 | BX9: 8 | BY9: 10 | CG9: o | CH9: 2 | CM9: 10 | CN9: 9 | EJ9: 8 | EK9: 2 | EU9: 6 | EW9: 7 | FV9: 4 | FX9: 2 | HZ9: 15 | IA9: 5 | IM9: 10.5 | LZ9: 6 | MA9: 5 | ME9: 2 | MG9: 7
D10: Prada Van Weizicht | E10: 12609 | F10: 2020 | I10: =SUM(K10:XX10) -> 122.5 | BK10: 2 | BL10: 3 | CA10: 4 | CB10: 6 | EY10: 6 | EZ10: 2 | FE10: 9 | FF10: 9 | KH10: 5 | KL10: 4 | KP10: 4 | KQ10: 12 | MY10: 11 | NG10: 5 | NH10: 16.5 | NO10: 12 | NP10: 12
D11: Topas Imperial | E11: 14005 | F11: 2021 | I11: =SUM(K11:XX11) -> 99.5 | JF11: 4 | JG11: 6 | KG11: 7 | KH11: 7 | KP11: 5 | KT11: 6 | LU11: 4 | LW11: 3 | MB11: 8 | ME11: 5 | MX11: 10 | MY11: 7 | NF11: 8 | NG11: 7.5 | NO11: 12
D12: Kiero DMA | E12: 13796 | F12: 2021 | I12: =SUM(K12:XX12) -> 36.5 | KG12: 5 | KH12: 2 | KP12: 3 | KT12: 4 | MX12: 7 | MY12: 5 | NG12: 3 | NO12: 7.5
A13: 2 | B13: Jašeková Diana | C13: 9423 | D13: Libel Van De Leenakker | E13: 11921 | F13: 2011 | G13: JK Limfora Badín | I13: =SUM(K13:XX13) -> 94 | J13: {=SUM(LARGE(K13:NY14,_xlfn.SEQUENCE(D99)))} -> 115 | BF13: 3 | BG13: o | BN13: 2 | BP13: 5 | BW13: o | BZ13: 7 | DP13: 6 | DQ13: 8 | DY13: 6 | DZ13: o | HY13: 6 | IL13: o | IW13: 8 | IX13: 10 | JA13: 6 | JB13: 9 | MM13: 1 | MU13: 4 | NK13: 6 | NS13: 7
D14: King Galaxie L | E14: 13587 | F14: 2015 | I14: =SUM(K14:XX14) -> 38 | BG14: 9 | BH14: 2 | BN14: o | BO14: 9 | BW14: 6 | BY14: 12
A15: 3 | B15: Pestunová Alica | C15: 10993 | D15: Némes Furioso L-34 | E15: 10993 | F15: 2016 | G15: Harmónia v sedle | I15: =SUM(K15:XX15) -> 91.5 | J15: =Juniori!$I15 -> 91.5 | BP15: 4 | BQ15: 6 | BX15: 9 | BZ15: 10 | FV15: 5 | FW15: 7 | HZ15: 18 | IA15: 9 | IM15: 13.5 | KM15: 5 | KV15: 5
A16: 4 | B16: Beláková Karolína | C16: 8575 | D16: Limit | E16: 11628 | F16: 2010 | G16: JK Jurský Dvor Nitra | I16: =SUM(K16:XX16) -> 0 | J16: =Juniori!$I16+I17 -> 78
D17: Revolution | E17: 12362 | F17: 2017 | I17: =SUM(K17:XX17) -> 78 | BQ17: 3 | BW17: 1 | DD17: 5 | DE17: 3 | DI17: 3 | EU17: 8 | HZ17: 9 | IM17: 15 | KM17: 10 | KV17: 10 | MN17: 8 | MO17: 3 | MW17: o
A18: 5 | B18: Popovcová Janka | C18: 5943 | D18: Zembee Aye AMH | E18: 13079 | F18: 2020 | G18: Equinibrium AMH Vlkanová | I18: =SUM(K18:XX18) -> 79 | J18: {=SUM(LARGE(K18:NY19,_xlfn.SEQUENCE(D99)))} -> 76.5 | BL18: 2 | BN18: o | BV18: o | CB18: 2 | EG18: o | EI18: 1 | EQ18: 1 | ES18: o | GS18: 7 | GT18: 4 | HE18: o | HF18: 3 | HW18: 7 | HY18: 10.5 | IL18: o | MK18: 6 | MM18: 2 | MS18: 7 | MU18: 3 | NB18: 4 | NG18: 3 | NH18: 6 | NO18: 9 | NP18: 1.5
D19: Figa Noire AMH | E19: 12445 | F19: 2015 | I19: =SUM(K19:XX19) -> 6.5 | GL19: o | GM19: 2 | KJ19: 1.5 | KK19: o | KS19: 3 | KT19: o
A20: 6 | B20: Grujbarová Viktória Paula | C20: 9570 | D20: Romanova | E20: 13031 | F20: 2009 | G20: Equipro Veľká Lehota | I20: =SUM(K20:XX20) -> 62 | J20: {=SUM(LARGE(K20:NY21,_xlfn.SEQUENCE(D99)))} -> 53 | AU20: o | AW20: 1 | BA20: o | BC20: o | BJ20: 1 | BN20: 6 | BV20: 4 | BW20: o | CV20: 2 | CW20: 3 | EH20: 1 | EI20: 2 | ES20: 2 | ET20: 4 | GS20: 2 | GT20: 1 | HE20: 2 | HF20: 2 | HW20: 1 | HY20: 4.5 | IJ20: 5 | IL20: 4.5 | LD20: 5 | LF20: 5 | MI20: 1 | MM20: o | MP20: 1 | MU20: 2
D21: Max | E21: 13021 | F21: 2009 | I21: =SUM(K21:XX21) -> 0 | EH21: o | ER21: o | KK21: o | KL21: o | MI21: o | MM21: o | MU21: o
A22: 7 | B22: Magdolenová Timea | C22: 10609 | D22: Sissi | G22: Equinibrium AMH Vlkanová | I22: =SUM(K22:XX22) -> 51.5 | J22: =Juniori!$I22 -> 51.5 | BJ22: o | BN22: o | BV22: 2 | BW22: o | EH22: o | ER22: o | ET22: 3 | GS22: o | GT22: 2 | HE22: 5 | HF22: 1 | HW22: 5 | HY22: 7.5 | IL22: 9 | KK22: 6 | KL22: o | KT22: o | KU22: o | MI22: o | MM22: 4 | MU22: o | NJ22: 1 | NK22: 1 | NR22: 4 | NS22: 1
A23: 8 | B23: Froncová Kristína | C23: 10331 | D23: Mr. Muffine | E23: 13045 | G23: JK Scarlett Šamorín | I23: =SUM(K23:XX23) -> 50.5 | J23: {=SUM(LARGE(K23:NY23,_xlfn.SEQUENCE(D99)))} -> 47.5 | BI23: o | BJ23: o | BU23: 1 | BV23: 3 | EE23: 4 | EI23: o | EO23: o | ES23: o | FP23: 3 | FV23: o | HS23: o | HW23: 2 | IF23: 5 | IJ23: 2 | JC23: 3 | JD23: 3 | KJ23: 3 | KK23: o | KS23: 4.5 | KY23: 2 | KZ23: 3 | LU23: 2 | LV23: 2 | MC23: 2 | MD23: 6
A24: 9 | B24: Poláčková Eliška | C24: 9424 | D24: Bewitch | E24: 10208 | F24: 2007 | G24: Equina Sport Team Plav. Podhradie | I24: =SUM(K24:XX24) -> 25 | J24: =Juniori!$I24+I25 -> 31 | CV24: 4 | CW24: 5 | FU24: 1 | FV24: 1 | HY24: 1.5 | IL24: 1.5 | JF24: 3 | JH24: 3 | LD24: 4 | LF24: 1
D25: Winstar | E25: 9679 | F25: 2003 | I25: =SUM(K25:XX25) -> 6 | BV25: 2 | BW25: 1 | FV25: o | HY25: o | IL25: 3
A26: 10 | B26: Richtárechová Salome | C26: 9452 | D26: Nonius XXXVII-1 SK Zachar | E26: 13101 | F26: 2021 | G26: TJ Žrebčín Motešice | I26: =SUM(K26:XX26) -> 18 | J26: =Juniori!$I26+I27 -> 18 | L26: 1 | Q26: o | AR26: 3 | AY26: 7 | GJ26: 5 | JQ26: 1 | JY26: 1
D27: Fairlypi-5 Xirius | E27: 12961 | I27: =SUM(K27:XX27) -> 0
A28: 11 | B28: Valovičová Katarína | C28: 9932 | D28: Sunrise | E28: 9019 | G28: JK Limit Bratislava | I28: =SUM(K28:XX28) -> 0 | J28: =Juniori!$I28+I29+I31+I30 -> 12 | CR28: o | FP28: o | FU28: o
D29: Apolenka | E29: 13333 | F29: 2012 | I29: =SUM(K29:XX29) -> 3 | CR29: o | CT29: o | HI29: o | HL29: 3 | JD29: o | KY29: o
D30: Davos Safira | E30: 13590 | I30: =SUM(K30:XX30) -> 3 | LA30: 1 | LB30: 2
D31: Nanook | E31: 10757 | I31: =SUM(K31:XX31) -> 6 | CV31: o | FP31: o | FU31: o | HI31: 2 | HO31: o | JD31: 2 | KY31: 2
A32: 12 | B32: Líšková Tereza | C32: 8647 | D32: Furioso XXIV-35 SK (Black Fox) | E32: 13398 | F32: 2021 | G32: JK Limit Bratislava | I32: =SUM(K32:XX32) -> 7 | J32: =Juniori!$I32 -> 7 | CT32: o | CV32: o | FR32: o | FS32: 2 | GI32: 1 | GJ32: 1 | GO32: 2 | GW32: 1 | JE32: o | JG32: o | LA32: o | LB32: o
A33: 12 | B33: Baier Laura | C33: 9980 | D33: D'artagnan | E33: 11141 | F33: 2016 | G33: JK Masarykov Dvor | I33: =SUM(K33:XX33) -> 7 | J33: =Juniori!$I33 -> 7 | EH33: o | EM33: 4 | ER33: o | EW33: 3
A34: 12 | B34: Bersihand Soizic | C34: 10151 | D34: Amber Nuance | E34: 9925 | G34: TJ Žrebčín Motešice | I34: =SUM(K34:XX34) -> 7 | J34: =Juniori!$I34 -> 7 | K34: o | M34: o | W34: o | JN34: 5 | JS34: o | LI34: o | LJ34: 2
A35: 15 | B35: Kováčiková Lucia | C35: 8620 | D35: Furioso XLII-21 Sauvignon | E35: 11682 | G35: TJ Žrebčín Motešice | I35: =SUM(K35:XX35) -> 5 | J35: =Juniori!$I35 -> 5 | M35: 2 | Q35: 3 | LN35: o
A36: 15 | B36: Gadomská Dominika | C36: 10796 | D36: Latigo | E36: 12573 | G36: JK Limit Bratislava | I36: =SUM(K36:XX36) -> 0 | J36: =Juniori!$I36+I37 -> 5
D37: Meidlinger's Fantastico | E37: 7860 | F37: 2006 | I37: =SUM(K37:XX37) -> 5 | CT37: 2 | HL37: 1 | JE37: 2 | JF37: o
A38: 17 | B38: Stružová Dominika | C38: 8785 | D38: Chilling Warrior | E38: 12539 | G38: Ranč Ouzkých Bratislava | I38: =SUM(K38:XX38) -> 3 | J38: =Juniori!$I38+I39 -> 3 | CV38: o | FU38: o | HM38: 2 | HN38: 1
D39: Berlina van de Capitol | E39: 8874 | F39: 2008 | I39: =SUM(K39:XX39) -> 0 | CV39: o
A40: 17 | B40: Štefániková Laura | C40: 9918 | D40: Caramel | E40: 13585 | F40: 2013 | G40: Ranč Ouzkých Bratislava | I40: =SUM(K40:XX40) -> 3 | J40: =Juniori!$I40 -> 3 | FP40: o | FS40: 3
A41: 19 | B41: Sláviková Natália | C41: 11247 | D41: Ketah | E41: 5271 | F41: 2000 | G41: TJ Žrebčín Motešice | I41: =SUM(K41:XX41) -> 2 | J41: =Juniori!$I41 -> 2 | JN41: 1 | JO41: 1
A42: 19 | B42: Krajčíková Katarína | D42: Samba Samba Sa | E42: 13235 | F42: 2019 | G42: Harmónia v sedle | I42: =SUM(K42:XX42) -> 2 | J42: =Juniori!$I42 -> 2 | BN42: o | BV42: 2 | CV42: o | CW42: o | FU42: o | FV42: o
...

Sheet Deti
A1: DREZÚRNY REBRÍČEK
A2: Jazdec roka 2026
A4: Deti
A6: Poradie | B6: Jazdec | C6: Licencia SJF | D6: Kôň | E6: Licencia SJF | F6: Rok nar. | G6: Subjekt | I6: Body celkom | J6: Spolu 15 NAJ | K6: =Seniori!K6 -> 06.-08.02. | S6: =Seniori!S6 -> 27.2.-1.3. | AH6: =Seniori!AH6 -> 05.-07.03. | AJ6: =Seniori!AJ6 -> 05.-07.03. | AM6: =Seniori!AM6 -> 21.-22.3. | AO6: =Seniori!AO6 -> 5.4. | AP6: =Seniori!AP6 -> 2.-4.4. | BD6: 11.4. | BI6: =Seniori!BI6 -> 18.-19.4. | CF6: =Seniori!CF6 -> 25.-26.4. | CR6: =Seniori!CR6 -> 1.5. | CY6: =Seniori!CY6 -> 3.5. | DA6: =Seniori!DA6 -> 8.-10.5. | DC6: =Seniori!DC6 -> 9.-10.5. | DK6: 9.-10.5. | EC6: 21.-24.5. | EE6: 23.-24.5. | EY6: 30.-31.5. | FK6: 5.-7.6. | FP6: =Seniori!FP6 -> 13.6. | FY6: =Seniori!FY6 -> 14.6. | GA6: =Seniori!GA6 -> 27.-28.6. | GD6: =Seniori!GD6 -> 26.-28.6. | GI6: =Seniori!GI6 -> 26.-27.6. | HI6: =Seniori!HI6 -> 4.7. | HS6: 11.-12.7. | IQ6: =Seniori!IQ6 -> 15.-19.7. | IS6: =Seniori!IS6 -> 18.7. | IU6: =Seniori!IU6 -> 25.-26.7. | JC6: =Seniori!JC6 -> 31.7. | JL6: =Seniori!JL6 -> 5.-9.8. | JN6: 15.-16.8. | KD6: 22.-23.8. | KG6: 22.-23.8. | KY6: 28.8. | LI6: 28.-29.8. | LU6: 29.-30.8. | MH6: 5.- 6.9. | MX6: 11.-13.9. | NW6: 12.9.
K7: =Seniori!K7 -> Motešice | S7: =Seniori!S7 -> Motešice | AH7: =Seniori!AH7 -> Motešice | AJ7: =Seniori!AJ7 -> Motešice CDI | AM7: =Seniori!AM7 -> Budapešť | AO7: =Seniori!AO7 -> Brno | AP7: =Seniori!AP7 -> Motešice | BD7: Kisbabolna | BI7: =Seniori!BI7 -> Dunajský Klátov | CF7: =Seniori!CF7 -> Těšánky | CR7: =Seniori!CR7 -> Rs Team | CY7: =Seniori!CY7 -> Brno | DA7: =Seniori!DA7 -> Las Cadenas | DC7: =Seniori!DC7 -> Olomouc | DK7: Szilvásvárad | EC7: CDI Olomouc | EE7: Vígľaš | EY7: Těšánky | FK7: CDI Brno | FP7: =Seniori!FP7 -> RS Team | FY7: =Seniori!FY7 -> Chotěbuz | GA7: =Seniori!GA7 -> Šamorín | GD7: =Seniori!GD7 -> Šamorín CDI | GI7: =Seniori!GI7 -> Motešice | HI7: =Seniori!HI7 -> RS Team | HS7: =Seniori!HS7 -> Dunaj. Klátov (MSR deti, juniori, ml. jazdci) | IQ7: =Seniori!IQ7 -> ME Detí Olomouc | IS7: =Seniori!IS7 -> Frenštát p/R | IU7: =Seniori!IU7 -> Szilvasvárad | JC7: =Seniori!JC7 -> RS Team | JL7: =Seniori!JL7 -> MS mladých koní (Verden) | JN7: Motešice | KD7: Panská Lícha | KG7: Pony MSR (Topoľčianky) | KY7: Rs Team | LI7: Motešice | LU7: Vyškov | MH7: Masarykov Dvor | MX7: Topoľčianky MSR YH+Seniori | NW7: Frenštát p/R
K8: =Seniori!K8 -> Z2 | L8: =Seniori!L8 -> 4r | M8: =Seniori!M8 -> DUA | N8: =Seniori!N8 -> DD | O8: =Seniori!O8 -> 4r | P8: =Seniori!P8 -> 5rU | Q8: =Seniori!Q8 -> DUA | R8: =Seniori!R8 -> DD | ... AB8: =Seniori!AB8 -> 4r | AC8: 5rU | AD8: DUA | AE8: DUB | AF8: DD | AG8: DJ | AH8: =Seniori!AH8 -> 4r | AI8: DD | AJ8: =Seniori!AJ8 -> DUB | AK8: =Seniori!AK8 -> DD | AL8: =Seniori!AL8 -> DJ | AM8: =Seniori!AM8 -> IMII | AN8: =Seniori!AN8 -> U25GP | AO8: =Seniori!AO8 -> 5rU | AP8: =Seniori!AP8 -> P1 | AQ8: =Seniori!AQ8 -> P3 | ... AY8: =Seniori!AY8 -> 5rU | AZ8: 6rU | BA8: =Seniori!BA8 -> DUA | BB8: =Seniori!BB8 -> DUB | BC8: =Seniori!BC8 -> DD | BD8: A4 | BE8: DUA | BF8: LM2 | BG8: DD | BH8: MB4 | BI8: =Seniori!BI8 -> P1 | BJ8: =Seniori!BJ8 -> DUA | BK8: =Seniori!BK8 -> 4r | BL8: =Seniori!BL8 -> 5rU | BM8: =Seniori!BM8 -> 6rU | BN8: =Seniori!BN8 -> DD | BO8: =Seniori!BO8 -> LP4 | BP8: =Seniori!BP8 -> LS5 | ... BT8: =Seniori!BT8 -> IMII | BU8: P1 | BV8: DUA | BW8: DD | BX8: JJ | BY8: LP5 | BZ8: LS | CA8: 4r | CB8: 5rF | CC8: YJ | CD8: IMI | CE8: U25 | CF8: =Seniori!CF8 -> 5rU | CG8: =Seniori!CG8 -> JU | CH8: =Seniori!CH8 -> JD | CI8: =Seniori!CI8 -> YU | CJ8: =Seniori!CJ8 -> SG | CK8: =Seniori!CK8 -> IMA | CL8: =Seniori!CL8 -> 5rF | CM8: =Seniori!CM8 -> L0 | ... DJ8: =Seniori!DJ8 -> IMI | DK8: 4U | DL8: MKZ3 | DM8: 5rU | DN8: DUA | DO8: Z3 | DP8: DD | DQ8: LS5 | DR8: SG | DS8: IMI | DT8: 4U | DU8: MKZ4 | DV8: 5rF | DW8: Z4 | DX8: DUA | DY8: DJ | DZ8: L10 | EA8: YJ | EB8: IMI | EC8: 5rU | ED8: 5rF | EE8: P2 | EF8: 4rU | EG8: 5rU | EH8: DUA | EI8: DD | EJ8: JU | EK8: JD | EL8: SG | EM8: LP4 | EN8: IMI | EO8: P3 | EP8: 4rU | EQ8: 5rU | ER8: DUA | ES8: DD | ET8: DJ | EU8: JU | EV8: YJ | EW8: LP4 | EX8: IMI | EY8: DUA | EZ8: L0 | FA8: JU | FB8: JD | FC8: SG | FD8: IMI | FE8: Z4 | FF8: Z5 | FG8: JU | FH8: JD | FI8: SG | FJ8: IMI | FK8: 5rU | FL8: SG | FM8: 5rF | FN8: IMI | FO8: IMIF | FP8: P3 | FQ8: =Seniori!FQ8 -> P1 | FR8: =Seniori!FR8 -> MKZ1 | FS8: =Seniori!FS8 -> Z1 | FT8: =Seniori!FT8 -> Z3 | FU8: =Seniori!FU8 -> DUA | FV8: =Seniori!FV8 -> DD | FW8: =Seniori!FW8 -> LS5 | FX8: =Seniori!FX8 -> S5 | ... LG8: =Seniori!LG8 -> LS6 | LH8: S6 | LI8: =Seniori!LI8 -> Z2 | LJ8: =Seniori!LJ8 -> Z3 | LK8: =Seniori!LK8 -> 5rU | LL8: =Seniori!LL8 -> 6rU | LM8: =Seniori!LM8 -> DUA | LN8: =Seniori!LN8 -> DD | LO8: =Seniori!LO8 -> JU | LP8: =Seniori!LP8 -> SG | ... OC8: =Seniori!OC8 -> 0
A9: 1 | B9: Námešná Ela | C9: 8995 | D9: Don Matteo | E9: 12642 | F9: 2014 | G9: JK Agrocontact Jasová | I9: =SUM(K9:XW9) -> 19 | J9: {=SUM(LARGE(K9:OK11,_xlfn.SEQUENCE(D103)))} -> 137.5 | BI9: 1 | BJ9: o | BV9: o | EE9: o | EH9: o | EO9: o | ER9: o | FP9: o | FT9: 2 | HW9: 4.5 | HX9: 1 | IK9: 6 | KJ9: o | KK9: o | KS9: 1.5 | KT9: o | MI9: o | MM9: 3
D10: Papagayo TC | E10: 13758 | F10: 2020 | I10: =SUM(K10:XW10) -> 164.5 | BK10: 8 | BV10: 6 | CA10: 8 | EF10: 4 | EG10: 8 | EP10: 8 | EQ10: 11 | FR10: 7 | FU10: 4 | HW10: 10.5 | HX10: o | IK10: 3 | KG10: 5 | KH10: 7 | KP10: 7 | KQ10: 9 | MJ10: 5 | MK10: 11 | NG10: 10 | NH10: 15 | NP10: 12 | NR10: 6
D11: Nispuck | E11: 12921 | F11: 2008 | I11: =SUM(K11:XW11) -> 0
A12: 2 | B12: Magál Ján | C12: 8604 | D12: Red Bernadetta | E12: 12310 | G12: TJ Žrebčín Motešice | I12: =SUM(K12:XW12) -> 0 | J12: {=SUM(LARGE(K12:OD18,_xlfn.SEQUENCE(D103)))} -> 108.5
D13: Przedswit XXXIII-12 Xyntia | E13: 12750 | I13: =SUM(K13:XW13) -> 0
D14: Flor D´Accord | E14: 11998 | F14: 2011 | I14: =SUM(K14:XW14) -> 74.5 | N14: 8 | R14: 9 | Z14: 4 | AJ14: 10.5 | AK14: 16.5 | AL14: 16.5 | IQ14: 4 | IR14: 6
D15: Furioso XLII-21 Sauvignon | E15: 11682 | F15: 2018 | I15: =SUM(K15:XW15) -> 24 | N15: 5 | R15: 4 | AF15: 6 | HE15: 5 | HY15: 4
D16: Piaf | E16: 8781 | F16: 2010 | I16: =SUM(K16:XW16) -> 21 | N16: 3 | R16: 6 | AG16: 2 | AW16: 4 | BB16: 3 | HY16: 3
D17: Düval Raeval | E17: 14028 | F17: 2015 | I17: =SUM(K17:XW17) -> 4 | JS17: 1 | KB17: 3
D18: Przedswit XXIX-2 Šafran | E18: 9794 | F18: 2013 | I18: =SUM(K18:XW18) -> 3 | Y18: 3
A19: 3 | B19: Magálová Agátka | C19: 9377 | D19: Dafne Van Dej | E19: 9547 | F19: 2010 | G19: TJ Žrebčín Motešice | I19: =SUM(K19:XW19) -> 0 | J19: {=SUM(LARGE(K19:OJ24,_xlfn.SEQUENCE(D103)))} -> 67
D20: Grafit | F20: 2010 | I20: =SUM(K20:XW20) -> 0
D21: Piaf | E21: 8781 | F21: 2010 | I21: =SUM(K21:XW21) -> 18 | Y21: 4 | AF21: 6 | AI21: 2 | AV21: 2 | BC21: 4
D22: Gidran XX-12/Wonderbra | E22: 11681 | F22: 2018 | I22: =SUM(K22:XW22) -> 48.5 | M22: 3 | Q22: 2 | W22: 3 | AD22: 4 | EH22: 2 | ER22: 1 | GQ22: 3 | GR22: o | HC22: 5 | HW22: 1.5 | HX22: o | IK22: 3 | JH22: o | JS22: 3 | JT22: 3 | KA22: 5 | KB22: 4 | LM22: 2 | LN22: 1 | LT22: 3
D23: Letterfore Tina | E23: 13536 | F23: 2018 | I23: =SUM(K23:XW23) -> 0
D24: Lord | E24: 10506 | F24: 2012 | I24: =SUM(K24:XW24) -> 58 | M24: 2 | Q24: 4 | EE24: 1 | EH24: 1 | EO24: 5 | ER24: 4 | GM24: 3 | GQ24: o | GZ24: 4 | HC24: o | HW24: 1.5 | HX24: o | IJ24: 5 | IK24: 1.5 | JD24: 2 | JH24: 3 | KJ24: 4.5 | KK24: 3 | KS24: 4.5 | LJ24: 3 | LM24: 4 | LT24: 2 | MH24: o | MI24: o | MP24: o
A25: 4 | B25: Meszárosová Alexandra | C25: 9910 | D25: Alexander | E25: 13132 | F25: 2009 | G25: JK Ivanka pri Dunaji | I25: =SUM(K25:XW25) -> 14 | J25: {=SUM(LARGE(K25:OB26,_xlfn.SEQUENCE(D103)))} -> 62.5 | FP25: 1 | GM25: 2 | GQ25: o | GZ25: 1 | HC25: o | HS25: o | HW25: 1.5 | IF25: 3 | IK25: 1.5 | KJ25: o | KL25: 4 | KS25: o
D26: Butterfly | E26: 13919 | F26: 2016 | I26: =SUM(K26:XW26) -> 49.5 | EH26: o | ER26: 4 | FT26: 3 | FU26: 3 | GR26: 6 | HD26: 6 | HW26: 9 | IK26: 10.5 | KK26: 6 | KT26: 2
A27: 5 | B27: Kubušová Kristína | C27: 10275 | D27: Kilian | E27: 12845 | F27: 2018 | G27: JK Limfora Badín | I27: =SUM(K27:XW27) -> 45 | J27: {=SUM(LARGE(K27:ON29,_xlfn.SEQUENCE(D103)))} -> 61 | BI27: 2 | BJ27: o | BU27: 2 | BV27: o | EE27: 3 | EH27: o | EO27: 1 | ER27: o | GR27: 1 | GS27: 4 | GZ27: 2 | HD27: 4 | HW27: 1.5 | HX27: 4 | IK27: 3 | KJ27: 4.5 | KS27: o | MH27: 4 | MI27: 2 | MP27: 3 | MQ27: 4
D28: Whisky Johnie Walker | E28: 12213 | F28: 2012 | I28: =SUM(K28:XW28) -> 0
D29: Sunny Star | E29: 13853 | F29: 2020 | I29: =SUM(K29:XW29) -> 46 | BJ29: 5 | BV29: 2 | EH29: 3 | ER29: o | GQ29: 4 | GR29: 3 | HC29: 3 | HD29: 3 | HW29: 1.5 | HX29: o | IK29: 4.5 | KK29: 4 | KT29: 5 | MI29: 3 | MP29: 5
D30: Angelis Diablo | E30: 12432 | F30: 2011 | I30: =SUM(K30:XW30) -> 43 | BI30: 3 | BJ30: o | BU30: 3 | BV30: o | CR30: 5 | CU30: 4 | FP30: 2 | FU30: o | HC30: o | HD30: o | HI30: 3 | HN30: 2 | JD30: 3 | JH30: 1 | KJ30: 3 | KK30: o | KS30: 3 | KT30: o | KY30: 3 | LD30: 4 | NJ30: 3 | NR30: 1
A31: 6 | B31: Balážová Adéla | C31: 10986 | D31: Letterfore Tina | E31: 13536 | F31: 2018 | I31: =SUM(K31:XW31) -> 5 | J31: {=SUM(LARGE(K31:OP33,_xlfn.SEQUENCE(D103)))} -> 44.5 | M31: o | Q31: 1 | JW31: 3 | KA31: 1
D32: Przedswit XXXVII-2 Zumba | E32: 13103 | F32: 2021 | I32: =SUM(K32:XW32) -> 40.5 | M32: 1 | Q32: o | U32: 3 | W32: 2 | AB32: 3 | AD32: 1 | EF32: 2 | EH32: o | EP32: 4 | ER32: o | HC32: o | JQ32: 5 | JS32: 2 | KA32: 2 | NG32: 4.5 | NJ32: 1 | NO32: 9 | NR32: 1
D33: Lord | E33: 10506 | F33: 2012 | I33: =SUM(K33:XW33) -> 3 | W33: 1 | AD33: 2
A34: 7 | B34: Slobodník Jakub | C34: 9607 | D34: Aston | E34: 10406 | F34: 2007 | G34: Harmónia v sedle | I34: =SUM(K34:XW34) -> 0 | J34: {=SUM(LARGE(K30:ON30,_xlfn.SEQUENCE(D103)))} -> 43
A35: 8 | B35: Frõhlichová Jana | C35: 9725 | D35: Jantar | E35: 10202 | F35: 2014 | G35: Harmónia v sedle | I35: =SUM(K35:XW35) -> 42 | J35: {=SUM(LARGE(K35:ON35,_xlfn.SEQUENCE(D103)))} -> 40 | CU35: 2 | CV35: 5 | FT35: 1 | FU35: o | GQ35: 2 | GR35: o | HM35: 3 | HN35: 3 | HW35: 1.5 | HX35: 3 | IJ35: 4 | IK35: 1.5 | JF35: 3 | JH35: 2 | KK35: o | KT35: 1 | LC35: 3 | LD35: 2 | NJ35: 2 | NR35: 3
A36: 9 | B36: Masarik Mathias | C36: 10030 | D36: Furioso XXV-43 Romajka | E36: 13102 | F36: 2011 | G36: TJ Žrebčín Motešice | I36: =SUM(K36:XW36) -> 29.5 | J36: {=SUM(LARGE(K36:ON36,_xlfn.SEQUENCE(D103)))} -> 28.5 | M36: o | Q36: o | AD36: o | AU36: 2 | BA36: o | FZ36: 2 | GP36: o | GQ36: 1 | HC36: 1 | HW36: 3 | HX36: o | IJ36: 3 | IK36: 1.5 | IS36: 2 | IT36: 2 | JN36: 2 | JO36: 2 | KA36: o | KD36: 1 | KF36: 3 | LI36: o | LM36: o | LT36: 1 | NW36: 2 | NX36: 1
A37: 10 | B37: Ouzká Laura | C37: 10820 | D37: Tom | E37: 12298 | G37: Ranč Ouzkých Bratislava | I37: =SUM(K37:XW37) -> 16 | J37: =Deti!$I37+I38 -> 19 | CR37: 2 | CS37: 3 | FP37: o | FQ37: 2 | JC37: 3 | JD37: 1 | KY37: 2 | KZ37: 3
D38: Casper | E38: 13277 | F38: 2015 | I38: =SUM(K38:XW38) -> 3 | CR38: o | CS38: 1 | FP38: o | FQ38: o | JC38: 2 | JD38: o
A39: 11 | B39: Gasparovicsová Linda | C39: 11235 | D39: Marvel | E39: 13887 | F39: 2021 | G39: JK Czajlik Ranch Dunajský Klátov | I39: =SUM(K39:XW39) -> 14 | J39: =Deti!$I39 -> 14 | GA39: 2 | GB39: 3 | KG39: 4 | KK39: o | KP39: 5
A40: 12 | B40: Beregi Alica | C40: 10916 | D40: Samba Girl II | E40: 12650 | F40: 2009 | G40: JK Agropartner Plavecké Podhradie | I40: =SUM(K40:XW40) -> 10 | J40: =Deti!$I40 -> 10 | CS40: 2 | CT40: 3 | HJ40: 1 | HL40: 2 | IE40: o | IF40: 2
A41: 13 | B41: Králiková Michaela | C41: 10229 | D41: Prince Cherry Orchard | E41: 11871 | G41: JK Masarykov Dvor | I41: =SUM(K41:XW41) -> 9 | J41: =Deti!$I41 -> 9 | EE41: 2 | EO41: 2 | MH41: 2 | MI41: 1 | MP41: o | MQ41: 2
A42: 14 | B42: Zuskin Nela Sophie | C42: 11388 | D42: José Armando | E42: 7597 | F42: 2006 | G42: JK Limit Bratislava | I42: =SUM(K42:XW42) -> 7 | J42: =Deti!$I42+I43 -> 7 | CR42: o | CS42: o | FP42: o | FQ42: 3 | HI42: o | HJ42: 2 | JC42: 1 | JD42: o | KY42: o | KZ42: 1
...

Sheet Kôň roka
A1: DREZÚRNY REBRÍČEK
A2: Kôň roka
A4: 2026
K7: =Seniori!K6 -> 06.-08.02. | S7: =Seniori!S6 -> 27.2.-1.3. | AH7: =Seniori!AH6 -> 05.-07.03. | AJ7: =Seniori!AJ6 -> 05.-07.03. | AM7: =Seniori!AM6 -> 21.-22.3. | AO7: 5.4. | AP7: =Seniori!AP6 -> 2.-4.4. | BD7: 11.4. | BI7: =Seniori!BI6 -> 18.-19.4. | CF7: =Seniori!CF6 -> 25.-26.4. | CR7: =Seniori!CR6 -> 1.5. | CY7: =Seniori!CY6 -> 3.5. | DA7: =Seniori!DA6 -> 8.-10.5. | DC7: =Seniori!DC6 -> 9.-10.5. | DK7: 9.-10.5. | EC7: 21.-24.5. | EE7: 23.-24.5. | EY7: 30.-31.5. | FK7: 5.-7.6. | FP7: =Seniori!FP6 -> 13.6. | FY7: =Seniori!FY6 -> 14.6. | GA7: 27.-28.6. | GD7: 26.-28.6. | GI7: 26.-27.6. | HI7: =Seniori!HI6 -> 4.7. | HS7: 11.-12.7. | IQ7: =Seniori!IQ6 -> 15.-19.7. | IS7: =Seniori!IS6 -> 18.7. | IU7: =Seniori!IU6 -> 25.-26.7. | JC7: =Seniori!JC6 -> 31.7. | JL7: =Seniori!JL6 -> 5.-9.8. | JN7: 15.-16.8. | KD7: 22.-23.8. | KG7: 22.-23.8. | KY7: 28.8. | LI7: 28.-29.8. | LU7: 29.-30.8. | MH7: 5.- 6.9. | MX7: 11.-13.9. | NW7: 12.9.
A8: Poradie | B8: Kôň | C8: Licencia SJF | D8: Rok nar. | E8: Jazdec | F8: Licencia SJF | G8: Kategória | H8: Subjekt | J8: Spolu 15 NAJ | K8: =Seniori!K7 -> Motešice | S8: =Seniori!S7 -> Motešice | AH8: =Seniori!AH7 -> Motešice | AJ8: =Seniori!AJ7 -> Motešice CDI | AM8: =Seniori!AM7 -> Budapešť | AO8: Brno | AP8: =Seniori!AP7 -> Motešice | BD8: Kisbabolna | BI8: =Seniori!BI7 -> Dunajský Klátov | CF8: =Seniori!CF7 -> Těšánky | CR8: =Seniori!CR7 -> Rs Team | CY8: =Seniori!CY7 -> Brno | DA8: =Seniori!DA7 -> Las Cadenas | DC8: =Seniori!DC7 -> Olomouc | DK8: Szilvásvárad | EC8: CDI Olomouc | EE8: Vígľaš | EY8: Těšánky | FK8: CDI Brno | FP8: =Seniori!FP7 -> RS Team | FY8: =Seniori!FY7 -> Chotěbuz | GA8: Šamorín | GD8: Šamorín | GI8: Motešice | HI8: =Seniori!HI7 -> RS Team | HS8: =Seniori!HS7 -> Dunaj. Klátov (MSR deti, juniori, ml. jazdci) | IQ8: =Seniori!IQ7 -> ME Detí Olomouc | IS8: =Seniori!IS7 -> Frenštát p/R | IU8: =Seniori!IU7 -> Szilvasvárad | JC8: =Seniori!JC7 -> RS Team | JL8: =Seniori!JL7 -> MS mladých koní (Verden) | JN8: Motešice | KD8: Panská Lícha | KG8: Pony MSR (Topolčianky) | KY8: Rs Team | LI8: Motešice | LU8: Vyškov | MH8: Masarykov Dvor | MX8: Topoľčianky MSR YH+Seniori | NW8: Frenštát p/R
K9: =Seniori!K8 -> Z2 | L9: =Seniori!L8 -> 4r | M9: =Seniori!M8 -> DUA | N9: =Seniori!N8 -> DD | O9: =Seniori!O8 -> 4r | P9: =Seniori!P8 -> 5rU | Q9: =Seniori!Q8 -> DUA | R9: =Seniori!R8 -> DD | ... AA9: =Seniori!AA8 -> P3 | AB9: 4r | AC9: 5rU | AD9: DUA | AE9: DUB | AF9: DD | AG9: =Seniori!AG8 -> DJ | AH9: =Seniori!AH8 -> 4r | AI9: DD | AJ9: =Seniori!AJ8 -> DUB | AK9: =Seniori!AK8 -> DD | AL9: =Seniori!AL8 -> DJ | AM9: =Seniori!AM8 -> IMII | AN9: =Seniori!AN8 -> U25GP | AO9: 5rU | AP9: =Seniori!AP8 -> P1 | AQ9: =Seniori!AQ8 -> P3 | AR9: =Seniori!AR8 -> 4r | AS9: =Seniori!AS8 -> 5rU | AT9: 6rU | AU9: =Seniori!AU8 -> DUA | AV9: =Seniori!BB8 -> DUB | AW9: =Seniori!BC8 -> DD | AX9: =Seniori!AX8 -> 4r | AY9: =Seniori!AY8 -> 5rU | AZ9: 6rU | BA9: =Seniori!BA8 -> DUA | BB9: =Seniori!BB8 -> DUB | BC9: =Seniori!BC8 -> DD | BD9: A4 | BE9: DUA | BF9: LM2 | BG9: DD | BH9: MB4 | BI9: =Seniori!BI8 -> P1 | BJ9: =Seniori!BJ8 -> DUA | BK9: =Seniori!BK8 -> 4r | BL9: =Seniori!BL8 -> 5rU | BM9: =Seniori!BM8 -> 6rU | BN9: =Seniori!BN8 -> DD | BO9: =Seniori!BO8 -> LP4 | BP9: =Seniori!BP8 -> LS5 | ... BT9: =Seniori!BT8 -> IMII | BU9: P1 | BV9: DUA | BW9: DD | BX9: JJ | BY9: LP5 | BZ9: LS | CA9: 4r | CB9: 5rF | CC9: YJ | CD9: IMI | CE9: U25 | CF9: =Seniori!CF8 -> 5rU | CG9: =Seniori!CG8 -> JU | CH9: =Seniori!CH8 -> JD | CI9: =Seniori!CI8 -> YU | CJ9: =Seniori!CJ8 -> SG | CK9: =Seniori!CK8 -> IMA | CL9: =Seniori!CL8 -> 5rF | CM9: =Seniori!CM8 -> L0 | ... DJ9: =Seniori!DJ8 -> IMI | DK9: 4U | DL9: MKZ3 | DM9: 5rU | DN9: DUA | DO9: Z3 | DP9: DD | DQ9: LS5 | DR9: SG | DS9: IMI | DT9: 4U | DU9: MKZ4 | DV9: 5rF | DW9: Z4 | DX9: DUA | DY9: DJ | DZ9: L10 | EA9: YJ | EB9: IMI | EC9: 5rU | ED9: 5rF | EE9: P2 | EF9: 4rU | EG9: 5rU | EH9: DUA | EI9: DD | EJ9: JU | EK9: JD | EL9: SG | EM9: LP4 | EN9: IMI | EO9: P3 | EP9: 4rU | EQ9: 5rU | ER9: DUA | ES9: DD | ET9: DJ | EU9: JU | EV9: YJ | EW9: LP4 | EX9: IMI | EY9: DUA | EZ9: L0 | FA9: JU | FB9: JD | FC9: SG | FD9: IMI | FE9: Z4 | FF9: Z5 | FG9: JU | FH9: JD | FI9: SG | FJ9: IMI | FK9: 5rU | FL9: SG | FM9: 5rF | FN9: IMI | FO9: IMIF | FP9: =Seniori!FP8 -> P3 | FQ9: =Seniori!FQ8 -> P1 | FR9: =Seniori!FR8 -> MKZ1 | FS9: =Seniori!FS8 -> Z1 | FT9: =Seniori!FT8 -> Z3 | FU9: =Seniori!FU8 -> DUA | FV9: =Seniori!FV8 -> DD | FW9: =Seniori!FW8 -> LS5 | ... FZ9: =Seniori!FZ8 -> DUA | GA9: 4r | GB9: 4r | GC9: IMB | GD9: 5rU | GE9: 7rU | GF9: SG | GG9: 5rF | GH9: IMI | GI9: =Seniori!GI8 -> 4r | GJ9: =Seniori!GJ8 -> 5rU | GK9: =Seniori!GK8 -> 6rU | GL9: =Seniori!GL8 -> P1 | GM9: =Seniori!GM8 -> P3 | GN9: =Seniori!GN8 -> Z2 | GO9: =Seniori!GO8 -> Z3 | GP9: =Seniori!GP8 -> Z4 | ... LG9: =Seniori!LG8 -> LS6 | LH9: S6 | LI9: =Seniori!LI8 -> Z2 | LJ9: =Seniori!LJ8 -> Z3 | LK9: =Seniori!LK8 -> 5rU | LL9: =Seniori!LL8 -> 6rU | LM9: =Seniori!LM8 -> DUA | LN9: =Seniori!LN8 -> DD | LO9: =Seniori!LO8 -> JU | LP9: =Seniori!LP8 -> SG | ... OE9: =Seniori!OE8 -> 0
A10: 1 | B10: Grevens Everdream | C10: 11237 | D10: 2015 | E10: Gombarčíková Tatiana | F10: 5599 | G10: S | H10: JK Kubiš Trnava | I10: =SUM(K10:XX10) -> 333 | J10: {=SUM(LARGE(K10:PC10,_xlfn.SEQUENCE(D264)))} -> 328 | CK10: 21 | CQ10: 17 | DG10: 11 | DJ10: 17 | FC10: 18 | FJ10: 23 | FL10: 22.5 | FN10: 27 | FO10: 34.5 | GC10: 19 | GF10: 19.5 | GH10: 30 | ID10: 10 | IP10: 5 | NM10: 24 | NV10: 34.5
A11: 2 | B11: Bonnami | C11: 10267 | D11: 2014 | E11: Flaková Kristína | F11: 2366 | G11: S | H11: JK pri NŽ Topoľčianky | I11: =SUM(K11:XX11) -> 253 | J11: ='Kôň roka'!$I11 -> 253 | BR11: 17 | BS11: 20 | CD11: 19 | DR11: 13 | DS11: 17 | EB11: 18 | EL11: 17 | EN11: 19 | EX11: 18 | IB11: 17 | IC11: 20 | IO11: 20 | KO11: 21 | KX11: 17
A12: 3 | B12: Dancing Scarlett | C12: 11490 | D12: 2017 | E12: Záhorská Silvia | F12: 1742 | G12: S | H12: JK Scarlett Šamorín | I12: =SUM(K12:XX12) -> 352.5 | J12: {=SUM(LARGE(K12:PC12,_xlfn.SEQUENCE(D264)))} -> 243.5 | BR12: 3 | BS12: 14 | CD12: 15 | CI12: 13 | CJ12: 12 | CO12: 16 | CP12: 14 | EN12: 12 | EV12: 14 | EX12: 16 | FC12: 12 | FD12: 13 | FI12: 7 | FJ12: 16 | IB12: 11 | IC12: 17 | IN12: 16 | IO12: 16 | KN12: 13 | KO12: 17 | KW12: 13 | KX12: 15 | NE12: 17 | NM12: 15 | NV12: 25.5
A13: 4 | B13: Raheeli Marbella | C13: 13491 | D13: 2021 | E13: Gombarčíková Tatiana | F13: 5599 | G13: S | H13: JK Kubiš Trnava | I13: =SUM(K13:XX13) -> 214.5 | J13: ='Kôň roka'!$I13 -> 214.5 | AO13: 11 | CF13: 13 | CL13: 10 | DC13: 13 | DH13: 13 | EC13: 9 | ED13: 9 | FK13: 16.5 | FM13: 19.5 | GD13: 19.5 | GG13: 18 | JL13: 12 | JM13: 12 | NG13: 19.5 | NO13: 19.5
A14: 5 | B14: Forever | C14: 9070 | D14: 2011 | E14: Horná Michaela | F14: 2965 | G14: S | H14: JK pri NŽ Topoľčianky | I14: =SUM(K14:XX14) -> 223 | J14: {=SUM(LARGE(K14:ON14,_xlfn.SEQUENCE(D264)))} -> 214 | BR14: 16 | BS14: 17 | CC14: 16 | CD14: 16 | DR14: 9 | DS14: 14 | EA14: 9 | EB14: 13 | EL14: 15 | EN14: 13 | EV14: 16 | EX14: 17 | IB14: 13 | IC14: 14 | IN14: 13 | IO14: 12
A15: 6 | B15: Siglavy XV-2 | C15: 9449 | D15: 2011 | E15: Kintšer David | F15: 2372 | G15: S | H15: JK pri NŽ Topoľčianky | I15: =SUM(K15:XX15) -> 229.5 | J15: {=SUM(LARGE(K15:OP15,_xlfn.SEQUENCE(D264)))} -> 193.5 | BR15: 8 | BS15: 10 | CC15: 8 | CD15: 10 | EL15: 12 | EN15: 14 | EV15: 11 | EX15: 12 | IB15: 9 | IC15: 7 | IN15: 12 | IO15: 14 | KN15: 11 | KW15: 12 | KX15: 12 | ND15: 12 | NE15: 14 | NM15: 16.5 | NU15: 4 | NV15: 21
A16: 7 | B16: Dancing Boy | C16: 12984 | D16: 2019 | E16: Porkertová Linda | F16: 9241 | G16: J | H16: JK Josy Team Trnava | I16: =SUM(K16:XX16) -> 185.5 | J16: {=SUM(LARGE(K16:OJ16,_xlfn.SEQUENCE(D264)))} -> 147.5 | EJ16: 11 | EK16: 5 | EU16: 11 | GU16: 5 | GV16: 5 | HG16: 5 | HH16: 5 | HZ16: 3 | IA16: 11 | IM16: 4 | JR16: 6 | JU16: 6 | JZ16: 7 | KC16: 6 | KI16: 8 | KM16: 8 | KV16: 12 | ML16: 8 | MO16: 6 | MT16: 9 | MZ16: 7 | NH16: 22.5 | NQ16: 15
A17: 8 | B17: Chassia | C17: 13159 | D17: 2020 | E17: Nittnaus Martina | F17: 135 | G17: S | H17: JK pri NŽ Topoľčianky | I17: =SUM(K17:XX17) -> 146.5 | J17: {=SUM(LARGE(K17:OJ17,_xlfn.SEQUENCE(D264)))} -> 133.5 | BK17: 2 | BL17: 4 | CA17: 4 | DK17: 1 | DM17: 6 | DT17: 9 | DV17: 6 | EF17: 6 | EG17: 9 | EP17: 7 | EQ17: 12 | HT17: 2 | HU17: 4 | IG17: 7 | IH17: 10 | KH17: 8 | KQ17: 8 | MY17: 10 | NH17: 15 | NP17: 16.5
A18: 9 | B18: Rocky Rebel | C18: 11990 | D18: 2016 | E18: Hunová Diana | F18: 7853 | G18: J | H18: JK Scarlett Šamorín | I18: =SUM(K18:XX18) -> 131.5 | J18: {=SUM(LARGE(K18:OJ18,_xlfn.SEQUENCE(D264)))} -> 119.5 | BO18: 6 | BQ18: 7 | BX18: 8 | BY18: 10 | CH18: 2 | CM18: 10 | CN18: 9 | EJ18: 8 | EK18: 2 | EU18: 6 | EW18: 7 | FV18: 4 | FX18: 2 | HZ18: 15 | IA18: 5 | IM18: 10.5 | LZ18: 6 | MA18: 5 | ME18: 2 | MF18: 7
A19: 10 | B19: Prada Van Weizicht | C19: 12609 | D19: 2020 | E19: Hunová Diana | F19: 7853 | G19: J | H19: JK Scarlett Šamorín | I19: =SUM(K19:XX19) -> 122.5 | J19: {=SUM(LARGE(K19:PC19,_xlfn.SEQUENCE(D264)))} -> 118.5 | BK19: 2 | BL19: 3 | CA19: 4 | CB19: 6 | EY19: 6 | EZ19: 2 | FE19: 9 | FF19: 9 | KH19: 5 | KL19: 4 | KP19: 4 | KQ19: 12 | MY19: 11 | NG19: 5 | NH19: 16.5 | NO19: 12 | NP19: 12
A20: 11 | B20: Papagayo TC | C20: 13758 | D20: 2020 | E20: Námešná Ela | F20: 8995 | G20: D | H20: JK Agrocontact Jasová | I20: =SUM(K20:XX20) -> 135 | J20: {=SUM(LARGE(K20:PC20,_xlfn.SEQUENCE(D264)))} -> 115 | BK20: 8 | BV20: 4 | CA20: 8 | EF20: 2 | EG20: 4 | EP20: 8 | EQ20: 10 | FR20: 7 | FU20: 4 | HW20: 10.5 | IK20: 3 | KG20: 3 | KH20: 4 | KP20: 7 | KQ20: 6 | MJ20: 5 | MK20: 11 | NG20: 8 | NH20: 10.5 | NP20: 6 | NR20: 6
A21: 12 | B21: Ariston ER | C21: 9051 | D21: 2010 | E21: Kuhajda Milan | F21: 4920 | G21: S | H21: JK Jurský Dvor Nitra | I21: =SUM(K21:XX21) -> 110.5 | J21: ='Kôň roka'!$I21 -> 110.5 | DF21: 12 | DJ21: 13 | EX21: 19 | KN21: 14 | NM21: 22.5 | NV21: 30
A22: 13 | B22: Catalin XVI-1 Zonor | C22: 13100 | D22: 2021 | E22: Richterová Lenka | G22: Y | H22: Equiteam Most pri Bratislave | I22: =SUM(K22:XX22) -> 0 | J22: {=SUM(LARGE(K22:OJ24,_xlfn.SEQUENCE(D264)))} -> 103
E23: Petranová Sofia Laura | F23: 6761 | G23: Y | H23: TJ Žrebčín Motešice | I23: =SUM(K23:XX23) -> 65 | GI23: 6 | GJ23: 8 | GW23: 4 | GX23: 4 | HT23: 5 | HU23: 8 | IG23: 5 | IH23: 7 | JG23: 4 | JP23: 5 | JQ23: 6 | JX23: 3
E24: Eržinová Stella | F24: 8401 | G24: J | H24: TJ Žrebčín Motešice | I24: =SUM(K24:XX24) -> 71 | L24: 5 | P24: 4 | V24: 5 | AC24: 4 | AS24: 2 | AY24: 13 | LK24: 5 | LR24: 3 | MK24: 8 | MS24: 10 | NG24: 6 | NO24: 6
A25: 14 | B25: Bella Grande | C25: 13488 | D25: 2021 | E25: Horná Michaela | F25: 2965 | G25: S | H25: JK pri NŽ Topoľčianky | I25: =SUM(K25:XX25) -> 121.5 | J25: {=SUM(LARGE(K25:OJ25,_xlfn.SEQUENCE(D264)))} -> 101.5 | BK25: 5 | CA25: 6 | DK25: 5 | DL25: 2 | DT25: 2 | DU25: 1 | EF25: 4 | EG25: 8 | EP25: 6 | EQ25: 8 | HT25: 2 | HU25: 5 | IG25: 4 | IH25: 6 | KG25: 2 | KH25: 2 | KP25: 2 | KQ25: 7 | MX25: 9 | MY25: 8 | NG25: 13.5 | NH25: 5 | NO25: 6 | NP25: 3
A26: 15 | B26: Topas Imperial | C26: 14005 | D26: 2021 | E26: Hunová Diana | G26: J | H26: JK Scarlett Šamorín | I26: =SUM(K26:XX26) -> 99.5 | J26: {=SUM(LARGE(K26:OJ26,_xlfn.SEQUENCE(D264)))} -> 99.5 | BJ26: =Seniori!BJ92 -> 0 | JF26: 4 | JG26: 6 | KG26: 7 | KH26: 7 | KP26: 5 | KT26: 6 | LU26: 4 | LW26: 3 | MB26: 8 | ME26: 5 | MX26: 10 | MY26: 7 | NF26: 8 | NG26: 7.5 | NN26: 12
A27: 16 | B27: Libel Van De Leenakker | C27: 11921 | E27: Jašeková Diana | F27: 9423 | G27: J | H27: JK Limfora Badín | I27: =SUM(K27:XX27) -> 94 | J27: {=SUM(LARGE(K27:OJ27,_xlfn.SEQUENCE(D264)))} -> 93 | BF27: 3 | BN27: 2 | BP27: 5 | BZ27: 7 | DP27: 6 | DQ27: 8 | DY27: 6 | HY27: 6 | IW27: 8 | IX27: 10 | JA27: 6 | JB27: 9 | MM27: 1 | MU27: 4 | NK27: 6 | NS27: 7
A28: 17 | B28: Santos | C28: 13626 | D28: 2022 | E28: Šteflovičová Sylvia | F28: 2362 | G28: S | H28: JK Josy Team Trnava | I28: =SUM(K28:XX28) -> 92 | J28: ='Kôň roka'!$I28 -> 92 | U28: 8 | GI28: 10 | GW28: 5 | HT28: 4 | IG28: 5 | KG28: 6 | KP28: 8 | MJ28: 5 | MR28: 6 | MX28: 11 | NF28: 12 | NN28: 12
A29: 18 | B29: Furioso L-34 Némés | C29: 10993 | D29: 2016 | E29: Pestunová Alica | F29: 9008 | G29: J | H29: Harmónia v sedle | I29: =SUM(K29:XX29) -> 91.5 | J29: ='Kôň roka'!$I29 -> 91.5 | BP29: 4 | BQ29: 6 | BX29: 9 | BZ29: 10 | FV29: 5 | FW29: 7 | HZ29: 18 | IA29: 9 | IM29: 13.5 | KM29: 5 | KV29: 5
A30: 19 | B30: Pastorale | C30: 12611 | D30: 2020 | E30: Záhorská Silvia | F30: 1742 | G30: S | H30: JK Scarlett Šamorín | I30: =SUM(K30:XX30) -> 102 | J30: {=SUM(LARGE(K30:PC30,_xlfn.SEQUENCE(D264)))} -> 90 | BK30: 3 | BL30: 4 | CA30: 3 | CB30: 4 | EG30: 5 | EI30: 6 | EQ30: 6 | ES30: 4 | FW30: 2 | KH30: 1 | KQ30: 3 | KU30: 6 | LX30: 7 | LY30: 3 | ME30: 8 | MF30: 7 | MY30: 5 | NG30: 7 | NH30: 7.5 | NP30: 10.5
